{"text_format":"1","workbook":"xlsx","n_sheets":11,"sheets":["MENU","Datos","TABLAS","PPoR_1001","PP002","PP016","PP017","PP018","PP024","PP131","OTRAS ACTIVIDADES"],"not_rendered":{"charts":0,"images":32,"macros":1,"external_links":0,"defined_names":6,"comments":0,"pivot_tables":13},"unopened":[],"bounds":{"document_bytes":16777216,"sheet_cells":100000,"rows_first":2000,"rows_last":500,"rows_between":2000,"halvings":0,"cell_chars":16384,"cell_head_chars":4096},"cells_cut":0,"cells_raw":0,"read":"whole","date_system":"1900"}

{"sheet":"MENU","index":0,"n_rows":30,"n_cols":18,"rows_kept":30,"cut":false,"hidden":false,"merged":[[28,7,29,10],[26,7,27,10]]}
[]
[]
[]
[null,null,null,null,null,null,null,null,null,null,null,{"$f":"+TABLAS!A95","v":"1-2-3-T--------"}]
[null,null,null,null,null,null,null,null,null,null,null,{"$f":"+TABLAS!A129","v":"1-2-3-T--------"}]
[null,null,null,null,null,null,null,null,null,null,null,{"$f":"+TABLAS!A163","v":"1-2-3-T--------"}]
[null,null,null,null,null,null,null,null,null,null,null,{"$f":"+TABLAS!A198","v":"1-2-3-T--------"}]
[null,null,null,null,null,null,null,null,null,null,null,{"$f":"+TABLAS!A233","v":"1-2-3-T--------"}]
[null,null,null,null,null,null,null,null,null,null,null,{"$f":"+TABLAS!A268","v":"1-2-3-T--------"}]
[null,null,null,null,null,null,null,null,null,null,null,{"$f":"+TABLAS!A298","v":"1-2-3-T--------"}]
[null,null,null,null,null,null,null,null,null,null,null,{"$f":"+TABLAS!A328","v":"1-2-3-T--------"}]
[null,null,null,null,null,null,null,null,null,null,null,{"$f":"+TABLAS!A358","v":"1-2-3-T--------"}]
[null,null,null,null,null,null,null,null,null,null,null,{"$f":"+TABLAS!A389","v":"1-2-3-T--------"}]
[null,null,null,null,null,null,null,null,null,null,null,{"$f":"+TABLAS!A419","v":"1-2-3-T--------"},null,null,null,null,null,"-"]
[null,null,null,null,null,null,null,null,null,null,null,{"$f":"+TABLAS!A450","v":"1-2-3-T--------"}]
[null,null,null,null,null,null,null,null,null,null,null,{"$f":"+TABLAS!A480","v":"1-2-3-T--------"}]
[]
[]
[]
[]
[]
[]
[]
[]
[]
[]
[null,null,null,null,null,null,null,"CONTROL DE MESES"]
[]
[null,null,null,null,null,null,null,{"$f":"+TABLAS!A95","v":"1-2-3-T--------"}]
[null,null,{"$f":"+PPoR_1001!H15","v":"__ENE_MAR_2025"}]

{"sheet":"Datos","index":1,"n_rows":454,"n_cols":32,"rows_kept":454,"cut":false,"hidden":true,"merged":[]}
[]
[]
[]
[]
[]
[]
[]
[]
[null,"ANO",null,"MESES",null,"COD_RED","DESC_RED","CONCATENAR",null,"COD_RED","COD_MIC","DESC_MICRO","CONCATENAR",null,"COD_ESTAB","DESC_ESTAB","COD_RED","COD_MIC","COD_PROV","COD_DIST","REDMIC","CONCATENAR",null,"COD_PROV","DESC_PROV","CONCATENAR",null,"COD_PROV","COD_DIST","DESC_DIST","PROVDIST","CONCATENAR"]
[null,2025,null,"01-Enero",null,"00","NO TIENE ASIGNADO NINGUNA RED",{"$f":"CONCATENATE(F10,\" - \",G10)","v":"00 - NO TIENE ASIGNADO NINGUNA RED"},null,"00","00","NO PERTENECE A NINGUNA MICRORED                                                                     ",{"$f":"CONCATENATE(J10,K10,\" - \",L10)","v":"0000 - NO PERTENECE A NINGUNA MICRORED                                                                     "},null,"000000000","(All)","00","00",null,null,{"$f":"CONCATENATE(Q10,R10)","v":"0000"},{"$f":"CONCATENATE(O10,\" - \",P10)","v":"000000000 - (All)"},null,"00","(All)",{"$f":"CONCATENATE(X10,\" - \",Y10)","v":"00 - (All)"},null,"01","00","(All)",{"$f":"CONCATENATE(AB10,AC10)","v":"0100"},{"$f":"CONCATENATE(AB10,AC10,\" - \",AD10)","v":"0100 - (All)"}]
[null,null,null,"02-Febrero",null,"01","CUSCO SUR",{"$f":"CONCATENATE(F11,\" - \",G11)","v":"01 - CUSCO SUR"},null,"00","99","(All)","0099 - (All)",1,"000002289","HOSPITAL DE APOYO DEPARTAMENTAL CUSCO","00","00","01","01",{"$f":"CONCATENATE(Q11,R11)","v":"0000"},{"$f":"CONCATENATE(O11,\" - \",P11)","v":"000002289 - HOSPITAL DE APOYO DEPARTAMENTAL CUSCO"},null,"01","CUSCO",{"$f":"CONCATENATE(X11,\" - \",Y11)","v":"01 - CUSCO"},null,"01","01","CUSCO",{"$f":"CONCATENATE(AB11,AC11)","v":"0101"},{"$f":"CONCATENATE(AB11,AC11,\" - \",AD11)","v":"0101 - CUSCO"}]
[null,null,null,"03-Marzo",null,"02","CUSCO NORTE","02 - CUSCO NORTE",null,"01","00","NO PERTENECE A NINGUNA MICRORED                                                                     ","0100 - NO PERTENECE A NINGUNA MICRORED                                                                     ",{"$f":"+N11+1","v":2},"000002305","ANTONIO LORENA DEL CUSCO","00","00","01","06","0000","000002305 - ANTONIO LORENA DEL CUSCO",null,"02","ACOMAYO",{"$f":"CONCATENATE(X12,\" - \",Y12)","v":"02 - ACOMAYO"},null,"01","02","CCORCA","0102","0102 - CCORCA"]
[null,null,null,"04-Abril",null,"03","LA CONVENCION","03 - LA CONVENCION",null,"01","16","CUSCO                                                                                               ","0116 - CUSCO                                                                                               ",{"$f":"+N12+1","v":3},"999999999","(All)","00","99",null,null,"0099","999999999 - (All)",null,"03","ANTA","03 - ANTA",null,"01","03","POROY","0103","0103 - POROY"]
[null,null,null,"05-Mayo",null,"04","CANAS-CANCHIS-ESPINAR","04 - CANAS-CANCHIS-ESPINAR",null,"01","03","PARURO                                                                                              ","0103 - PARURO                                                                                              ",null,"000025210","TUPAC AMARU","01","00","01","05","0100","000025210 - TUPAC AMARU",null,"04","CALCA","04 - CALCA",null,"01","04","SAN JERONIMO","0104","0104 - SAN JERONIMO"]
[null,null,null,"06-Junio",null,"05","KIMBIRI PICHARI","05 - KIMBIRI PICHARI",null,"01","06","PAUCARTAMBO                                                                                         ","0106 - PAUCARTAMBO                                                                                         ",{"$f":"+N13+1","v":4},"000000000","(All)","01","03",null,null,"0103","000000000 - (All)",null,"05","CANAS","05 - CANAS",null,"01","05","SAN SEBASTIAN","0105","0105 - SAN SEBASTIAN"]
[null,null,null,"07-Julio",null,"06","CHUMBIVILCAS","06 - CHUMBIVILCAS",null,"01","12","URCOS                                                                                               ","0112 - URCOS                                                                                               ",null,"000002499","PARURO","01","03","10","01","0103","000002499 - PARURO",null,"06","CANCHIS","06 - CANCHIS",null,"01","06","SANTIAGO","0106","0106 - SANTIAGO"]
[null,null,null,"08-Agosto",null,"99","(All)","99 - (All)",null,"01","13","ACOMAYO                                                                                             ","0113 - ACOMAYO                                                                                             ",{"$f":"+N15+1","v":5},"000002500","ACCHA","01","03","10","02","0103","000002500 - ACCHA",null,"07","CHUMBIVILCAS","07 - CHUMBIVILCAS",null,"01","07","SAYLLA","0107","0107 - SAYLLA"]
[null,null,null,"09-Setiembre",null,null,null,null,null,"01","15","OCONGATE                                                                                            ","0115 - OCONGATE                                                                                            ",6,"000002501","CCAPI","01","03","10","03","0103","000002501 - CCAPI",null,"08","ESPINAR","08 - ESPINAR",null,"01","08","WANCHAQ","0108","0108 - WANCHAQ"]
[null,null,null,"10-Octubre",null,null,null,null,null,"01","99","(All)","0199 - (All)",7,"000002502","CCOYABAMBA","01","03","10","03","0103","000002502 - CCOYABAMBA",null,"09","LA CONVENCION","09 - LA CONVENCION",null,"02","00","(All)","0200","0200 - (All)"]
[null,null,null,"11-Noviembre",null,"EJECUTORAS",null,null,null,"02","01","BELEMPAMPA                                                                                          ","0201 - BELEMPAMPA                                                                                          ",8,"000002503","COLCHA","01","03","10","04","0103","000002503 - COLCHA",null,"10","PARURO","10 - PARURO",null,"02","01","ACOMAYO","0201","0201 - ACOMAYO"]
[null,null,null,"12-Diciembre",null,"COD_RED","DESC_RED","CONCATENAR",null,"02","02","WANCHAQ                                                                                             ","0202 - WANCHAQ                                                                                             ",9,"000006978","CCOCHIRIHUAY","01","03","10","04","0103","000006978 - CCOCHIRIHUAY",null,"11","PAUCARTAMBO","11 - PAUCARTAMBO",null,"02","02","ACOPIA","0202","0202 - ACOPIA"]
[null,null,null,null,null,"01","HOSPITAL REGIONAL CUSCO",{"$f":"CONCATENATE(F22,\" - \",G22)","v":"01 - HOSPITAL REGIONAL CUSCO"},null,"02","03","ANTA                                                                                                ","0203 - ANTA                                                                                                ",10,"000002504","HUANOQUITE","01","03","10","05","0103","000002504 - HUANOQUITE",null,"12","QUISPICANCHI","12 - QUISPICANCHI",null,"02","03","ACOS","0203","0203 - ACOS"]
[null,null,null,null,null,"02","HOSPITAL ANTONIO LORENA",{"$f":"CONCATENATE(F23,\" - \",G23)","v":"02 - HOSPITAL ANTONIO LORENA"},null,"02","04","LIMATAMBO                                                                                           ","0204 - LIMATAMBO                                                                                           ",11,"000002505","OMACHA","01","03","10","06","0103","000002505 - OMACHA",null,"13","URUBAMBA","13 - URUBAMBA",null,"02","04","MOSOC LLACTA","0204","0204 - MOSOC LLACTA"]
[null,null,null,null,null,"03","CUSCO NORTE","03 - CUSCO NORTE",null,"02","05","PISAC                                                                                               ","0205 - PISAC                                                                                               ",12,"000002506","ANTAPALLPA","01","03","10","06","0103","000002506 - ANTAPALLPA",null,null,null,null,null,"02","05","POMACANCHI","0205","0205 - POMACANCHI"]
[null,null,null,null,null,"04","CUSCO SUR","04 - CUSCO SUR",null,"02","06","CALCA                                                                                               ","0206 - CALCA                                                                                               ",13,"000007147","PUESTO DE SALUD DE HUASQUILLAY","01","03","10","06","0103","000007147 - PUESTO DE SALUD DE HUASQUILLAY",null,null,null,null,null,"02","06","RONDOCAN","0206","0206 - RONDOCAN"]
[null,null,null,null,null,"05","LA CONVENCION","05 - LA CONVENCION",null,"02","07","URUBAMBA                                                                                            ","0207 - URUBAMBA                                                                                            ",14,"000012924","SAHUA SAHUA","01","03","10","06","0103","000012924 - SAHUA SAHUA",null,null,null,null,null,"02","07","SANGARARA","0207","0207 - SANGARARA"]
[null,null,null,null,null,"06","HOSPITAL QUILLABAMBA","06 - HOSPITAL QUILLABAMBA",null,"02","08","YANATILE                                                                                            ","0208 - YANATILE                                                                                            ",15,"000002507","PACCARECTAMBO","01","03","10","07","0103","000002507 - PACCARECTAMBO",null,null,null,null,null,"03","00","(All)","0300","0300 - (All)"]
[null,null,null,null,null,"07","CANAS CANCHIS ESPINAR","07 - CANAS CANCHIS ESPINAR",null,"02","09","SIETE CUARTONES                                                                                     ","0209 - SIETE CUARTONES                                                                                     ",16,"000002509","YAURISQUE","01","03","10","09","0103","000002509 - YAURISQUE",null,null,null,null,null,"03","01","ANTA","0301","0301 - ANTA"]
[null,null,null,null,null,"08","HOSPITAL SICUANI","08 - HOSPITAL SICUANI",null,"02","99","(All)","0299 - (All)",17,"000000000","(All)","01","06",null,null,"0106","000000000 - (All)",null,null,null,null,null,"03","02","ANCAHUASI","0302","0302 - ANCAHUASI"]
[null,null,null,null,null,"09","HOSPITAL ESPINAR","09 - HOSPITAL ESPINAR",null,"03","00","NO PERTENECE A NINGUNA MICRORED                                                                     ","0300 - NO PERTENECE A NINGUNA MICRORED                                                                     ",null,"000002520","HUANCARANI","01","06","11","05","0106","000002520 - HUANCARANI",null,null,null,null,null,"03","03","CACHIMAYO","0303","0303 - CACHIMAYO"]
[null,null,null,null,null,"10","KIMBIRI PICHARI","10 - KIMBIRI PICHARI",null,"03","01","SANTA ANA                                                                                           ","0301 - SANTA ANA                                                                                           ",{"$f":"+N29+1","v":18},"000002521","PILCOPATA","01","06","11","06","0106","000002521 - PILCOPATA",null,null,null,null,null,"03","04","CHINCHAYPUJIO","0304","0304 - CHINCHAYPUJIO"]
[null,null,null,null,null,"11","CHUMBIVILCAS","11 - CHUMBIVILCAS",null,"03","02","MARANURA                                                                                            ","0302 - MARANURA                                                                                            ",19,"000002522","PATRIA","01","06","11","06","0106","000002522 - PATRIA",null,null,null,null,null,"03","05","HUAROCONDO","0305","0305 - HUAROCONDO"]
[null,null,null,null,null,"99","(ALL)",{"$f":"CONCATENATE(F33,\" - \",G33)","v":"99 - (ALL)"},null,"03","03","QUELLOUNO                                                                                           ","0303 - QUELLOUNO                                                                                           ",20,"000002510","PAUCARTAMBO","01","06","11","01","0106","000002510 - PAUCARTAMBO",null,null,null,null,null,"03","06","LIMATAMBO","0306","0306 - LIMATAMBO"]
[null,null,null,null,null,null,null,null,null,"03","04","KITENI                                                                                              ","0304 - KITENI                                                                                              ",21,"000002511","MOLLOMARCA","01","06","11","01","0106","000002511 - MOLLOMARCA",null,null,null,null,null,"03","07","MOLLEPATA","0307","0307 - MOLLEPATA"]
[null,null,null,null,null,null,null,null,null,"03","05","KAMISEA                                                                                             ","0305 - KAMISEA                                                                                             ",22,"000010077","PAUCARTAMBO -ESSALUD","01","06","11","01","0106","000010077 - PAUCARTAMBO -ESSALUD",null,null,null,null,null,"03","08","PUCYURA","0308","0308 - PUCYURA"]
[null,null,null,null,null,"SECTORES",null,null,null,"03","06","PUCYURA                                                                                             ","0306 - PUCYURA                                                                                             ",23,"000033777","MENTAL COMUNITARIO VIRGEN DEL ROSARIO","01","06","11","01","0106","000033777 - MENTAL COMUNITARIO VIRGEN DEL ROSARIO",null,null,null,null,null,"03","09","ZURITE","0309","0309 - ZURITE"]
[null,null,null,null,null,"COD_SECTOR","DESC_RED","CONCATENAR",null,"03","07","PALMA REAL","0307 - PALMA REAL",24,"000002512","CAICAY","01","06","11","02","0106","000002512 - CAICAY",null,null,null,null,null,"04","00","(All)","0400","0400 - (All)"]
[null,null,null,null,null,"1","GORE",{"$f":"CONCATENATE(F38,\" - \",G38)","v":"1 - GORE"},null,"03","99","(All)","0399 - (All)",25,"000002513","HUASAC","01","06","11","02","0106","000002513 - HUASAC",null,null,null,null,null,"04","01","CALCA","0401","0401 - CALCA"]
[null,null,null,null,null,"2","ESSALUD",{"$f":"CONCATENATE(F39,\" - \",G39)","v":"2 - ESSALUD"},null,"04","00","NO PERTENECE A NINGUNA MICRORED                                                                     ","0400 - NO PERTENECE A NINGUNA MICRORED                                                                     ",26,"000002514","CHALLABAMBA","01","06","11","03","0106","000002514 - CHALLABAMBA",null,null,null,null,null,"04","02","COYA","0402","0402 - COYA"]
[null,null,null,null,null,"3","OTROS",{"$f":"CONCATENATE(F40,\" - \",G40)","v":"3 - OTROS"},null,"04","01","YANAOCA                                                                                             ","0401 - YANAOCA                                                                                             ",27,"000002516","COLQUEPATA","01","06","11","04","0106","000002516 - COLQUEPATA",null,null,null,null,null,"04","03","LAMAY","0403","0403 - LAMAY"]
[null,null,null,null,null,"99","(ALL)",{"$f":"CONCATENATE(F41,\" - \",G41)","v":"99 - (ALL)"},null,"04","02","EL DESCANSO                                                                                         ","0402 - EL DESCANSO                                                                                         ",28,"000002517","PICHIHUA COLQUEPATA","01","06","11","04","0106","000002517 - PICHIHUA COLQUEPATA",null,null,null,null,null,"04","04","LARES","0404","0404 - LARES"]
[null,null,null,null,null,null,null,null,null,"04","03","COMBAPATA                                                                                           ","0403 - COMBAPATA                                                                                           ",29,"000002518","VIZCOCHONI","01","06","11","04","0106","000002518 - VIZCOCHONI",null,null,null,null,null,"04","05","PISAC","0405","0405 - PISAC"]
[null,null,null,null,null,null,null,null,null,"04","04","TECHO OBRERO                                                                                        ","0404 - TECHO OBRERO                                                                                        ",30,"000002519","AYRE","01","06","11","04","0106","000002519 - AYRE",null,null,null,null,null,"04","06","SAN SALVADOR","0406","0406 - SAN SALVADOR"]
[null,null,null,null,null,null,null,null,null,"04","05","PAMPAPHALLA                                                                                         ","0405 - PAMPAPHALLA                                                                                         ",31,"000006979","TOCRA","01","06","11","04","0106","000006979 - TOCRA",null,null,null,null,null,"04","07","TARAY","0407","0407 - TARAY"]
[null,null,null,null,null,null,null,null,null,"04","06","YAURI                                                                                               ","0406 - YAURI                                                                                               ",32,"000000000","(All)","01","12",null,null,"0112","000000000 - (All)",null,null,null,null,null,"04","08","YANATILE","0408","0408 - YANATILE"]
[null,null,null,null,null,null,null,null,null,"04","99","(All)","0499 - (All)",null,"000002523","URCOS","01","12","12","01","0112","000002523 - URCOS",null,null,null,null,null,"05","00","(All)","0500","0500 - (All)"]
[null,null,null,null,null,null,null,null,null,"05","00","NO PERTENECE A NINGUNA MICRORED                                                                     ","0500 - NO PERTENECE A NINGUNA MICRORED                                                                     ",{"$f":"+N45+1","v":33},"000026385","ESSALUD-URCOS","01","12","12","01","0112","000026385 - ESSALUD-URCOS",null,null,null,null,null,"05","01","YANAOCA","0501","0501 - YANAOCA"]
[null,null,null,null,null,null,null,null,null,"05","01","KIMBIRI                                                                                             ","0501 - KIMBIRI                                                                                             ",34,"000002525","ANDAHUAYLILLAS","01","12","12","02","0112","000002525 - ANDAHUAYLILLAS",null,null,null,null,null,"05","02","CHECCA","0502","0502 - CHECCA"]
[null,null,null,null,null,null,null,null,null,"05","02","PICHARI                                                                                             ","0502 - PICHARI                                                                                             ",35,"000008911","HUARA HUARA","01","12","12","05","0112","000008911 - HUARA HUARA",null,null,null,null,null,"05","03","KUNTURKANKI","0503","0503 - KUNTURKANKI"]
[null,null,null,null,null,null,null,null,null,"05","99","(All)","0599 - (All)",36,"000002530","CUSIPATA","01","12","12","06","0112","000002530 - CUSIPATA",null,null,null,null,null,"05","04","LANGUI","0504","0504 - LANGUI"]
[null,null,null,null,null,null,null,null,null,"06","00","NO PERTENECE A NINGUNA MICRORED                                                                     ","0600 - NO PERTENECE A NINGUNA MICRORED                                                                     ",37,"000006980","CHILLIHUANI","01","12","12","06","0112","000006980 - CHILLIHUANI",null,null,null,null,null,"05","05","LAYO","0505","0505 - LAYO"]
[null,null,null,null,null,null,null,null,null,"06","09","SANTO TOMAS                                                                                         ","0609 - SANTO TOMAS                                                                                         ",38,"000002532","HUARO","01","12","12","07","0112","000002532 - HUARO",null,null,null,null,null,"05","06","PAMPAMARCA","0506","0506 - PAMPAMARCA"]
[null,null,null,null,null,null,null,null,null,"06","01","LIVITACA                                                                                            ","0601 - LIVITACA                                                                                            ",39,"000002533","URPAY","01","12","12","07","0112","000002533 - URPAY",null,null,null,null,null,"05","07","QUEHUE","0507","0507 - QUEHUE"]
[null,null,null,null,null,null,null,null,null,"06","99","(All)","0699 - (All)",40,"000011747","POSTA MEDICA POLICIAL PUCUTO","01","12","12","07","0112","000011747 - POSTA MEDICA POLICIAL PUCUTO",null,null,null,null,null,"05","08","TUPAC AMARU","0508","0508 - TUPAC AMARU"]
[null,null,null,null,null,null,null,null,null,"99","99","(All)","9999 - (All)",41,"000030708","MENTAL COMUNITARIO HUARO","01","12","12","07","0112","000030708 - MENTAL COMUNITARIO HUARO",null,null,null,null,null,"06","00","(All)","0600","0600 - (All)"]
[null,null,null,null,null,null,null,null,null,null,null,null,null,42,"000002534","LUCRE","01","12","12","08","0112","000002534 - LUCRE",null,null,null,null,null,"06","01","SICUANI","0601","0601 - SICUANI"]
[null,null,null,null,null,null,null,null,null,null,null,null,null,43,"000002537","OROPESA","01","12","12","11","0112","000002537 - OROPESA",null,null,null,null,null,"06","02","CHECACUPE","0602","0602 - CHECACUPE"]
[null,null,null,null,null,null,null,null,null,null,null,null,null,44,"000002538","QUIQUIJANA","01","12","12","12","0112","000002538 - QUIQUIJANA",null,null,null,null,null,"06","03","COMBAPATA","0603","0603 - COMBAPATA"]
[null,null,null,null,null,null,null,null,null,null,null,null,null,45,"000002539","CCOLCA","01","12","12","12","0112","000002539 - CCOLCA",null,null,null,null,null,"06","04","MARANGANI","0604","0604 - MARANGANI"]
[null,null,null,null,null,null,null,null,null,null,null,null,null,46,"000000000","(All)","01","13",null,null,"0113","000000000 - (All)",null,null,null,null,null,"06","05","PITUMARCA","0605","0605 - PITUMARCA"]
[null,null,null,null,null,null,null,null,null,null,null,null,null,null,"000002317","ACOMAYO","01","13","02","01","0113","000002317 - ACOMAYO",null,null,null,null,null,"06","06","SAN PABLO","0606","0606 - SAN PABLO"]
[null,null,null,null,null,null,null,null,null,null,null,null,null,{"$f":"+N60+1","v":47},"000010076","ACOMAYO - ESSALUD","01","13","02","01","0113","000010076 - ACOMAYO - ESSALUD",null,null,null,null,null,"06","07","SAN PEDRO","0607","0607 - SAN PEDRO"]
[null,null,null,null,null,null,null,null,null,null,null,null,null,48,"000002318","ACOPIA","01","13","02","02","0113","000002318 - ACOPIA",null,null,null,null,null,"06","08","TINTA","0608","0608 - TINTA"]
[null,null,null,null,null,null,null,null,null,null,null,null,null,49,"000002319","ACOS","01","13","02","03","0113","000002319 - ACOS",null,null,null,null,null,"07","00","(All)","0700","0700 - (All)"]
[null,null,null,null,null,null,null,null,null,null,null,null,null,50,"000002321","POMACANCHI","01","13","02","05","0113","000002321 - POMACANCHI",null,null,null,null,null,"07","01","SANTO TOMAS","0701","0701 - SANTO TOMAS"]
[null,null,null,null,null,null,null,null,null,null,null,null,null,51,"000002322","SAN JUAN DE POMACANCHI","01","13","02","05","0113","000002322 - SAN JUAN DE POMACANCHI",null,null,null,null,null,"07","02","CAPACMARCA","0702","0702 - CAPACMARCA"]
[null,null,null,null,null,null,null,null,null,null,null,null,null,52,"000012926","SANTA LUCIA","01","13","02","05","0113","000012926 - SANTA LUCIA",null,null,null,null,null,"07","03","CHAMACA","0703","0703 - CHAMACA"]
[null,null,null,null,null,null,null,null,null,null,null,null,null,53,"000002324","PUESTO DE SALUD SANGARARA","01","13","02","07","0113","000002324 - PUESTO DE SALUD SANGARARA",null,null,null,null,null,"07","04","COLQUEMARCA","0704","0704 - COLQUEMARCA"]
[null,null,null,null,null,null,null,null,null,null,null,null,null,54,"000002325","PUESTO DE SALUD MARCACONGA","01","13","02","07","0113","000002325 - PUESTO DE SALUD MARCACONGA",null,null,null,null,null,"07","05","LIVITACA","0705","0705 - LIVITACA"]
[null,null,null,null,null,null,null,null,null,null,null,null,null,55,"000002508","PILLPINTO","01","13","10","08","0113","000002508 - PILLPINTO",null,null,null,null,null,"07","06","LLUSCO","0706","0706 - LLUSCO"]
[null,null,null,null,null,null,null,null,null,null,null,null,null,56,"000000000","(All)","01","15",null,null,"0115","000000000 - (All)",null,null,null,null,null,"07","07","QUIÑOTA","0707","0707 - QUIÑOTA"]
[null,null,null,null,null,null,null,null,null,null,null,null,null,null,"000002526","QUINCE MIL","01","15","12","03","0115","000002526 - QUINCE MIL",null,null,null,null,null,"07","08","VELILLE","0708","0708 - VELILLE"]
[null,null,null,null,null,null,null,null,null,null,null,null,null,{"$f":"+N71+1","v":57},"000002527","CCARHUAYO","01","15","12","04","0115","000002527 - CCARHUAYO",null,null,null,null,null,"08","00","(All)","0800","0800 - (All)"]
[null,null,null,null,null,null,null,null,null,null,null,null,null,58,"000002524","PAMPACAMARA","01","15","12","05","0115","000002524 - PAMPACAMARA",null,null,null,null,null,"08","01","ESPINAR","0801","0801 - ESPINAR"]
[null,null,null,null,null,null,null,null,null,null,null,null,null,59,"000002528","CCATCCA","01","15","12","05","0115","000002528 - CCATCCA",null,null,null,null,null,"08","02","CONDOROMA",{"$f":"CONCATENATE(AB75,AC75)","v":"0802"},{"$f":"CONCATENATE(AB75,AC75,\" - \",AD75)","v":"0802 - CONDOROMA"}]
[null,null,null,null,null,null,null,null,null,null,null,null,null,60,"000002529","KCAURY","01","15","12","05","0115","000002529 - KCAURY",null,null,null,null,null,"08","03","COPORAQUE","0803","0803 - COPORAQUE"]
[null,null,null,null,null,null,null,null,null,null,null,null,null,{"$f":"+N76+1","v":61},"000012931","CHICHINA","01","15","12","05","0115","000012931 - CHICHINA",null,null,null,null,null,"08","04","OCORURO","0804","0804 - OCORURO"]
[null,null,null,null,null,null,null,null,null,null,null,null,null,62,"000016335","CCAPANA","01","15","12","05","0115","000016335 - CCAPANA",null,null,null,null,null,"08","05","PALLPATA","0805","0805 - PALLPATA"]
[null,null,null,null,null,null,null,null,null,null,null,null,null,63,"000002535","MARCAPATA","01","15","12","09","0115","000002535 - MARCAPATA",null,null,null,null,null,"08","06","PICHIGUA","0806","0806 - PICHIGUA"]
[null,null,null,null,null,null,null,null,null,null,null,null,null,64,"000007110","INCACANCHA","01","15","12","09",{"$f":"CONCATENATE(Q80,R80)","v":"0115"},{"$f":"CONCATENATE(O80,\" - \",P80)","v":"000007110 - INCACANCHA"},null,null,null,null,null,"08","07","SUYCKUTAMBO","0807","0807 - SUYCKUTAMBO"]
[null,null,null,null,null,null,null,null,null,null,null,null,null,65,"000002536","OCONGATE","01","15","12","10","0115","000002536 - OCONGATE",null,null,null,null,null,"08","08","ALTO PICHIGUA","0808","0808 - ALTO PICHIGUA"]
[null,null,null,null,null,null,null,null,null,null,null,null,null,66,"000006977","TINKI","01","15","12","10","0115","000006977 - TINKI",null,null,null,null,null,"09","00","(All)","0900","0900 - (All)"]
[null,null,null,null,null,null,null,null,null,null,null,null,null,67,"000000000","(All)","01","16",null,null,"0116","000000000 - (All)",null,null,null,null,null,"09","01","SANTA ANA","0901","0901 - SANTA ANA"]
[null,null,null,null,null,null,null,null,null,null,null,null,null,null,"000002300","SAN JERONIMO","01","16","01","04","0116","000002300 - SAN JERONIMO",null,null,null,null,null,"09","02","ECHARATE","0902","0902 - ECHARATE"]
[null,null,null,null,null,null,null,null,null,null,null,null,null,{"$f":"+N83+1","v":68},"000007699","CONCHACALLE","01","16","01","04","0116","000007699 - CONCHACALLE",null,null,null,null,null,"09","03","HUAYOPATA","0903","0903 - HUAYOPATA"]
[null,null,null,null,null,null,null,null,null,null,null,null,null,69,"000018926","ESTABLECIMIENTO PENITENCIARIO CUSCO VARONES","01","16","01","04","0116","000018926 - ESTABLECIMIENTO PENITENCIARIO CUSCO VARONES",null,null,null,null,null,"09","04","MARANURA","0904","0904 - MARANURA"]
[null,null,null,null,null,null,null,null,null,null,null,null,null,70,"000021187","ESTABLECIMIENTO PENITENCIARIO CUSCO MUJERES","01","16","01","04","0116","000021187 - ESTABLECIMIENTO PENITENCIARIO CUSCO MUJERES",null,null,null,null,null,"09","05","OCOBAMBA","0905","0905 - OCOBAMBA"]
[null,null,null,null,null,null,null,null,null,null,null,null,null,71,"000030727","PATRÓN SAN SEBASTIAN","01","16","01","04","0116","000030727 - PATRÓN SAN SEBASTIAN",null,null,null,null,null,"09","06","QUELLOUNO","0906","0906 - QUELLOUNO"]
[null,null,null,null,null,null,null,null,null,null,null,null,null,72,"000002301","SAN SEBASTIAN","01","16","01","05","0116","000002301 - SAN SEBASTIAN",null,null,null,null,null,"09","07","KIMBIRI","0907","0907 - KIMBIRI"]
[null,null,null,null,null,null,null,null,null,null,null,null,null,73,"000002303","SANTA ROSA","01","16","01","05","0116","000002303 - SANTA ROSA",null,null,null,null,null,"09","08","SANTA TERESA","0908","0908 - SANTA TERESA"]
[null,null,null,null,null,null,null,null,null,null,null,null,null,74,"000010065","SAN SEBASTIAN ESSALUD","01","16","01","05","0116","000010065 - SAN SEBASTIAN ESSALUD",null,null,null,null,null,"09","09","VILCABAMBA","0909","0909 - VILCABAMBA"]
[null,null,null,null,null,null,null,null,null,null,null,null,null,75,"000011743","POLICIAL \"SANTA ROSA\"  CUSCO","01","16","01","05","0116","000011743 - POLICIAL \"SANTA ROSA\"  CUSCO",null,null,null,null,null,"09","10","PICHARI","0910","0910 - PICHARI"]
[null,null,null,null,null,null,null,null,null,null,null,null,null,76,"000026181","MENTAL SAN SEBASTIAN","01","16","01","05","0116","000026181 - MENTAL SAN SEBASTIAN",null,null,null,null,null,"09","11","INKAWASI                                ","0911","0911 - INKAWASI                                "]
[null,null,null,null,null,null,null,null,null,null,null,null,null,77,"000002314","SAYLLA","01","16","01","07","0116","000002314 - SAYLLA",null,null,null,null,null,"09","12","VILLA VIRGEN","0912","0912 - VILLA VIRGEN"]
[null,null,null,null,null,null,null,null,null,null,null,null,null,78,"000002323","RONDOCAN","01","16","02","06","0116","000002323 - RONDOCAN",null,null,null,null,null,"09","13","VILLA KINTIARINA","0913","0913 - VILLA KINTIARINA"]
[null,null,null,null,null,null,null,null,null,null,null,null,null,79,"999999999","(All)","01","99",null,null,"0199","999999999 - (All)",null,null,null,null,null,"09","14","MEGANTONI","0914","0914 - MEGANTONI"]
[null,null,null,null,null,null,null,null,null,null,null,null,null,null,"000000000","(All)","02","01",null,null,"0201","000000000 - (All)",null,null,null,null,null,"09","15","KUMPIRUSHIATO","0915","0915 - KUMPIRUSHIATO"]
[null,null,null,null,null,null,null,null,null,null,null,null,null,null,"000002292","INDEPENDENCIA","02","01","01","01","0201","000002292 - INDEPENDENCIA",null,null,null,null,null,"09","16","CIELO PUNCO","0916","0916 - CIELO PUNCO"]
[null,null,null,null,null,null,null,null,null,null,null,null,null,{"$f":"+N96+1","v":80},"000002297","CCORCCA","02","01","01","02","0201","000002297 - CCORCCA",null,null,null,null,null,"09","17","MANITEA","0917","0917 - MANITEA"]
[null,null,null,null,null,null,null,null,null,null,null,null,null,81,"000002306","BELEMPAMPA","02","01","01","06","0201","000002306 - BELEMPAMPA",null,null,null,null,null,"09","18","UNION ASHANINKA","0918","0918 - UNION ASHANINKA"]
[null,null,null,null,null,null,null,null,null,null,null,null,null,82,"000002308","ZARZUELA ALTA","02","01","01","06","0201","000002308 - ZARZUELA ALTA",null,null,null,null,null,"09","00","(All)","0900","0900 - (All)"]
[null,null,null,null,null,null,null,null,null,null,null,null,null,83,"000002309","DIGNIDAD NACIONAL","02","01","01","06","0201","000002309 - DIGNIDAD NACIONAL",null,null,null,null,null,"10","01","PARURO","1001","1001 - PARURO"]
[null,null,null,null,null,null,null,null,null,null,null,null,null,84,"000002313","OCCOPATA","02","01","01","06","0201","000002313 - OCCOPATA",null,null,null,null,null,"10","02","ACCHA","1002","1002 - ACCHA"]
[null,null,null,null,null,null,null,null,null,null,null,null,null,85,"000010920","QUINTA BRIGADA DE MONTAÑA","02","01","01","06","0201","000010920 - QUINTA BRIGADA DE MONTAÑA",null,null,null,null,null,"10","03","CCAPI","1003","1003 - CCAPI"]
[null,null,null,null,null,null,null,null,null,null,null,null,null,86,"000026182","MENTAL SANTIAGO","02","01","01","06","0201","000026182 - MENTAL SANTIAGO",null,null,null,null,null,"10","04","COLCHA","1004","1004 - COLCHA"]
[null,null,null,null,null,null,null,null,null,null,null,null,null,87,"000034933","SANTIAGO ESSALUD","02","01","01","06","0201","000034933 - SANTIAGO ESSALUD",null,null,null,null,null,"10","05","HUANOQUITE","1005","1005 - HUANOQUITE"]
[null,null,null,null,null,null,null,null,null,null,null,null,null,88,"000023721","EJERCITO-PERUANO 5TA BM","02","01","01","06","0201","000023721 - EJERCITO-PERUANO 5TA BM",null,null,null,null,null,"10","06","OMACHA","1006","1006 - OMACHA"]
[null,null,null,null,null,null,null,null,null,null,null,null,null,null,"000000000","(All)","02","02",null,null,"0202","000000000 - (All)",null,null,null,null,null,"10","07","PACCARITAMBO","1007","1007 - PACCARITAMBO"]
[null,null,null,null,null,null,null,null,null,null,null,null,null,{"$f":"+N107+1","v":89},"000034419","MENTAL COMUNITARIO CUSCO","02","02","01","01","0202","000034419 - MENTAL COMUNITARIO CUSCO",null,null,null,null,null,"10","08","PILLPINTO","1008","1008 - PILLPINTO"]
[null,null,null,null,null,null,null,null,null,null,null,null,null,90,"000002302","CCORAO","02","02","01","05","0202","000002302 - CCORAO",null,null,null,null,null,"10","09","YAURISQUE","1009","1009 - YAURISQUE"]
[null,null,null,null,null,null,null,null,null,null,null,null,null,91,"000002307","MANCO CAPAC","02","02","01","06","0202","000002307 - MANCO CAPAC",null,null,null,null,null,"11","00","(All)","1100","1100 - (All)"]
[null,null,null,null,null,null,null,null,null,null,null,null,null,92,"000002310","CHOCCO","02","02","01","06","0202","000002310 - CHOCCO",null,null,null,null,null,"11","01","PAUCARTAMBO","1101","1101 - PAUCARTAMBO"]
[null,null,null,null,null,null,null,null,null,null,null,null,null,93,"000002315","WANCHAQ","02","02","01","08","0202","000002315 - WANCHAQ",null,null,null,null,null,"11","02","CAICAY","1102","1102 - CAICAY"]
[null,null,null,null,null,null,null,null,null,null,null,null,null,94,"000002316","TTIO","02","02","01","08","0202","000002316 - TTIO",null,null,null,null,null,"11","03","CHALLABAMBA","1103","1103 - CHALLABAMBA"]
[null,null,null,null,null,null,null,null,null,null,null,null,null,95,"000010041","ADOLFO GUEVARA VELASCO","02","02","01","08","0202","000010041 - ADOLFO GUEVARA VELASCO",null,null,null,null,null,"11","04","COLQUEPATA","1104","1104 - COLQUEPATA"]
[null,null,null,null,null,null,null,null,null,null,null,null,null,96,"000026183","METROPOLITANO","02","02","01","08","0202","000026183 - METROPOLITANO",null,null,null,null,null,"11","05","HUANCARANI","1105","1105 - HUANCARANI"]
[null,null,null,null,null,null,null,null,null,null,null,null,null,null,"000030730","PATRON SANTIAGO","02","02","01","08","0202","000030730 - PATRON SANTIAGO",null,null,null,null,null,"11","06","KOSÑIPATA","1106","1106 - KOSÑIPATA"]
[null,null,null,null,null,null,null,null,null,null,null,null,null,{"$f":"+N116+1","v":97},"000000000","(All)","02","03",null,null,"0203","000000000 - (All)",null,null,null,null,null,"12","00","(All)","1200","1200 - (All)"]
[null,null,null,null,null,null,null,null,null,null,null,null,null,98,"000002326","ANTA","02","03","03","01","0203","000002326 - ANTA",null,null,null,null,null,"12","01","URCOS","1201","1201 - URCOS"]
[null,null,null,null,null,null,null,null,null,null,null,null,null,99,"000002328","COMPONE","02","03","03","01","0203","000002328 - COMPONE",null,null,null,null,null,"12","02","ANDAHUAYLILLAS","1202","1202 - ANDAHUAYLILLAS"]
[null,null,null,null,null,null,null,null,null,null,null,null,null,100,"000002329","CONCHACALLA","02","03","03","01","0203","000002329 - CONCHACALLA",null,null,null,null,null,"12","03","CAMANTI","1203","1203 - CAMANTI"]
[null,null,null,null,null,null,null,null,null,null,null,null,null,101,"000027790","MENTAL COMUNITARIO ANTA","02","03","03","01","0203","000027790 - MENTAL COMUNITARIO ANTA",null,null,null,null,null,"12","04","CCARHUAYO","1204","1204 - CCARHUAYO"]
[null,null,null,null,null,null,null,null,null,null,null,null,null,102,"000029514","ESSALUD ANTA","02","03","03","01","0203","000029514 - ESSALUD ANTA",null,null,null,null,null,"12","05","CCATCA","1205","1205 - CCATCA"]
[null,null,null,null,null,null,null,null,null,null,null,null,null,103,"000002330","ANCAHUASI","02","03","03","02","0203","000002330 - ANCAHUASI",null,null,null,null,null,"12","06","CUSIPATA","1206","1206 - CUSIPATA"]
[null,null,null,null,null,null,null,null,null,null,null,null,null,104,"000002331","CACHIMAYO","02","03","03","03","0203","000002331 - CACHIMAYO",null,null,null,null,null,"12","07","HUARO","1207","1207 - HUARO"]
[null,null,null,null,null,null,null,null,null,null,null,null,null,105,"000006972","PANTIPATA","02","03","03","04","0203","000006972 - PANTIPATA",null,null,null,null,null,"12","08","LUCRE","1208","1208 - LUCRE"]
[null,null,null,null,null,null,null,null,null,null,null,null,null,106,"000036240","CHINCHAYPUJIO","02","03","03","04","0203","000036240 - CHINCHAYPUJIO",null,null,null,null,null,"12","09","MARCAPATA","1209","1209 - MARCAPATA"]
[null,null,null,null,null,null,null,null,null,null,null,null,null,107,"000035838","PARCCOTICA","02","03","03","04","0203","000035838 - PARCCOTICA",null,null,null,null,null,"12","10","OCONGATE","1210","1210 - OCONGATE"]
[null,null,null,null,null,null,null,null,null,null,null,null,null,108,"000002333","HUAROCONDO","02","03","03","05","0203","000002333 - HUAROCONDO",null,null,null,null,null,"12","11","OROPESA","1211","1211 - OROPESA"]
[null,null,null,null,null,null,null,null,null,null,null,null,null,109,"000002334","HUAYLLACOCHA","02","03","03","05","0203","000002334 - HUAYLLACOCHA",null,null,null,null,null,"12","12","QUIQUIJANA","1212","1212 - QUIQUIJANA"]
[null,null,null,null,null,null,null,null,null,null,null,null,null,110,"000002339","PUCYURA ANTA","02","03","03","08","0203","000002339 - PUCYURA ANTA",null,null,null,null,null,"13","00","(All)","1300","1300 - (All)"]
[null,null,null,null,null,null,null,null,null,null,null,null,null,null,"000002340","ZURITE","02","03","03","09","0203","000002340 - ZURITE",null,null,null,null,null,"13","01","URUBAMBA","1301","1301 - URUBAMBA"]
[null,null,null,null,null,null,null,null,null,null,null,null,null,{"$f":"+N131+1","v":111},"000002327","CHACAN","02","03","03","01","0203","000002327 - CHACAN",null,null,null,null,null,"13","02","CHINCHERO","1302","1302 - CHINCHERO"]
[null,null,null,null,null,null,null,null,null,null,null,null,null,112,"000000000","(All)","02","04",null,null,"0204","000000000 - (All)",null,null,null,null,null,"13","03","HUAYLLABAMBA","1303","1303 - HUAYLLABAMBA"]
[null,null,null,null,null,null,null,null,null,null,null,null,null,113,"000002336","LIMATAMBO","02","04","03","06","0204","000002336 - LIMATAMBO",null,null,null,null,null,"13","04","MACHUPICCHU","1304","1304 - MACHUPICCHU"]
[null,null,null,null,null,null,null,null,null,null,null,null,null,114,"000002337","PAMPACONGA","02","04","03","06","0204","000002337 - PAMPACONGA",null,null,null,null,null,"13","05","MARAS","1305","1305 - MARAS"]
[null,null,null,null,null,null,null,null,null,null,null,null,null,115,"000010761","URATARI","02","04","03","06","0204","000010761 - URATARI",null,null,null,null,null,"13","06","OLLANTAYTAMBO","1306","1306 - OLLANTAYTAMBO"]
[null,null,null,null,null,null,null,null,null,null,null,null,null,null,"000002338","MOLLEPATA","02","04","03","07","0204","000002338 - MOLLEPATA",null,null,null,null,null,"13","07","YUCAY",{"$f":"CONCATENATE(AB138,AC138)","v":"1307"},"1307 - YUCAY"]
[null,null,null,null,null,null,null,null,null,null,null,null,null,{"$f":"+N137+1","v":116},"000021061","HUAMANPATA","02","04","03","07","0204","000021061 - HUAMANPATA",null,null,null,null,null,"00","00","(All)",{"$f":"CONCATENATE(AB139,AC139)","v":"0000"},"0000 - (All)"]
[null,null,null,null,null,null,null,null,null,null,null,null,null,117,"000000000","(All)","02","05",null,null,"0205","000000000 - (All)"]
[null,null,null,null,null,null,null,null,null,null,null,null,null,{"$f":"+N140+1","v":118},"000002343","COYA","02","05","04","02","0205","000002343 - COYA"]
[null,null,null,null,null,null,null,null,null,null,null,null,null,119,"000002344","LAMAY","02","05","04","03","0205","000002344 - LAMAY"]
[null,null,null,null,null,null,null,null,null,null,null,null,null,120,"000006975","SAYLLAFAYA","02","05","04","03","0205","000006975 - SAYLLAFAYA"]
[null,null,null,null,null,null,null,null,null,null,null,null,null,121,"000007145","HUAMA","02","05","04","03","0205","000007145 - HUAMA"]
[null,null,null,null,null,null,null,null,null,null,null,null,null,122,"000007146","POQUES","02","05","04","03","0205","000007146 - POQUES"]
[null,null,null,null,null,null,null,null,null,null,null,null,null,123,"000036012","HUARQUI","02","05","04","03","0205","000036012 - HUARQUI"]
[null,null,null,null,null,null,null,null,null,null,null,null,null,124,"000002348","PISAC","02","05","04","05","0205","000002348 - PISAC"]
[null,null,null,null,null,null,null,null,null,null,null,null,null,125,"000002349","CUYO CHICO","02","05","04","05","0205","000002349 - CUYO CHICO"]
[null,null,null,null,null,null,null,null,null,null,null,null,null,126,"000002350","CUYO GRANDE","02","05","04","05","0205","000002350 - CUYO GRANDE"]
[null,null,null,null,null,null,null,null,null,null,null,null,null,127,"000002351","QUELLO QUELLO","02","05","04","05",{"$f":"CONCATENATE(Q150,R150)","v":"0205"},{"$f":"CONCATENATE(O150,\" - \",P150)","v":"000002351 - QUELLO QUELLO"}]
[null,null,null,null,null,null,null,null,null,null,null,null,null,128,"000002352","SAN SALVADOR","02","05","04","06","0205","000002352 - SAN SALVADOR"]
[null,null,null,null,null,null,null,null,null,null,null,null,null,129,"000036087","TIRACANCHA","02","05","04","06","0205","000036087 - TIRACANCHA"]
[null,null,null,null,null,null,null,null,null,null,null,null,null,null,"000002353","TARAY","02","05","04","07","0205","000002353 - TARAY"]
[null,null,null,null,null,null,null,null,null,null,null,null,null,{"$f":"+N152+1","v":130},"000002354","HUANCALLE","02","05","04","07","0205","000002354 - HUANCALLE"]
[null,null,null,null,null,null,null,null,null,null,null,null,null,131,"000000000","(All)","02","06",null,null,"0206","000000000 - (All)"]
[null,null,null,null,null,null,null,null,null,null,null,null,null,132,"000002341","CALCA","02","06","04","01","0206","000002341 - CALCA"]
[null,null,null,null,null,null,null,null,null,null,null,null,null,133,"000010069","ESSALUD CALCA","02","06","04","01","0206","000010069 - ESSALUD CALCA"]
[null,null,null,null,null,null,null,null,null,null,null,null,null,134,"000010759","HUARAN","02","06","04","01","0206","000010759 - HUARAN"]
[null,null,null,null,null,null,null,null,null,null,null,null,null,135,"000010762","ACCHA ALTA - PAMPALLACTA","02","06","04","01","0206","000010762 - ACCHA ALTA - PAMPALLACTA"]
[null,null,null,null,null,null,null,null,null,null,null,null,null,136,"000026273","MENTAL COMUNITARIO VIRGEN ASUNTA DE CALCA","02","06","04","01","0206","000026273 - MENTAL COMUNITARIO VIRGEN ASUNTA DE CALCA"]
[null,null,null,null,null,null,null,null,null,null,null,null,null,137,"000002342","AMPARAES","02","06","04","04","0206","000002342 - AMPARAES"]
[null,null,null,null,null,null,null,null,null,null,null,null,null,138,"000002345","CCACHIN","02","06","04","04","0206","000002345 - CCACHIN"]
[null,null,null,null,null,null,null,null,null,null,null,null,null,139,"000002346","CHOQUECANCHA","02","06","04","04","0206","000002346 - CHOQUECANCHA"]
[null,null,null,null,null,null,null,null,null,null,null,null,null,140,"000002347","LARES","02","06","04","04","0206","000002347 - LARES"]
[null,null,null,null,null,null,null,null,null,null,null,null,null,141,"000002361","SUYO","02","06","04","04","0206","000002361 - SUYO"]
[null,null,null,null,null,null,null,null,null,null,null,null,null,142,"000007144","PATABAMBA","02","06","04","07","0206","000007144 - PATABAMBA"]
[null,null,null,null,null,null,null,null,null,null,null,null,null,143,"000002515","PAROBAMBA","02","06","11","03","0206","000002515 - PAROBAMBA"]
[null,null,null,null,null,null,null,null,null,null,null,null,null,144,"000007143","OTOCANI","02","06","11","03","0206","000007143 - OTOCANI"]
[null,null,null,null,null,null,null,null,null,null,null,null,null,145,"000000000","(All)","02","07",null,null,"0207","000000000 - (All)"]
[null,null,null,null,null,null,null,null,null,null,null,null,null,146,"000002540","URUBAMBA","02","07","13","01","0207","000002540 - URUBAMBA"]
[null,null,null,null,null,null,null,null,null,null,null,null,null,147,"000002541","YANAHUARA","02","07","13","01","0207","000002541 - YANAHUARA"]
[null,null,null,null,null,null,null,null,null,null,null,null,null,148,"000010060","CAS URUBAMBA -ESSALUD","02","07","13","01","0207","000010060 - CAS URUBAMBA -ESSALUD"]
[null,null,null,null,null,null,null,null,null,null,null,null,null,149,"000030666","MENTAL COMUNITARIO URUBAMBA","02","07","13","01","0207","000030666 - MENTAL COMUNITARIO URUBAMBA"]
[null,null,null,null,null,null,null,null,null,null,null,null,null,150,"000035851","URUBAMBA - ESSALUD","02","07","13","01","0207","000035851 - URUBAMBA - ESSALUD"]
[null,null,null,null,null,null,null,null,null,null,null,null,null,151,"000002543","CHINCHERO","02","07","13","02","0207","000002543 - CHINCHERO"]
[null,null,null,null,null,null,null,null,null,null,null,null,null,152,"000002544","OCCOTUAN","02","07","13","02","0207","000002544 - OCCOTUAN"]
[null,null,null,null,null,null,null,null,null,null,null,null,null,153,"000002545","HUAYLLABAMBA","02","07","13","03","0207","000002545 - HUAYLLABAMBA"]
[null,null,null,null,null,null,null,null,null,null,null,null,null,154,"000002546","MACHUPICCHU","02","07","13","04","0207","000002546 - MACHUPICCHU"]
[null,null,null,null,null,null,null,null,null,null,null,null,null,155,"000002547","COLLPANI","02","07","13","04","0207","000002547 - COLLPANI"]
[null,null,null,null,null,null,null,null,null,null,null,null,null,156,"000006974","CAMINO INCA HUAYLLABAMBA","02","07","13","04","0207","000006974 - CAMINO INCA HUAYLLABAMBA"]
[null,null,null,null,null,null,null,null,null,null,null,null,null,157,"000010073","MACHU PICCHU - ESSALUD","02","07","13","04","0207","000010073 - MACHU PICCHU - ESSALUD"]
[null,null,null,null,null,null,null,null,null,null,null,null,null,158,"000002548","MARAS","02","07","13","05","0207","000002548 - MARAS"]
[null,null,null,null,null,null,null,null,null,null,null,null,null,159,"000010758","CRUZPATA","02","07","13","05","0207","000010758 - CRUZPATA"]
[null,null,null,null,null,null,null,null,null,null,null,null,null,160,"000002549","OLLANTAYTAMBO","02","07","13","06","0207","000002549 - OLLANTAYTAMBO"]
[null,null,null,null,null,null,null,null,null,null,null,null,null,161,"000002550","CHILLCA","02","07","13","06","0207","000002550 - CHILLCA"]
[null,null,null,null,null,null,null,null,null,null,null,null,null,162,"000010760","PATACANCHA","02","07","13","06","0207","000010760 - PATACANCHA"]
[null,null,null,null,null,null,null,null,null,null,null,null,null,163,"000002551","YUCAY","02","07","13","07","0207","000002551 - YUCAY"]
[null,null,null,null,null,null,null,null,null,null,null,null,null,164,"000000000","(All)","02","08",null,null,"0208","000000000 - (All)"]
[null,null,null,null,null,null,null,null,null,null,null,null,null,165,"000002355","LA QUEBRADA","02","08","04","08","0208","000002355 - LA QUEBRADA"]
[null,null,null,null,null,null,null,null,null,null,null,null,null,166,"000002356","CCORIMAYO","02","08","04","08","0208","000002356 - CCORIMAYO"]
[null,null,null,null,null,null,null,null,null,null,null,null,null,167,"000002357","COLCCA YANATILE","02","08","04","08","0208","000002357 - COLCCA YANATILE"]
[null,null,null,null,null,null,null,null,null,null,null,null,null,168,"000002358","MUYUPAY","02","08","04","08","0208","000002358 - MUYUPAY"]
[null,null,null,null,null,null,null,null,null,null,null,null,null,169,"000002359","PUTUCUSI","02","08","04","08","0208","000002359 - PUTUCUSI"]
[null,null,null,null,null,null,null,null,null,null,null,null,null,170,"000002360","QUESQUENTO","02","08","04","08","0208","000002360 - QUESQUENTO"]
[null,null,null,null,null,null,null,null,null,null,null,null,null,171,"000002362","HUACHIBAMBA","02","08","04","08","0208","000002362 - HUACHIBAMBA"]
[null,null,null,null,null,null,null,null,null,null,null,null,null,172,"000006971","COMBAPATA YANATILE","02","08","04","08","0208","000006971 - COMBAPATA YANATILE"]
[null,null,null,null,null,null,null,null,null,null,null,null,null,173,"000006973","BELLAVISTA","02","08","04","08","0208","000006973 - BELLAVISTA"]
[null,null,null,null,null,null,null,null,null,null,null,null,null,174,"000007142","CHANCAMAYO","02","08","04","08","0208","000007142 - CHANCAMAYO"]
[null,null,null,null,null,null,null,null,null,null,null,null,null,175,"000002464","VERSALLES","02","08","09","05","0208","000002464 - VERSALLES"]
[null,null,null,null,null,null,null,null,null,null,null,null,null,176,"000002467","PUENTE SANTIAGO","02","08","09","06","0208","000002467 - PUENTE SANTIAGO"]
[null,null,null,null,null,null,null,null,null,null,null,null,null,177,"000000000","(All)","02","09",null,null,"0209","000000000 - (All)"]
[null,null,null,null,null,null,null,null,null,null,null,null,null,178,"000002290","SAN PEDRO CUSCO","02","09","01","01","0209","000002290 - SAN PEDRO CUSCO"]
[null,null,null,null,null,null,null,null,null,null,null,null,null,179,"000002291","SIETE CUARTONES","02","09","01","01","0209","000002291 - SIETE CUARTONES"]
[null,null,null,null,null,null,null,null,null,null,null,null,null,180,"000002293","MIRAFLORES","02","09","01","01","0209","000002293 - MIRAFLORES"]
[null,null,null,null,null,null,null,null,null,null,null,null,null,{"$f":"+N204+1","v":181},"000002294","PICCHU LA RINCONADA","02","09","01","01","0209","000002294 - PICCHU LA RINCONADA"]
[null,null,null,null,null,null,null,null,null,null,null,null,null,182,"000002295","BUENA VISTA","02","09","01","01","0209","000002295 - BUENA VISTA"]
[null,null,null,null,null,null,null,null,null,null,null,null,null,183,"000002299","POROY","02","09","01","03","0209","000002299 - POROY"]
[null,null,null,null,null,null,null,null,null,null,null,null,null,184,"999999999","(All)","02","99",null,null,"0299","999999999 - (All)"]
[null,null,null,null,null,null,null,null,null,null,null,null,null,185,"000002421","QUILLABAMBA","03","00","09","01","0300","000002421 - QUILLABAMBA"]
[null,null,null,null,null,null,null,null,null,null,null,null,null,186,"000000000","(All)","03","01",null,null,"0301","000000000 - (All)"]
[null,null,null,null,null,null,null,null,null,null,null,null,null,187,"000002422","HUAYANAY","03","01","09","01","0301","000002422 - HUAYANAY"]
[null,null,null,null,null,null,null,null,null,null,null,null,null,188,"000002423","IDMA","03","01","09","01","0301","000002423 - IDMA"]
[null,null,null,null,null,null,null,null,null,null,null,null,null,189,"000002424","POTRERO","03","01","09","01","0301","000002424 - POTRERO"]
[null,null,null,null,null,null,null,null,null,null,null,null,null,190,"000008910","SANTA ANA","03","01","09","01","0301","000008910 - SANTA ANA"]
[null,null,null,null,null,null,null,null,null,null,null,null,null,191,"000010062","QUILLABAMBA - ESSALUD","03","01","09","01","0301","000010062 - QUILLABAMBA - ESSALUD"]
[null,null,null,null,null,null,null,null,null,null,null,null,null,192,"000011744","POSTA MEDICO POLICIAL LA CONVENCION - QUILLABAMBA","03","01","09","01","0301","000011744 - POSTA MEDICO POLICIAL LA CONVENCION - QUILLABAMBA"]
[null,null,null,null,null,null,null,null,null,null,null,null,null,193,"000015842","PAVAYOC","03","01","09","01",{"$f":"CONCATENATE(Q217,R217)","v":"0301"},{"$f":"CONCATENATE(O217,\" - \",P217)","v":"000015842 - PAVAYOC"}]
[null,null,null,null,null,null,null,null,null,null,null,null,null,194,"000024653","INPE QUILLABAMBA","03","01","09","01","0301","000024653 - INPE QUILLABAMBA"]
[null,null,null,null,null,null,null,null,null,null,null,null,null,195,"000026386","MENTAL QUILLABAMBA","03","01","09","01","0301","000026386 - MENTAL QUILLABAMBA"]
[null,null,null,null,null,null,null,null,null,null,null,null,null,196,"000002425","ECHARATE","03","01","09","02","0301","000002425 - ECHARATE"]
[null,null,null,null,null,null,null,null,null,null,null,null,null,197,"000002430","PAMPA CONCEPCION","03","01","09","02","0301","000002430 - PAMPA CONCEPCION"]
[null,null,null,null,null,null,null,null,null,null,null,null,null,198,"000002446","CHACCO","03","01","09","02","0301","000002446 - CHACCO"]
[null,null,null,null,null,null,null,null,null,null,null,null,null,199,"000002451","CHAHUARES","03","01","09","02","0301","000002451 - CHAHUARES"]
[null,null,null,null,null,null,null,null,null,null,null,null,null,200,"000033273","SAN ISIDRO LABRADOR - ECHARATI","03","01","09","02","0301","000033273 - SAN ISIDRO LABRADOR - ECHARATI"]
[null,null,null,null,null,null,null,null,null,null,null,null,null,201,"000024296","EJERCITO-MIARIA 334","03","01","09","02","0301","000024296 - EJERCITO-MIARIA 334"]
[null,null,null,null,null,null,null,null,null,null,null,null,null,202,"000000000","(All)","03","02",null,null,"0302","000000000 - (All)"]
[null,null,null,null,null,null,null,null,null,null,null,null,null,203,"000002453","HUYRO","03","02","09","03","0302","000002453 - HUYRO"]
[null,null,null,null,null,null,null,null,null,null,null,null,null,204,"000002454","ALFAMAYO","03","02","09","03","0302","000002454 - ALFAMAYO"]
[null,null,null,null,null,null,null,null,null,null,null,null,null,205,"000002455","HUAYOPATA","03","02","09","03","0302","000002455 - HUAYOPATA"]
[null,null,null,null,null,null,null,null,null,null,null,null,null,206,"000002456","AMAYBAMBA","03","02","09","03","0302","000002456 - AMAYBAMBA"]
[null,null,null,null,null,null,null,null,null,null,null,null,null,207,"000002457","SAN PABLO HUAYOPATA","03","02","09","03","0302","000002457 - SAN PABLO HUAYOPATA"]
[null,null,null,null,null,null,null,null,null,null,null,null,null,208,"000010075","CAP HUYRO - ESSALUD","03","02","09","03","0302","000010075 - CAP HUYRO - ESSALUD"]
[null,null,null,null,null,null,null,null,null,null,null,null,null,209,"000002458","MARANURA","03","02","09","04","0302","000002458 - MARANURA"]
[null,null,null,null,null,null,null,null,null,null,null,null,null,210,"000002460","SANTA MARIA","03","02","09","04","0302","000002460 - SANTA MARIA"]
[null,null,null,null,null,null,null,null,null,null,null,null,null,211,"000002461","UCHUMAYO","03","02","09","04","0302","000002461 - UCHUMAYO"]
[null,null,null,null,null,null,null,null,null,null,null,null,null,212,"000002476","SANTA TERESA","03","02","09","08","0302","000002476 - SANTA TERESA"]
[null,null,null,null,null,null,null,null,null,null,null,null,null,213,"000002477","SULLUCUYOC","03","02","09","08","0302","000002477 - SULLUCUYOC"]
[null,null,null,null,null,null,null,null,null,null,null,null,null,214,"000002478","TOTORA","03","02","09","08","0302","000002478 - TOTORA"]
[null,null,null,null,null,null,null,null,null,null,null,null,null,215,"000000000","(All)","03","03",null,null,"0303","000000000 - (All)"]
[null,null,null,null,null,null,null,null,null,null,null,null,null,216,"000002363","TUPAC AMARU QUELLOUNO","03","03","04","08","0303","000002363 - TUPAC AMARU QUELLOUNO"]
[null,null,null,null,null,null,null,null,null,null,null,null,null,217,"000002462","OCCOBAMBA LACONVENCION","03","03","09","05","0303","000002462 - OCCOBAMBA LACONVENCION"]
[null,null,null,null,null,null,null,null,null,null,null,null,null,218,"000002463","CHINGANILLA","03","03","09","05","0303","000002463 - CHINGANILLA"]
[null,null,null,null,null,null,null,null,null,null,null,null,null,219,"000002465","QUELLOUNO","03","03","09","06","0303","000002465 - QUELLOUNO"]
[null,null,null,null,null,null,null,null,null,null,null,null,null,220,"000002466","HUILLCAPAMPA","03","03","09","06","0303","000002466 - HUILLCAPAMPA"]
[null,null,null,null,null,null,null,null,null,null,null,null,null,221,"000002468","SAN MARTIN","03","03","09","06","0303","000002468 - SAN MARTIN"]
[null,null,null,null,null,null,null,null,null,null,null,null,null,222,"000008906","ESTRELLA","03","03","09","06","0303","000008906 - ESTRELLA"]
[null,null,null,null,null,null,null,null,null,null,null,null,null,223,"000008907","MATORIATO","03","03","09","06","0303","000008907 - MATORIATO"]
[null,null,null,null,null,null,null,null,null,null,null,null,null,224,"000008908","CHIRUMBIA","03","03","09","06","0303","000008908 - CHIRUMBIA"]
[null,null,null,null,null,null,null,null,null,null,null,null,null,225,"000008909","CHAPO BOYERO","03","03","09","06","0303","000008909 - CHAPO BOYERO"]
[null,null,null,null,null,null,null,null,null,null,null,null,null,226,"000000000","(All)","03","04",null,null,"0304","000000000 - (All)"]
[null,null,null,null,null,null,null,null,null,null,null,null,null,227,"000002427","KITENI","03","04","09","02","0304","000002427 - KITENI"]
[null,null,null,null,null,null,null,null,null,null,null,null,null,228,"000002431","IVOCHOTE","03","04","09","02","0304","000002431 - IVOCHOTE"]
[null,null,null,null,null,null,null,null,null,null,null,null,null,229,"000002438","PACHIRI","03","04","09","02","0304","000002438 - PACHIRI"]
[null,null,null,null,null,null,null,null,null,null,null,null,null,230,"000002440","PANGOA","03","04","09","02","0304","000002440 - PANGOA"]
[null,null,null,null,null,null,null,null,null,null,null,null,null,231,"000002443","SANIRIATO","03","04","09","02","0304","000002443 - SANIRIATO"]
[null,null,null,null,null,null,null,null,null,null,null,null,null,232,"000002447","KAMANQUIRIATO","03","04","09","02","0304","000002447 - KAMANQUIRIATO"]
[null,null,null,null,null,null,null,null,null,null,null,null,null,233,"000014531","CAP I ECHARATE - KITENI","03","04","09","02","0304","000014531 - CAP I ECHARATE - KITENI"]
[null,null,null,null,null,null,null,null,null,null,null,null,null,234,"000024583","BCT N° 314 - KEPASHIATO","03","04","09","02","0304","000024583 - BCT N° 314 - KEPASHIATO"]
[null,null,null,null,null,null,null,null,null,null,null,null,null,235,"000002489","YUVENI","03","04","09","09","0304","000002489 - YUVENI"]
[null,null,null,null,null,null,null,null,null,null,null,null,null,236,"000002493","SELVA ALEGRE","03","04","09","09","0304","000002493 - SELVA ALEGRE"]
[null,null,null,null,null,null,null,null,null,null,null,null,null,237,"000006976","CHONTABAMBA","03","04","09","09","0304","000006976 - CHONTABAMBA"]
[null,null,null,null,null,null,null,null,null,null,null,null,null,238,"000002432","KEPASHIATO","03","04","09","15","0304","000002432 - KEPASHIATO"]
[null,null,null,null,null,null,null,null,null,null,null,null,null,239,"000002434","MATERIATO","03","04","09","15","0304","000002434 - MATERIATO"]
[null,null,null,null,null,null,null,null,null,null,null,null,null,240,"000013068","TRIO RIO","03","04","09","15","0304","000013068 - TRIO RIO"]
[null,null,null,null,null,null,null,null,null,null,null,null,null,241,"000013069","PUGUIENTIMARI","03","04","09","15","0304","000013069 - PUGUIENTIMARI"]
[null,null,null,null,null,null,null,null,null,null,null,null,null,242,"000000000","(All)","03","05",null,null,"0305","000000000 - (All)"]
[null,null,null,null,null,null,null,null,null,null,null,null,null,243,"000002426","KIRIGUETI","03","05","09","14","0305","000002426 - KIRIGUETI"]
[null,null,null,null,null,null,null,null,null,null,null,null,null,244,"000002428","CHOCORIARI","03","05","09","14","0305","000002428 - CHOCORIARI"]
[null,null,null,null,null,null,null,null,null,null,null,null,null,{"$f":"+N268+1","v":245},"000002435","MIARIA","03","05","09","14","0305","000002435 - MIARIA"]
[null,null,null,null,null,null,null,null,null,null,null,null,null,246,"000002436","NUEVA LUZ","03","05","09","14","0305","000002436 - NUEVA LUZ"]
[null,null,null,null,null,null,null,null,null,null,null,null,null,247,"000002437","NUEVO MUNDO","03","05","09","14","0305","000002437 - NUEVO MUNDO"]
[null,null,null,null,null,null,null,null,null,null,null,null,null,248,"000002441","PUERTO HUALLANA","03","05","09","14","0305","000002441 - PUERTO HUALLANA"]
[null,null,null,null,null,null,null,null,null,null,null,null,null,249,"000002442","PUERTO RICO","03","05","09","14","0305","000002442 - PUERTO RICO"]
[null,null,null,null,null,null,null,null,null,null,null,null,null,250,"000002444","SENSA","03","05","09","14","0305","000002444 - SENSA"]
[null,null,null,null,null,null,null,null,null,null,null,null,null,251,"000002445","TIMPIA","03","05","09","14","0305","000002445 - TIMPIA"]
[null,null,null,null,null,null,null,null,null,null,null,null,null,252,"000002448","KAMISEA","03","05","09","14","0305","000002448 - KAMISEA"]
[null,null,null,null,null,null,null,null,null,null,null,null,null,253,"000002452","SHIVANKORENI","03","05","09","14","0305","000002452 - SHIVANKORENI"]
[null,null,null,null,null,null,null,null,null,null,null,null,null,254,"000013066","MONTETONI","03","05","09","14","0305","000013066 - MONTETONI"]
[null,null,null,null,null,null,null,null,null,null,null,null,null,255,"000013067","TANGOSHIARI","03","05","09","14","0305","000013067 - TANGOSHIARI"]
[null,null,null,null,null,null,null,null,null,null,null,null,null,256,"000015235","NUEVA VIDA","03","05","09","14","0305","000015235 - NUEVA VIDA"]
[null,null,null,null,null,null,null,null,null,null,null,null,null,257,"000015843","CASHIRIARI","03","05","09","14",{"$f":"CONCATENATE(Q281,R281)","v":"0305"},{"$f":"CONCATENATE(O281,\" - \",P281)","v":"000015843 - CASHIRIARI"}]
[null,null,null,null,null,null,null,null,null,null,null,null,null,258,"000015844","CAMANA","03","05","09","14","0305","000015844 - CAMANA"]
[null,null,null,null,null,null,null,null,null,null,null,null,null,259,"000000000","(All)","03","06",null,null,"0306","000000000 - (All)"]
[null,null,null,null,null,null,null,null,null,null,null,null,null,260,"000002480","PUCYURA","03","06","09","09","0306","000002480 - PUCYURA"]
[null,null,null,null,null,null,null,null,null,null,null,null,null,261,"000002484","OYARA","03","06","09","09","0306","000002484 - OYARA"]
[null,null,null,null,null,null,null,null,null,null,null,null,null,262,"000002486","PAMPACONAS","03","06","09","09","0306","000002486 - PAMPACONAS"]
[null,null,null,null,null,null,null,null,null,null,null,null,null,263,"000002490","ARMA","03","06","09","09","0306","000002490 - ARMA"]
[null,null,null,null,null,null,null,null,null,null,null,null,null,264,"000002492","PALTAYBAMBA","03","06","09","09","0306","000002492 - PALTAYBAMBA"]
[null,null,null,null,null,null,null,null,null,null,null,null,null,265,"000002481","CCARCCO","03","06","09","11","0306","000002481 - CCARCCO"]
[null,null,null,null,null,null,null,null,null,null,null,null,null,266,"000002482","INCAHUASI","03","06","09","11","0306","000002482 - INCAHUASI"]
[null,null,null,null,null,null,null,null,null,null,null,null,null,267,"000002485","PACCAYBAMBA","03","06","09","11","0306","000002485 - PACCAYBAMBA"]
[null,null,null,null,null,null,null,null,null,null,null,null,null,268,"000002487","CHOQUETIRA","03","06","09","11","0306","000002487 - CHOQUETIRA"]
[null,null,null,null,null,null,null,null,null,null,null,null,null,269,"000002491","LUCMAHUAYCO","03","06","09","11","0306","000002491 - LUCMAHUAYCO"]
[null,null,null,null,null,null,null,null,null,null,null,null,null,270,"000035520","CHANCAVINE","03","06","09","12","0306","000035520 - CHANCAVINE"]
[null,null,null,null,null,null,null,null,null,null,null,null,null,271,"000000000","(All)","03","07",null,null,"0307","000000000 - (All)"]
[null,null,null,null,null,null,null,null,null,null,null,null,null,272,"000002429","CIRIALO","03","07","09","02","0307","000002429 - CIRIALO"]
[null,null,null,null,null,null,null,null,null,null,null,null,null,273,"000002433","KORIBENI","03","07","09","02","0307","000002433 - KORIBENI"]
[null,null,null,null,null,null,null,null,null,null,null,null,null,274,"000002439","PALMA REAL","03","07","09","02","0307","000002439 - PALMA REAL"]
[null,null,null,null,null,null,null,null,null,null,null,null,null,275,"000002449","ICHIQUIATO","03","07","09","02","0307","000002449 - ICHIQUIATO"]
[null,null,null,null,null,null,null,null,null,null,null,null,null,276,"000002450","SAN ANTONIO","03","07","09","02","0307","000002450 - SAN ANTONIO"]
[null,null,null,null,null,null,null,null,null,null,null,null,null,277,"999999999","(All)","03","99",null,null,"0399","999999999 - (All)"]
[null,null,null,null,null,null,null,null,null,null,null,null,null,278,"000000000","(All)","04","00",null,null,"0400","000000000 - (All)"]
[null,null,null,null,null,null,null,null,null,null,null,null,null,279,"000002378","SICUANI","04","00","06","01","0400","000002378 - SICUANI"]
[null,null,null,null,null,null,null,null,null,null,null,null,null,280,"000007135","ESPINAR","04","00","08","01","0400","000007135 - ESPINAR"]
[null,null,null,null,null,null,null,null,null,null,null,null,null,281,"000000000","(All)","04","01",null,null,"0401","000000000 - (All)"]
[null,null,null,null,null,null,null,null,null,null,null,null,null,282,"000002364","YANAOCA","04","01","05","01","0401","000002364 - YANAOCA"]
[null,null,null,null,null,null,null,null,null,null,null,null,null,283,"000002365","PONGOÑA","04","01","05","01","0401","000002365 - PONGOÑA"]
[null,null,null,null,null,null,null,null,null,null,null,null,null,284,"000018241","HAMPATURA","04","01","05","01","0401","000018241 - HAMPATURA"]
[null,null,null,null,null,null,null,null,null,null,null,null,null,285,"000002367","CHITIBAMBA","04","01","05","02","0401","000002367 - CHITIBAMBA"]
[null,null,null,null,null,null,null,null,null,null,null,null,null,286,"000002372","PAMPAMARCA","04","01","05","06","0401","000002372 - PAMPAMARCA"]
[null,null,null,null,null,null,null,null,null,null,null,null,null,287,"000002373","QUEHUE","04","01","05","07","0401","000002373 - QUEHUE"]
[null,null,null,null,null,null,null,null,null,null,null,null,null,288,"000002374","HUINCHIRI","04","01","05","07","0401","000002374 - HUINCHIRI"]
[null,null,null,null,null,null,null,null,null,null,null,null,null,289,"000034449","CHAUPIBANDA","04","01","05","07","0401","000034449 - CHAUPIBANDA"]
[null,null,null,null,null,null,null,null,null,null,null,null,null,290,"000002375","SURIMANA","04","01","05","08","0401","000002375 - SURIMANA"]
[null,null,null,null,null,null,null,null,null,null,null,null,null,291,"000002376","TUNGASUCA","04","01","05","08","0401","000002376 - TUNGASUCA"]
[null,null,null,null,null,null,null,null,null,null,null,null,null,292,"000002377","TOCCOCCORI","04","01","05","08","0401","000002377 - TOCCOCCORI"]
[null,null,null,null,null,null,null,null,null,null,null,null,null,293,"000032339","CCOCHAPATA","04","01","05","08","0401","000032339 - CCOCHAPATA"]
[null,null,null,null,null,null,null,null,null,null,null,null,null,294,"000000000","(All)","04","02",null,null,"0402","000000000 - (All)"]
[null,null,null,null,null,null,null,null,null,null,null,null,null,295,"000002366","CHECCA","04","02","05","02","0402","000002366 - CHECCA"]
[null,null,null,null,null,null,null,null,null,null,null,null,null,296,"000007700","EL DESCANSO","04","02","05","03","0402","000007700 - EL DESCANSO"]
[null,null,null,null,null,null,null,null,null,null,null,null,null,297,"000002369","LANGUI","04","02","05","04","0402","000002369 - LANGUI"]
[null,null,null,null,null,null,null,null,null,null,null,null,null,298,"000002370","CONDEVILUYO","04","02","05","04","0402","000002370 - CONDEVILUYO"]
[null,null,null,null,null,null,null,null,null,null,null,null,null,299,"000002371","LAYO","04","02","05","05","0402","000002371 - LAYO"]
[null,null,null,null,null,null,null,null,null,null,null,null,null,300,"000000000","(All)","04","03",null,null,"0403","000000000 - (All)"]
[null,null,null,null,null,null,null,null,null,null,null,null,null,301,"000002320","MOSOCLLACTA","04","03","02","04","0403","000002320 - MOSOCLLACTA"]
[null,null,null,null,null,null,null,null,null,null,null,null,null,302,"000034929","CHECACUPE","04","03","06","02","0403","000034929 - CHECACUPE"]
[null,null,null,null,null,null,null,null,null,null,null,null,null,303,"000002386","COMBAPATA CANCHIS","04","03","06","03","0403","000002386 - COMBAPATA CANCHIS"]
[null,null,null,null,null,null,null,null,null,null,null,null,null,304,"000034448","CHIARA","04","03","06","03","0403","000034448 - CHIARA"]
[null,null,null,null,null,null,null,null,null,null,null,null,null,305,"000034887","PITUMARCA","04","03","06","05","0403","000034887 - PITUMARCA"]
[null,null,null,null,null,null,null,null,null,null,null,null,null,306,"000002397","TINTA","04","03","06","08","0403","000002397 - TINTA"]
[null,null,null,null,null,null,null,null,null,null,null,null,null,307,"000000000","(All)","04","04",null,null,"0404","000000000 - (All)"]
[null,null,null,null,null,null,null,null,null,null,null,null,null,308,"000002379","HERCCA","04","04","06","01","0404","000002379 - HERCCA"]
[null,null,null,null,null,null,null,null,null,null,null,null,null,{"$f":"+N332+1","v":309},"000002380","TECHO OBRERO","04","04","06","01","0404","000002380 - TECHO OBRERO"]
[null,null,null,null,null,null,null,null,null,null,null,null,null,310,"000010063","ESSALUD SICUANI","04","04","06","01","0404","000010063 - ESSALUD SICUANI"]
[null,null,null,null,null,null,null,null,null,null,null,null,null,311,"000024639","INPE SICUANI","04","04","06","01","0404","000024639 - INPE SICUANI"]
[null,null,null,null,null,null,null,null,null,null,null,null,null,312,"000024663","SANIDAD PNP  SICUANI","04","04","06","01","0404","000024663 - SANIDAD PNP  SICUANI"]
[null,null,null,null,null,null,null,null,null,null,null,null,null,313,"000002388","MARANGANI","04","04","06","04","0404","000002388 - MARANGANI"]
[null,null,null,null,null,null,null,null,null,null,null,null,null,314,"000002389","CHECTUYOC","04","04","06","04","0404","000002389 - CHECTUYOC"]
[null,null,null,null,null,null,null,null,null,null,null,null,null,315,"000002390","CCUYO","04","04","06","04","0404","000002390 - CCUYO"]
[null,null,null,null,null,null,null,null,null,null,null,null,null,316,"000002391","OCCOBAMBA MARANGANI","04","04","06","04","0404","000002391 - OCCOBAMBA MARANGANI"]
[null,null,null,null,null,null,null,null,null,null,null,null,null,317,"000000000","(All)","04","05",null,null,"0405","000000000 - (All)"]
[null,null,null,null,null,null,null,null,null,null,null,null,null,318,"000002381","QUEHUAR","04","05","06","01","0405","000002381 - QUEHUAR"]
[null,null,null,null,null,null,null,null,null,null,null,null,null,319,"000002382","UZCUPATA","04","05","06","01","0405","000002382 - UZCUPATA"]
[null,null,null,null,null,null,null,null,null,null,null,null,null,320,"000002383","LA FLORIDA","04","05","06","01","0405","000002383 - LA FLORIDA"]
[null,null,null,null,null,null,null,null,null,null,null,null,null,321,"000026387","MENTAL COMUNITARIO SICUANI","04","05","06","01","0405","000026387 - MENTAL COMUNITARIO SICUANI"]
[null,null,null,null,null,null,null,null,null,null,null,null,null,322,"000032923","SR DE PAMPACUCHO-SICUANI","04","05","06","01","0405","000032923 - SR DE PAMPACUCHO-SICUANI"]
[null,null,null,null,null,null,null,null,null,null,null,null,null,323,"000035845","PAMPAPHALLA","04","05","06","01","0405","000035845 - PAMPAPHALLA"]
[null,null,null,null,null,null,null,null,null,null,null,null,null,324,"000035848","MENTAL COMUNITARIO SICUANI","04","05","06","01",{"$f":"CONCATENATE(Q348,R348)","v":"0405"},{"$f":"CONCATENATE(O348,\" - \",P348)","v":"000035848 - MENTAL COMUNITARIO SICUANI"}]
[null,null,null,null,null,null,null,null,null,null,null,null,null,325,"000002393","PHINAYA","04","05","06","05","0405","000002393 - PHINAYA"]
[null,null,null,null,null,null,null,null,null,null,null,null,null,326,"000002394","SAN PABLO CANCHIS","04","05","06","06","0405","000002394 - SAN PABLO CANCHIS"]
[null,null,null,null,null,null,null,null,null,null,null,null,null,327,"000002395","SANTA BARBARA","04","05","06","06","0405","000002395 - SANTA BARBARA"]
[null,null,null,null,null,null,null,null,null,null,null,null,null,328,"000002396","SAN PEDRO CANCHIS","04","05","06","07","0405","000002396 - SAN PEDRO CANCHIS"]
[null,null,null,null,null,null,null,null,null,null,null,null,null,329,"000000000","(All)","04","06",null,null,"0406","000000000 - (All)"]
[null,null,null,null,null,null,null,null,null,null,null,null,null,330,"000002410","YAURI","04","06","08","01","0406","000002410 - YAURI"]
[null,null,null,null,null,null,null,null,null,null,null,null,null,331,"000006745","TINTAYA MARQUIRI","04","06","08","01","0406","000006745 - TINTAYA MARQUIRI"]
[null,null,null,null,null,null,null,null,null,null,null,null,null,332,"000010061","ESPINAR - ESSALUD","04","06","08","01","0406","000010061 - ESPINAR - ESSALUD"]
[null,null,null,null,null,null,null,null,null,null,null,null,null,333,"000030366","MENTAL COMUNITARIO ESPINAR \"MUSUQ KAWSAY\"","04","06","08","01","0406","000030366 - MENTAL COMUNITARIO ESPINAR \"MUSUQ KAWSAY\""]
[null,null,null,null,null,null,null,null,null,null,null,null,null,334,"000002411","CONDOROMA","04","06","08","02","0406","000002411 - CONDOROMA"]
[null,null,null,null,null,null,null,null,null,null,null,null,null,335,"000002412","COPORAQUE","04","06","08","03","0406","000002412 - COPORAQUE"]
[null,null,null,null,null,null,null,null,null,null,null,null,null,336,"000002413","URINSAYA","04","06","08","03","0406","000002413 - URINSAYA"]
[null,null,null,null,null,null,null,null,null,null,null,null,null,337,"000002414","HUAYHUAHUASI","04","06","08","03","0406","000002414 - HUAYHUAHUASI"]
[null,null,null,null,null,null,null,null,null,null,null,null,null,338,"000002415","OCCORURO","04","06","08","04","0406","000002415 - OCCORURO"]
[null,null,null,null,null,null,null,null,null,null,null,null,null,339,"000002416","PALLPATA","04","06","08","05","0406","000002416 - PALLPATA"]
[null,null,null,null,null,null,null,null,null,null,null,null,null,340,"000002418","SAN MIGUEL","04","06","08","06","0406","000002418 - SAN MIGUEL"]
[null,null,null,null,null,null,null,null,null,null,null,null,null,341,"000034450","PICHIGUA ESPINAR","04","06","08","06","0406","000034450 - PICHIGUA ESPINAR"]
[null,null,null,null,null,null,null,null,null,null,null,null,null,342,"000002419","SUYKUTAMBO","04","06","08","07","0406","000002419 - SUYKUTAMBO"]
[null,null,null,null,null,null,null,null,null,null,null,null,null,343,"000002420","ACCOCUNCA","04","06","08","08","0406","000002420 - ACCOCUNCA"]
[null,null,null,null,null,null,null,null,null,null,null,null,null,344,"999999999","(All)","04","99",null,null,"0499","999999999 - (All)"]
[null,null,null,null,null,null,null,null,null,null,null,null,null,345,"000002469","SAN JUAN DE KIMBIRI-VRAEM","05","00","09","07","0500","000002469 - SAN JUAN DE KIMBIRI-VRAEM"]
[null,null,null,null,null,null,null,null,null,null,null,null,null,346,"000000000","(All)","05","01",null,null,"0501","000000000 - (All)"]
[null,null,null,null,null,null,null,null,null,null,null,null,null,347,"000002472","MAPITUNARI","05","01","09","07","0501","000002472 - MAPITUNARI"]
[null,null,null,null,null,null,null,null,null,null,null,null,null,348,"000002474","SAMANIATO","05","01","09","07","0501","000002474 - SAMANIATO"]
[null,null,null,null,null,null,null,null,null,null,null,null,null,349,"000002475","KIMBIRI ALTO","05","01","09","07","0501","000002475 - KIMBIRI ALTO"]
[null,null,null,null,null,null,null,null,null,null,null,null,null,350,"000008285","ANGELES","05","01","09","07","0501","000008285 - ANGELES"]
[null,null,null,null,null,null,null,null,null,null,null,null,null,351,"000002479","VILLA VIRGEN","05","01","09","12","0501","000002479 - VILLA VIRGEN"]
[null,null,null,null,null,null,null,null,null,null,null,null,null,352,"000024957","BTC LA OROYA  N°34 VILLA VIRGEN","05","01","09","12","0501","000024957 - BTC LA OROYA  N°34 VILLA VIRGEN"]
[null,null,null,null,null,null,null,null,null,null,null,null,null,353,"000002488","VILLA KINTIARINA","05","01","09","13","0501","000002488 - VILLA KINTIARINA"]
[null,null,null,null,null,null,null,null,null,null,null,null,null,354,"000008283","PUEBLO LIBRE","05","01","09","13","0501","000008283 - PUEBLO LIBRE"]
[null,null,null,null,null,null,null,null,null,null,null,null,null,355,"000002470","CHIRUMPIARI","05","01","09","16","0501","000002470 - CHIRUMPIARI"]
[null,null,null,null,null,null,null,null,null,null,null,null,null,356,"000002471","LOBO TAHUANTINSUYO","05","01","09","17","0501","000002471 - LOBO TAHUANTINSUYO"]
[null,null,null,null,null,null,null,null,null,null,null,null,null,357,"000002473","UNION ROSALES","05","01","09","17","0501","000002473 - UNION ROSALES"]
[null,null,null,null,null,null,null,null,null,null,null,null,null,358,"000008284","MANITEA ALTA","05","01","09","17","0501","000008284 - MANITEA ALTA"]
[null,null,null,null,null,null,null,null,null,null,null,null,null,359,"000000000","(All)","05","02",null,null,"0502","000000000 - (All)"]
[null,null,null,null,null,null,null,null,null,null,null,null,null,360,"000002496","OMAYA","05","02","09","10","0502","000002496 - OMAYA"]
[null,null,null,null,null,null,null,null,null,null,null,null,null,361,"000002497","OTARI","05","02","09","10","0502","000002497 - OTARI"]
[null,null,null,null,null,null,null,null,null,null,null,null,null,362,"000002498","PUERTO MAYO","05","02","09","10","0502","000002498 - PUERTO MAYO"]
[null,null,null,null,null,null,null,null,null,null,null,null,null,363,"000007113","NATIVIDAD","05","02","09","10","0502","000007113 - NATIVIDAD"]
[null,null,null,null,null,null,null,null,null,null,null,null,null,364,"000007114","QUISTO CENTRAL","05","02","09","10","0502","000007114 - QUISTO CENTRAL"]
[null,null,null,null,null,null,null,null,null,null,null,null,null,365,"000015104","TAMBO DEL ENE","05","02","09","10","0502","000015104 - TAMBO DEL ENE"]
[null,null,null,null,null,null,null,null,null,null,null,null,null,366,"000015170","PICHARI BAJA","05","02","09","10","0502","000015170 - PICHARI BAJA"]
[null,null,null,null,null,null,null,null,null,null,null,null,null,367,"000024638","MILITAR PICHARI","05","02","09","10","0502","000024638 - MILITAR PICHARI"]
[null,null,null,null,null,null,null,null,null,null,null,null,null,368,"000027230","MEDICA POLICIAL PICHARI","05","02","09","10","0502","000027230 - MEDICA POLICIAL PICHARI"]
[null,null,null,null,null,null,null,null,null,null,null,null,null,369,"000027948","ESSALUD PICHARI","05","02","09","10","0502","000027948 - ESSALUD PICHARI"]
[null,null,null,null,null,null,null,null,null,null,null,null,null,370,"000032211","NUEVO PROGRESO","05","02","09","10","0502","000032211 - NUEVO PROGRESO"]
[null,null,null,null,null,null,null,null,null,null,null,null,null,371,"000033988","MENTAL COMUNITARIO PICHARI","05","02","09","10","0502","000033988 - MENTAL COMUNITARIO PICHARI"]
[null,null,null,null,null,null,null,null,null,null,null,null,null,372,"000034418","PICHARI VRAEM","05","02","09","10","0502","000034418 - PICHARI VRAEM"]
[null,null,null,null,null,null,null,null,null,null,null,null,null,{"$f":"+N396+1","v":373},"000024637","EJERCITO-INCAHUASI 331","05","02","09","10","0502","000024637 - EJERCITO-INCAHUASI 331"]
[null,null,null,null,null,null,null,null,null,null,null,null,null,374,"000034417","CAP I ECHARATE - KITENI","05","02","09","10","0502","000034417 - CAP I ECHARATE - KITENI"]
[null,null,null,null,null,null,null,null,null,null,null,null,null,375,"000002495","MANTARO","05","02","09","18","0502","000002495 - MANTARO"]
[null,null,null,null,null,null,null,null,null,null,null,null,null,376,"000015169","PITIRINQUINI","05","02","09","18","0502","000015169 - PITIRINQUINI"]
[null,null,null,null,null,null,null,null,null,null,null,null,null,377,"999999999","(All)","05","99",null,null,"0599","999999999 - (All)"]
[null,null,null,null,null,null,null,null,null,null,null,null,null,378,"000002398","SANTO TOMAS","06","00","07","01","0600","000002398 - SANTO TOMAS"]
[null,null,null,null,null,null,null,null,null,null,null,null,null,379,"000000000","(All)","06","01",null,null,"0601","000000000 - (All)"]
[null,null,null,null,null,null,null,null,null,null,null,null,null,380,"000035864","CANGALLE","06","01","07","01","0601","000035864 - CANGALLE"]
[null,null,null,null,null,null,null,null,null,null,null,null,null,381,"000002402","CHAMACA","06","01","07","03","0601","000002402 - CHAMACA"]
[null,null,null,null,null,null,null,null,null,null,null,null,null,382,"000002403","AÑAHUICHI","06","01","07","03","0601","000002403 - AÑAHUICHI"]
[null,null,null,null,null,null,null,null,null,null,null,null,null,383,"000016328","UCCHUCCARCCO","06","01","07","03","0601","000016328 - UCCHUCCARCCO"]
[null,null,null,null,null,null,null,null,null,null,null,null,null,384,"000016329","INGATA","06","01","07","03","0601","000016329 - INGATA"]
[null,null,null,null,null,null,null,null,null,null,null,null,null,385,"000016330","CCONCHACCOLLO","06","01","07","03","0601","000016330 - CCONCHACCOLLO"]
[null,null,null,null,null,null,null,null,null,null,null,null,null,386,"000035861","CCACHO","06","01","07","03","0601","000035861 - CCACHO"]
[null,null,null,null,null,null,null,null,null,null,null,null,null,387,"000035863","TINCURCA","06","01","07","03","0601","000035863 - TINCURCA"]
[null,null,null,null,null,null,null,null,null,null,null,null,null,388,"000002406","LIVITACA","06","01","07","05","0601","000002406 - LIVITACA"]
[null,null,null,null,null,null,null,null,null,null,null,null,null,389,"000016325","CHILLOROYA - LIVITACA","06","01","07","05","0601","000016325 - CHILLOROYA - LIVITACA"]
[null,null,null,null,null,null,null,null,null,null,null,null,null,390,"000016327","AUSANTA","06","01","07","05","0601","000016327 - AUSANTA"]
[null,null,null,null,null,null,null,null,null,null,null,null,null,391,"000016332","PATAQUEÑA - LIVITACA","06","01","07","05","0601","000016332 - PATAQUEÑA - LIVITACA"]
[null,null,null,null,null,null,null,null,null,null,null,null,null,392,"000016334","KISIO","06","01","07","05","0601","000016334 - KISIO"]
[null,null,null,null,null,null,null,null,null,null,null,null,null,393,"000025739","PISQUICOCHA","06","01","07","05","0601","000025739 - PISQUICOCHA"]
[null,null,null,null,null,null,null,null,null,null,null,null,null,394,"000025740","TOTORA - REYNA DE LOS ANGELES","06","01","07","05","0601","000025740 - TOTORA - REYNA DE LOS ANGELES"]
[null,null,null,null,null,null,null,null,null,null,null,null,null,395,"000035860","KAYNO","06","01","07","05",{"$f":"CONCATENATE(Q419,R419)","v":"0601"},{"$f":"CONCATENATE(O419,\" - \",P419)","v":"000035860 - KAYNO"}]
[null,null,null,null,null,null,null,null,null,null,null,null,null,396,"000035862","SANTA ISABEL JALCCO","06","01","07","05","0601","000035862 - SANTA ISABEL JALCCO"]
[null,null,null,null,null,null,null,null,null,null,null,null,null,397,"000000000","(All)","06","09",null,null,"0609","000000000 - (All)"]
[null,null,null,null,null,null,null,null,null,null,null,null,null,398,"000002399","PULPERA","06","09","07","01","0609","000002399 - PULPERA"]
[null,null,null,null,null,null,null,null,null,null,null,null,null,399,"000002400","ALHUACCHULLO","06","09","07","01","0609","000002400 - ALHUACCHULLO"]
[null,null,null,null,null,null,null,null,null,null,null,null,null,400,"000006746","LLIQUE","06","09","07","01","0609","000006746 - LLIQUE"]
[null,null,null,null,null,null,null,null,null,null,null,null,null,401,"000006981","CCOYO","06","09","07","01","0609","000006981 - CCOYO"]
[null,null,null,null,null,null,null,null,null,null,null,null,null,402,"000006982","MELLOTOTORA","06","09","07","01","0609","000006982 - MELLOTOTORA"]
[null,null,null,null,null,null,null,null,null,null,null,null,null,403,"000006983","ORCCOMA","06","09","07","01","0609","000006983 - ORCCOMA"]
[null,null,null,null,null,null,null,null,null,null,null,null,null,404,"000007111","YAVINA","06","09","07","01","0609","000007111 - YAVINA"]
[null,null,null,null,null,null,null,null,null,null,null,null,null,405,"000008915","PFULLPURI CONDEPAMPA","06","09","07","01","0609","000008915 - PFULLPURI CONDEPAMPA"]
[null,null,null,null,null,null,null,null,null,null,null,null,null,406,"000013185","CAP I SANTO TOMÁS  ESSALUD","06","09","07","01","0609","000013185 - CAP I SANTO TOMÁS  ESSALUD"]
[null,null,null,null,null,null,null,null,null,null,null,null,null,407,"000030940","ARCANGEL SAN MIGUEL DE ESQUINA CONGUNYA","06","09","07","01","0609","000030940 - ARCANGEL SAN MIGUEL DE ESQUINA CONGUNYA"]
[null,null,null,null,null,null,null,null,null,null,null,null,null,408,"000002401","CCAPACMARCA","06","09","07","02","0609","000002401 - CCAPACMARCA"]
[null,null,null,null,null,null,null,null,null,null,null,null,null,409,"000009963","CANCAHUANI","06","09","07","02","0609","000009963 - CANCAHUANI"]
[null,null,null,null,null,null,null,null,null,null,null,null,null,410,"000027009","TAHUAY","06","09","07","02","0609","000027009 - TAHUAY"]
[null,null,null,null,null,null,null,null,null,null,null,null,null,411,"000002404","COLQUEMARCA","06","09","07","04","0609","000002404 - COLQUEMARCA"]
[null,null,null,null,null,null,null,null,null,null,null,null,null,412,"000002405","CHARAMURAY","06","09","07","04","0609","000002405 - CHARAMURAY"]
[null,null,null,null,null,null,null,null,null,null,null,null,null,413,"000008913","HUARACO","06","09","07","04","0609","000008913 - HUARACO"]
[null,null,null,null,null,null,null,null,null,null,null,null,null,414,"000008914","HUAYLLANI","06","09","07","04","0609","000008914 - HUAYLLANI"]
[null,null,null,null,null,null,null,null,null,null,null,null,null,415,"000012932","YANQUE","06","09","07","04","0609","000012932 - YANQUE"]
[null,null,null,null,null,null,null,null,null,null,null,null,null,416,"000002407","LLUSCO","06","09","07","06","0609","000002407 - LLUSCO"]
[null,null,null,null,null,null,null,null,null,null,null,null,null,417,"000006747","LUTTO","06","09","07","06","0609","000006747 - LUTTO"]
[null,null,null,null,null,null,null,null,null,null,null,null,null,418,"000006748","COLLPA","06","09","07","06","0609","000006748 - COLLPA"]
[null,null,null,null,null,null,null,null,null,null,null,null,null,419,"000006985","TOTORAPALLCA","06","09","07","06","0609","000006985 - TOTORAPALLCA"]
[null,null,null,null,null,null,null,null,null,null,null,null,null,420,"000027008","ANTUYO","06","09","07","06","0609","000027008 - ANTUYO"]
[null,null,null,null,null,null,null,null,null,null,null,null,null,421,"000002408","QUIÑOTA","06","09","07","07","0609","000002408 - QUIÑOTA"]
[null,null,null,null,null,null,null,null,null,null,null,null,null,422,"000006984","CCOLLANA","06","09","07","07","0609","000006984 - CCOLLANA"]
[null,null,null,null,null,null,null,null,null,null,null,null,null,423,"000007112","YORENCCA","06","09","07","07","0609","000007112 - YORENCCA"]
[null,null,null,null,null,null,null,null,null,null,null,null,null,424,"000025369","PUMALLACTA","06","09","07","07","0609","000025369 - PUMALLACTA"]
[null,null,null,null,null,null,null,null,null,null,null,null,null,425,"000002409","VELILLE","06","09","07","08","0609","000002409 - VELILLE"]
[null,null,null,null,null,null,null,null,null,null,null,null,null,426,"000008912","ALCCA VICTORIA","06","09","07","08","0609","000008912 - ALCCA VICTORIA"]
[null,null,null,null,null,null,null,null,null,null,null,null,null,427,"000025371","TUNTUMA","06","09","07","08","0609","000025371 - TUNTUMA"]
[null,null,null,null,null,null,null,null,null,null,null,null,null,428,"000027011","AYACCASI","06","09","07","08","0609","000027011 - AYACCASI"]
[null,null,null,null,null,null,null,null,null,null,null,null,null,429,"000027016","HUAYCUÑUTA - URCURUTA","06","09","07","08","0609","000027016 - HUAYCUÑUTA - URCURUTA"]
[null,null,null,null,null,null,null,null,null,null,null,null,null,430,"999999999","(All)","99","99",null,null,"9999","999999999 - (All)"]

{"sheet":"TABLAS","index":2,"n_rows":482,"n_cols":231,"rows_kept":482,"cut":false,"hidden":true,"merged":[[13,3,13,6],[267,0,267,1],[297,0,297,1],[327,0,327,1],[94,0,94,1],[128,0,128,1],[162,0,162,1],[197,0,197,1],[11,3,11,6],[12,3,12,6],[7,2,7,6],[8,3,8,6],[9,3,9,6],[10,3,10,6],[479,0,479,1],[232,0,232,1],[357,0,357,1],[388,0,388,1],[418,0,418,1],[449,0,449,1]]}
[]
[]
[]
[]
[]
[]
[]
[null,null,"Valores",null,null,null,null,null,"Tabla",{"$f":"IF(I9=\"(Todas)\",\"CUSCO \",\"\")","v":""}]
[null,null,"RED","03 - LA CONVENCION",null,null,null,null,{"$f":"IF(MID(D9,1,2)=\"99\",\"(All)\",MID(D9,1,2))","v":"03"},{"$f":"IF(I9=\"(All)\",\" \",I9)","v":"03"},null,null,{"$f":"LEN(MID(D9,5,90))","v":14},null,{"$f":"IF(MID(D9,6,5)=\"(All)\",\"\",D9)","v":"03 - LA CONVENCION"}]
[null,null,"Micro RED","0399 - (All)",null,null,null,null,{"$f":"IF(MID(D10,3,2)=\"99\",\"(All)\",MID(D10,1,4))","v":"(All)"}," ",null,null,{"$f":"LEN(MID(D10,7,90))","v":6},null,{"$f":"IF(MID(D10,8,5)=\"(All)\",\"\",D10)","v":""}]
[null,null,"Establecimiento","999999999 - (All)",null,null,null,null,{"$f":"IF(OR(MID(D11,1,9)=\"999999999\",MID(D11,1,9)=\"000000000\"),\"(All)\",MID(D11,1,9))","v":"(All)"}," ",null,null,{"$f":"LEN(MID(D11,12,90))","v":6},null,{"$f":"IF(MID(D11,13,5)=\"(All)\",\"\",D11)","v":""}]
[null,null,"Provincia","00 - (All)",null,null,null,null,{"$f":"IF(MID(D12,1,2)=\"00\",\"(All)\",MID(D12,1,2))","v":"(All)"}," ",null,null,{"$f":"LEN(MID(D12,6,90))","v":5},null,{"$f":"IF(MID(D12,6,5)=\"(All)\",\"\",D12)","v":""}]
[null,null,"Distrito","0000 - (All)",null,null,null,null,{"$f":"IF(OR(MID(D13,1,4)=\"0000\",MID(D13,3,2)=\"00\"),\"(All)\",MID(D13,1,4))","v":"(All)"}," ",null,null,{"$f":"LEN(MID(D13,8,90))","v":5},null,{"$f":"IF(MID(D13,8,5)=\"(All)\",\"\",D13)","v":""}]
[null,null,"Ejecutora","99 - (ALL)",null,null,null,null,{"$f":"IF(MID(D14,1,2)=\"99\",\"(All)\",MID(D14,1,2))","v":"(All)"}," ",null,null,{"$f":"LEN(MID(D14,5,90))","v":6},null,{"$f":"IF(MID(D14,6,5)=\"(All)\",\"\",D14)","v":""}]
[]
[null,null,"Año","2025",null,null,null,null,{"$f":"+D16","v":"2025"},{"$f":"IF(I16=\"(Todas)\",\" \",I16)","v":"2025"}]
[]
[]
[]
[null,1,1,1,0,0,0,0,0,0,0,0,0,{"$f":"SUM(B20:M20)","v":3}]
[null,{"$f":"IF(B20=1,\"ENERO\",\"\")","v":"ENERO"},{"$f":"IF(C20=1,\"FEBRERO\",\"\")","v":"FEBRERO"},{"$f":"IF(D20=1,\"MARZO\",\"\")","v":"MARZO"},{"$f":"IF(E20=1,\"ABRIL\",\"\")","v":""},{"$f":"IF(F20=1,\"MAYO\",\"\")","v":""},{"$f":"IF(G20=1,\"JUNIO\",\"\")","v":""},{"$f":"IF(H20=1,\"JULIO\",\"\")","v":""},{"$f":"IF(I20=1,\"AGOSTO\",\"\")","v":""},{"$f":"IF(J20=1,\"SETIEMBRE\",\"\")","v":""},{"$f":"IF(K20=1,\"OCTUBRE\",\"\")","v":""},{"$f":"IF(L20=1,\"NOVIEMBRE\",\"\")","v":""},{"$f":"IF(M20=1,\"DICIEMBRE\",\"\")","v":""},{"$f":"IF(B20=1,B21,IF(C20=1,C21,IF(D20=1,D21,IF(E20=1,E21,IF(F20=1,F21,IF(G20=1,G21,IF(H20=1,H21,IF(I20=1,I21,IF(J20=1,J21,IF(K20=1,K21,IF(L20=1,L21,IF(M20=1,M21,\"\"))))))))))))","v":"ENERO"}]
[null,null,null,null,null,null,null,null,null,null,null,null,null,{"$f":"IF(N20=1,N21,\"\")","v":""}]
[null,2,4,6,null,null,null,null,null,null,null,null,null,{"$f":"MIN(B23:M23)","v":2},{"$f":"MAX(B23:M23)","v":6},{"$f":"MAX(C23:N23)","v":6}]
[null,{"$f":"IF(B23=2,\"ENE\",\"\")","v":"ENE"},{"$f":"IF(C23=4,\"FEB\",\"\")","v":"FEB"},{"$f":"IF(D23=6,\"MAR\",\"\")","v":"MAR"},{"$f":"IF(E23=8,\"ABR\",\"\")","v":""},{"$f":"IF(F23=10,\"MAY\",\"\")","v":""},{"$f":"IF(G23=12,\"JUN\",\"\")","v":""},{"$f":"IF(H23=14,\"JUL\",\"\")","v":""},{"$f":"IF(I23=16,\"AGO\",\"\")","v":""},{"$f":"IF(J23=18,\"SET\",\"\")","v":""},{"$f":"IF(K23=20,\"OCT\",\"\")","v":""},{"$f":"IF(L23=22,\"NOV\",\"\")","v":""},{"$f":"IF(M23=24,\"DIC\",\"\")","v":""},{"$f":"IF(N23=B23,B24,IF(N23=C23,C24,IF(N23=D23,D24,IF(N23=E23,E24,IF(N23=F23,F24,IF(N23=G23,G24,IF(N23=H23,H24,IF(N23=I23,I24,IF(N23=J23,J24,IF(N23=K23,K24,IF(N23=L23,L24,IF(N23=M23,M24,\"\"))))))))))))","v":"ENE"},{"$f":"IF(O23=C23,C24,IF(O23=D23,D24,IF(O23=E23,E24,IF(O23=F23,F24,IF(O23=G23,G24,IF(O23=H23,H24,IF(O23=I23,I24,IF(O23=J23,J24,IF(O23=K23,K24,IF(O23=L23,L24,IF(O23=M23,M24,\"\")))))))))))","v":"MAR"},{"$f":"IF(P23=D23,D24,IF(P23=E23,E24,IF(P23=F23,F24,IF(P23=G23,G24,IF(P23=H23,H24,IF(P23=I23,I24,IF(P23=J23,J24,IF(P23=K23,K24,IF(P23=L23,L24,IF(P23=M23,M24,IF(P23=N23,N24,\"\")))))))))))","v":"MAR"}]
[null,null,null,null,null,null,null,null,null,null,null,null,null,{"$f":"CONCATENATE(N24,\" - \",O24)","v":"ENE - MAR"}]
[null,null,null,null,null,null,null,null,null,null,null,null,null,{"$f":"IF(N23=O23,N22,N25)","v":"ENE - MAR"}]
[]
[]
[]
[]
[]
[]
[]
[]
[]
[]
[]
[]
[]
[]
[]
[]
[]
[]
[]
[]
[]
[]
[]
[]
[]
[]
[]
[]
[]
[]
[]
[]
[]
[]
[]
[]
[]
[]
[]
["PproD_001-1"]
["ANNO",2025]
["cod_red","03"]
["codmic","(Todas)"]
["cod_prov","(Todas)"]
["coddist","(Todas)"]
["cod_estab","(Todas)"]
["cod_eje","(Todas)"]
[null,null,null,null,null,null,null,null,null,null,null,null,null,null,null,null,null,null,null,null,null,null,null,null,null,null,null,null,null,null,null,null,null,null,null,null,"d_du","d_du","d_du","d_du","d_du","t_du","t_du","t_du","t_du","t_du","c_du","c_du","ct_du","ct_du"]
[null,"Valores"]
["Etiquetas de fila"," BAS001"," BAS002"," BAS003"," BAS004"," BAS005"," BAS006"," BAS007"," BAS008"," BAS009"," BAS010"," BAS011"," BAS012"," BAS013"," BAS014"," BAS015"," BAS016"," BAS017"," BAS018"," BAS019"," BAS020"," BAS021"," BAS022"," BAS023"," BAS024"," BAS025"," BAS026"," BAS027"," BAS028"," BAS029"," BAS030"," BAS031"," BAS032"," BAS033"," BAS034"," BAS035"," BAS036"," BAS037"," BAS038"," BAS039"," BAS040"," BAS041"," BAS042"," BAS043"," BAS044"," BAS045"," BAS046"," BAS047"," BAS048"," BAS049"," BAS050"," BAS051"," BAS052"," BAS053"," BAS054"," BAS055"," BAS056"," BAS057"," BAS058"," BAS059"," BAS060"," BAS061"," BAS062"," BAS063"," BAS064"," BAS065"," BAS066"," BAS067"," BAS068"," BAS069"," BAS070"," BAS071"," BAS072"," BAS073"," BAS074"," BAS075"," BAS076"," BAS077"," BAS078"," BAS079"," BAS080"," BAS081"," BAS082"," BAS083"," BAS084"," BAS085"," BAS086"," BAS087"," BAS088"," BAS089"," BAS090"," BAS091"," BAS092"," BAS093"," BAS094"," BAS095"," BAS096"," BAS097"," BAS098"," BAS099"," BAS100"," BAS101"," BAS102"," BAS103"," BAS104"," BAS105"," BAS106"," BAS107"," BAS108"," BAS109"," BAS110"," BAS111"," BAS112"," BAS113"," BAS114"," BAS115"," BAS116"," BAS117"," BAS118"," BAS119"," BAS120"," BAS121"," BAS122"," BAS123"," BAS124"," BAS125"," BAS126"," BAS127"," BAS128"," BAS129"," BAS130"," BAS131"," BAS132"," BAS133"," BAS134"," BAS135"," BAS136"," BAS137"," BAS138"," BAS139"," BAS140"," BAS141"," BAS142"," BAS143"," BAS144"," BAS145"," BAS146"," BAS147"," BAS148"," BAS149"," BAS150"," BAS151"," BAS152"," BAS153"," BAS154"," BAS155"," BAS156"," BAS157"," BAS158"," BAS159"," BAS160"," BAS161"," BAS162"," BAS163"," BAS164"," BAS165"," BAS166"," BAS167"," BAS168"," BAS169"," BAS170"," BAS171"," BAS172"," BAS173"," BAS174"," BAS175"," BAS176"," BAS177"," BAS178"," BAS179"," BAS180"," BAS181"," BAS182"," BAS183"," BAS184"," BAS185"," BAS186"," BAS187"," BAS188"," BAS189"," BAS190"," BAS191"," BAS192"," BAS193"," BAS194"," BAS195"," BAS196"," BAS197"," BAS198"," BAS199"," BAS200"," BAS201"," BAS202"," BAS203"," BAS204"," BAS205"," BAS206"," BAS207"," BAS208"," BAS209"," BAS210"," BAS211"," BAS212"," BAS213"," BAS214"," BAS215"," BAS216"," BAS217"," BAS218"," BAS219"," BAS220"," BAS221"," BAS222"," BAS223"," BAS224"," BAS225"," BAS226"," BAS227"," BAS228"," BAS229"," BAS230"]
[1,3,4,0,0,1,1,0,0,0,0,1,0,0,0,0,0,0,0,40,52,36,48,0,4,6,8,24,27,79,42,54,29,51,37,26,25,9,1,3,2,1,4,1,20,6,19,1,20,1,20,1,20,1,20,0,0,0,0,0,0,0,0,0,0,0,0,0,0,0,0,0,0,0,0,0,0,0,0,0,0,0,0,0,0,1,15,0,0,0,0,1,15,0,0,0,0,0,0,0,0,0,0,0,0,0,0,0,0,0,0,0,0,0,0,1,6,4,29,1,30,1,30,0,0,1,30,1,30,0,0,1,30,1,30,0,0,0,0,0,0,0,0,0,0,0,0,0,0,0,0,0,0,0,0,0,0,0,0,0,0,0,0,0,0,0,0,0,0,0,0,0,0,0,0,0,0,7,0,0,30,0,0,0,0,0,0,0,0,0,0,0,0,0,0,0,0,0,0,0,0,0,0,0,0,0,0,0,0,0,0,0,0,0,0,0,0,0,0,0,0,0,0,0,0,0,0,0,0,0,0]
[2,15,10,7,4,0,1,3,0,0,0,0,0,1,1,0,0,0,0,46,59,41,51,3,4,9,10,25,15,67,48,40,39,27,41,31,20,2,3,0,4,3,2,4,13,6,29,0,0,0,0,0,0,0,0,0,0,0,0,0,0,0,0,0,0,0,0,0,0,0,0,0,0,0,0,0,0,0,0,0,0,0,0,2,14,4,33,4,43,0,0,4,33,4,43,0,0,0,0,0,0,0,0,0,0,0,0,0,0,0,0,0,0,0,0,4,41,37,239,6,36,2,12,1,5,2,10,2,17,2,17,1,12,4,24,0,0,0,0,0,0,2,10,2,10,2,10,0,0,0,0,0,0,0,0,0,0,2,38,37,1,5,5,1,3,0,0,1,4,1,4,0,0,0,0,0,0,25,0,0,36,0,0,0,0,0,0,0,0,0,0,0,0,0,0,0,0,0,0,0,0,0,0,0,0,0,0,0,0,0,0,0,0,0,0,0,0,0,0,0,0,0,0,0,0,0,0,0,0,0,0]
[3,45,34,0,2,6,15,0,0,0,0,0,0,32,28,0,0,6,10,53,60,49,56,1,1,5,6,16,18,65,47,41,29,29,27,28,24,5,1,2,2,4,2,0,0,2,4,1,1,0,0,0,0,0,0,0,0,0,0,0,0,0,0,0,0,0,0,0,0,0,0,0,0,0,0,0,0,0,0,0,0,0,0,1,10,2,20,1,10,0,0,2,20,1,10,0,0,0,0,0,0,0,0,0,0,0,0,0,0,0,0,0,0,0,0,3,58,13,74,3,66,2,10,0,0,4,19,3,5,1,10,0,0,2,11,2,14,2,14,1,12,2,11,3,12,2,7,0,0,1,6,1,6,0,0,0,0,1,18,17,4,28,26,0,0,1,1,15,105,6,51,1,18,0,0,1,3,79,0,0,66,3,0,0,0,0,0,0,0,0,0,0,0,0,0,0,0,0,0,0,0,0,0,0,0,0,0,0,0,0,0,0,0,0,0,0,0,0,0,0,0,0,0,0,0,0,0,0,0,0,0]
["T",63,48,7,6,7,17,3,0,0,0,1,0,33,29,0,0,6,10,139,171,126,155,4,9,20,24,65,60,211,137,135,97,107,105,85,69,16,5,5,8,8,8,5,33,14,52,2,21,1,20,1,20,1,20,0,0,0,0,0,0,0,0,0,0,0,0,0,0,0,0,0,0,0,0,0,0,0,0,0,0,0,0,3,24,7,68,5,53,0,0,7,68,5,53,0,0,0,0,0,0,0,0,0,0,0,0,0,0,0,0,0,0,0,0,8,105,54,342,10,132,5,52,1,5,7,59,6,52,3,27,2,42,7,65,2,14,2,14,1,12,4,21,5,22,4,17,0,0,1,6,1,6,0,0,0,0,3,56,54,5,33,31,1,3,1,1,16,109,7,55,1,18,0,0,1,3,111,0,0,132,3,0,0,0,0,0,0,0,0,0,0,0,0,0,0,0,0,0,0,0,0,0,0,0,0,0,0,0,0,0,0,0,0,0,0,0,0,0,0,0,0,0,0,0,0,0,0,0,0,0]
[]
[]
[]
[]
[]
[]
[]
[]
[]
[]
[]
[]
["TOTAL"]
[{"$f":"COUNT(A77:A91)","v":3},{"$f":"SUM(B77:B91)","v":126},{"$f":"SUM(C77:C91)","v":96},14,12,14,34,6,0,0,0,2,0,66,58,0,0,12,20,278,342,252,310,8,18,40,48,130,120,422,274,270,194,214,210,170,138,32,10,10,16,16,16,10,66,28,104,4,42,2,40,2,40,2,40,0,0,0,0,0,0,0,0,0,0,0,{"$f":"SUM(BO77:BO91)","v":0},0,0,0,0,0,0,0,0,0,0,0,0,0,0,0,0,6,48,14,136,10,106,0,0,14,136,10,106,0,0,0,0,0,0,0,0,0,0,0,0,0,0,0,0,0,0,0,0,16,210,108,684,20,264,10,104,2,10,14,118,12,104,6,{"$f":"SUM(EA77:EA91)","v":54},4,84,14,130,4,28,4,28,2,24,8,42,10,44,8,34,0,0,2,12,2,12,0,0,0,0,6,112,108,10,66,62,2,6,2,2,32,218,14,110,2,36,0,0,2,6,222,0,0,264,6,0,0,0,0,0,0,0,0,0,0,0,0,{"$f":"SUM(GM77:GM91)","v":0},0,0,0,0,0,0,0,0,0,0,0,0,0,0,0,0,0,0,0,0,0,0,0,0,0,0,0,{"$f":"SUM(HO77:HO91)","v":0},0,0,0,0,0,0,0,0]
[{"$f":"CONCATENATE(A77,\"-\",A78,\"-\",A79,\"-\",A80,\"-\",A81,\"-\",A82,\"-\",A83,\"-\",A84,\"-\",A85,\"-\",A86,\"-\",A87,\"-\",A88)","v":"1-2-3-T--------"}]
[null," BAS001"," BAS002"," BAS003"," BAS004"," BAS005"," BAS006"," BAS007"," BAS008"," BAS009"," BAS010"," BAS011"," BAS012"," BAS013"," BAS014"," BAS015"," BAS016"," BAS017"," BAS018"," BAS019"," BAS020"," BAS021"," BAS022"," BAS023"," BAS024"," BAS025"," BAS026"," BAS027"," BAS028"," BAS029"," BAS030"," BAS031"," BAS032"," BAS033"," BAS034"," BAS035"," BAS036"," BAS037"," BAS038"," BAS039"," BAS040"," BAS041"," BAS042"," BAS043"," BAS044"," BAS045"," BAS046"," BAS047"," BAS048"," BAS049"," BAS050"," BAS051"," BAS052"," BAS053"," BAS054"," BAS055"," BAS056"," BAS057"," BAS058"," BAS059"," BAS060"," BAS061"," BAS062"," BAS063"," BAS064"," BAS065"," BAS066"," BAS067"," BAS068"," BAS069"," BAS070"," BAS071"," BAS072"," BAS073"," BAS074"," BAS075"," BAS076"," BAS077"," BAS078"," BAS079"," BAS080"," BAS081"," BAS082"," BAS083"," BAS084"," BAS085"," BAS086"," BAS087"," BAS088"," BAS089"," BAS090"," BAS091"," BAS092"," BAS093"," BAS094"," BAS095"," BAS096"," BAS097"," BAS098"," BAS099"," BAS100"," BAS101"," BAS102"," BAS103"," BAS104"," BAS105"," BAS106"," BAS107"," BAS108"," BAS109"," BAS110"," BAS111"," BAS112"," BAS113"," BAS114"," BAS115"," BAS116"," BAS117"," BAS118"," BAS119"," BAS120"," BAS121"," BAS122"," BAS123"," BAS124"," BAS125"," BAS126"," BAS127"," BAS128"," BAS129"," BAS130"," BAS131"," BAS132"," BAS133"," BAS134"," BAS135"," BAS136"," BAS137"," BAS138"," BAS139"," BAS140"," BAS141"," BAS142"," BAS143"," BAS144"," BAS145"," BAS146"," BAS147"," BAS148"," BAS149"," BAS150"," BAS151"," BAS152"," BAS153"," BAS154"," BAS155"," BAS156"," BAS157"," BAS158"," BAS159"," BAS160"," BAS161"," BAS162"," BAS163"," BAS164"," BAS165"," BAS166"," BAS167"," BAS168"," BAS169"," BAS170"," BAS171"," BAS172"," BAS173"," BAS174"," BAS175"," BAS176"," BAS177"," BAS178"," BAS179"," BAS180"," BAS181"," BAS182"," BAS183"," BAS184"," BAS185"," BAS186"," BAS187"," BAS188"," BAS189"," BAS190"," BAS191"," BAS192"," BAS193"," BAS194"," BAS195"," BAS196"," BAS197"," BAS198"," BAS199"," BAS200"," BAS201"," BAS202"," BAS203"," BAS204"," BAS205"," BAS206"," BAS207"," BAS208"," BAS209"," BAS210"," BAS211"," BAS212"," BAS213"," BAS214"," BAS215"," BAS216"," BAS217"," BAS218"," BAS219"," BAS220"," BAS221"," BAS222"," BAS223"," BAS224"," BAS225"," BAS226"," BAS227"," BAS228"," BAS229"," BAS230"]
[null,{"$f":"IF(B96=B76,\"SI\",\"NO\")","v":"SI"},{"$f":"IF(C96=C76,\"SI\",\"NO\")","v":"SI"},"SI","SI","SI","SI","SI","SI","SI","SI","SI","SI","SI","SI","SI","SI","SI","SI","SI","SI","SI","SI","SI","SI","SI","SI","SI","SI","SI","SI","SI","SI","SI","SI","SI","SI","SI","SI","SI","SI","SI","SI","SI","SI","SI","SI","SI","SI","SI","SI","SI","SI","SI","SI","SI","SI","SI","SI","SI","SI","SI","SI","SI","SI","SI",{"$f":"IF(BO96=BO76,\"SI\",\"NO\")","v":"SI"},"SI","SI","SI","SI","SI","SI","SI","SI","SI","SI","SI","SI","SI","SI","SI","SI","SI","SI","SI","SI","SI","SI","SI","SI","SI","SI","SI","SI","SI","SI","SI","SI","SI","SI","SI","SI","SI","SI","SI","SI","SI","SI","SI","SI","SI","SI","SI","SI","SI","SI","SI","SI","SI","SI","SI","SI","SI","SI","SI","SI","SI","SI","SI",{"$f":"IF(EA96=EA76,\"SI\",\"NO\")","v":"SI"},"SI","SI","SI","SI","SI","SI","SI","SI","SI","SI","SI","SI","SI","SI","SI","SI","SI","SI","SI","SI","SI","SI","SI","SI","SI","SI","SI","SI","SI","SI","SI","SI","SI","SI","SI","SI","SI","SI","SI","SI","SI","SI","SI","SI","SI","SI","SI","SI","SI","SI","SI","SI","SI","SI","SI","SI","SI","SI","SI","SI","SI","SI","SI",{"$f":"IF(GM96=GM76,\"SI\",\"NO\")","v":"SI"},"SI","SI","SI","SI","SI","SI","SI","SI","SI","SI","SI","SI","SI","SI","SI","SI","SI","SI","SI","SI","SI","SI","SI","SI","SI","SI","SI",{"$f":"IF(HO96=HO76,\"SI\",\"NO\")","v":"SI"},"SI","SI","SI","SI","SI","SI","SI","SI"]
[]
["PP002-2"]
["ANNO",2025]
["cod_red","03"]
["codmic","(Todas)"]
["cod_prov","(Todas)"]
["coddist","(Todas)"]
["cod_estab","(Todas)"]
["cod_eje","(Todas)"]
[]
[null,"Valores"]
["Etiquetas de fila"," BAS001"," BAS002"," BAS003"," BAS004"," BAS005"," BAS006"," BAS007"," BAS008"," BAS009"," BAS010"," BAS011"," BAS012"," BAS013"," BAS014"," BAS015"," BAS016"," BAS017"," BAS018"," BAS019"," BAS020"," BAS021"," BAS022"," BAS023"," BAS024"," BAS025"," BAS026"," BAS027"," BAS028"," BAS029"," BAS030"," BAS031"," BAS032"," BAS033"," BAS034"," BAS035"," BAS036"," BAS037"," BAS038"," BAS039"," BAS040"," BAS041"," BAS042"," BAS043"," BAS044"," BAS045"," BAS046"," BAS047"," BAS048"," BAS049"," BAS050"," BAS051"," BAS052"," BAS053"," BAS054"," BAS055"," BAS056"," BAS057"," BAS058"," BAS059"," BAS060"," BAS061"," BAS062"," BAS063"," BAS064"," BAS065"," BAS066"," BAS067"," BAS068"," BAS069"," BAS070"," BAS071"," BAS072"," BAS073"," BAS074"," BAS075"," BAS076"," BAS077"," BAS078"," BAS079"," BAS080"," BAS081"," BAS082"," BAS083"," BAS084"," BAS085"," BAS086"," BAS087"," BAS088"," BAS089"," BAS090"," BAS091"," BAS092"," BAS093"," BAS094"," BAS095"," BAS096"," BAS097"," BAS098"," BAS099"," BAS100"," BAS101"," BAS102"," BAS103"," BAS104"," BAS105"," BAS106"," BAS107"," BAS108"," BAS109"," BAS110"," BAS111"," BAS112"," BAS113"," BAS114"," BAS115"," BAS116"," BAS117"," BAS118"," BAS119"," BAS120"," BAS121"," BAS122"," BAS123"," BAS124"," BAS125"," BAS126"," BAS127"," BAS128"," BAS129"," BAS130"," BAS131"," BAS132"," BAS133"," BAS134"," BAS135"," BAS136"," BAS137"," BAS138"," BAS139"," BAS140"," BAS141"," BAS142"," BAS143"," BAS144"," BAS145"," BAS146"," BAS147"," BAS148"," BAS149"," BAS150"," BAS151"," BAS152"," BAS153"," BAS154"," BAS155"," BAS156"," BAS157"," BAS158"," BAS159"," BAS160"," BAS161"," BAS162"," BAS163"," BAS164"," BAS165"," BAS166"," BAS167"," BAS168"," BAS169"," BAS170"," BAS171"," BAS172"," BAS173"," BAS174"," BAS175"," BAS176"," BAS177"," BAS178"," BAS179"," BAS180"," BAS181"," BAS182"," BAS183"," BAS184"," BAS185"," BAS186"," BAS187"," BAS188"," BAS189"," BAS190"," BAS191"," BAS192"," BAS193"," BAS194"," BAS195"," BAS196"," BAS197"," BAS198"," BAS199"," BAS200"," BAS201"," BAS202"," BAS203"," BAS204"," BAS205"," BAS206"," BAS207"," BAS208"," BAS209"," BAS210"," BAS211"," BAS212"," BAS213"," BAS214"," BAS215"," BAS216"," BAS217"," BAS218"," BAS219"," BAS220"," BAS221"," BAS222"," BAS223"," BAS224"," BAS225"," BAS226"," BAS227"," BAS228"," BAS229"," BAS230"]
[1,7,60,67,2,1,3,0,49,50,0,3,4,0,0,0,0,0,0,0,0,0,0,0,0,93,205,76,165,12,75,8,65,5,45,5,42,2,26,0,0,0,0,0,0,0,0,0,0,0,0,0,0,0,0,0,0,0,0,0,0,0,0,0,0,0,0,0,0,0,0,0,0,0,0,0,0,0,0,0,0,0,0,0,0,1,0,0,0,0,0,1,16,0,0,0,0,0,0,0,0,0,0,0,0,0,0,67,0,2,0,0,0,0,0,0,0,0,0,0,0,0,0,0,0,0,0,0,0,0,0,0,0,0,0,0,0,0,0,0,0,0,0,0,0,0,0,0,0,0,0,0,0,0,0,0,0,0,0,0,0,0,0,0,0,0,0,0,0,0,0,0,0,0,0,0,0,0,0,0,0,0,0,0,0,0,0,0,0,0,0,0,0,0,0,0,0,0,0,0,0,0,0,0,0,0,0,0,0,0,0,0,0,0,0,0,0,0,0,0,0,0,0,0,0,0,0,0,0,0,0]
[2,2,46,63,2,0,2,0,49,35,0,0,0,0,0,0,0,0,0,2,8,2,8,1,1,93,155,81,130,31,45,34,53,7,35,7,35,5,29,0,0,2,6,0,0,0,0,0,0,0,0,0,0,0,0,0,0,0,0,0,0,0,0,0,0,0,0,0,0,0,0,0,0,0,0,0,0,0,0,0,0,0,0,0,0,1,0,1,0,0,0,1,7,0,0,0,0,0,0,0,0,0,0,0,0,0,0,63,0,5,0,0,0,0,0,0,0,0,0,0,0,0,0,0,0,0,0,0,0,0,0,0,0,0,0,0,0,0,0,0,0,0,0,0,0,0,0,0,0,0,0,0,0,0,0,0,0,0,0,0,0,0,0,0,0,0,0,0,0,0,0,0,0,0,0,0,0,0,0,0,0,0,0,0,0,0,0,0,0,0,0,0,0,0,0,0,0,0,0,0,0,0,0,0,0,0,0,0,0,0,0,0,0,0,0,0,0,0,0,0,0,0,0,0,0,0,0,0,0,0,0]
[3,1,55,50,0,2,1,0,47,54,0,0,0,0,0,0,0,0,0,3,18,1,2,0,0,77,128,75,117,39,58,34,51,6,10,6,10,4,12,0,0,9,28,4,14,2,2,4,14,3,4,1,9,0,0,1,9,0,0,0,0,1,15,0,0,1,15,1,28,0,0,0,0,0,0,0,0,0,0,0,0,0,0,0,0,2,0,1,0,2,0,1,10,1,10,0,0,0,0,0,0,0,0,0,0,0,0,50,0,4,0,0,0,0,0,0,0,0,0,0,0,0,0,0,0,0,0,0,0,0,0,0,0,0,0,0,0,0,0,0,0,0,0,0,0,0,0,0,0,0,0,0,0,0,0,0,0,0,0,0,0,0,0,0,0,0,0,0,0,0,0,0,0,0,0,0,0,0,0,0,0,0,0,0,0,0,0,0,0,0,0,0,0,0,0,0,0,0,0,0,0,0,0,0,0,0,0,0,0,0,0,0,0,0,0,0,0,0,0,0,0,0,0,0,0,0,0,0,0,0,0]
["T",10,161,180,4,3,6,0,145,139,0,3,4,0,0,0,0,0,0,5,26,3,10,1,1,263,488,232,412,82,178,76,169,18,90,18,87,11,67,0,0,11,34,4,14,2,2,4,14,3,4,1,9,0,0,1,9,0,0,0,0,1,15,0,0,1,15,1,28,0,0,0,0,0,0,0,0,0,0,0,0,0,0,0,0,4,0,2,0,2,0,3,33,1,10,0,0,0,0,0,0,0,0,0,0,0,0,180,0,11,0,0,0,0,0,0,0,0,0,0,0,0,0,0,0,0,0,0,0,0,0,0,0,0,0,0,0,0,0,0,0,0,0,0,0,0,0,0,0,0,0,0,0,0,0,0,0,0,0,0,0,0,0,0,0,0,0,0,0,0,0,0,0,0,0,0,0,0,0,0,0,0,0,0,0,0,0,0,0,0,0,0,0,0,0,0,0,0,0,0,0,0,0,0,0,0,0,0,0,0,0,0,0,0,0,0,0,0,0,0,0,0,0,0,0,0,0,0,0,0,0]
[]
[]
[]
[]
[]
[]
[]
[]
[]
[]
[]
[]
[]
["TOTAL"]
[{"$f":"COUNT(A110:A125)","v":3},{"$f":"SUM(B110:B125)","v":20},{"$f":"SUM(C110:C125)","v":322},360,8,6,12,0,290,278,0,6,8,0,0,0,0,0,0,10,52,6,20,2,2,526,976,464,824,164,356,152,338,36,180,36,174,22,134,0,0,22,68,8,28,4,4,8,28,6,8,2,18,0,0,2,18,0,0,0,0,2,30,0,0,2,{"$f":"SUM(BO110:BO125)","v":30},2,56,0,0,0,0,0,0,0,0,0,0,0,0,0,0,0,0,8,0,4,0,4,0,6,66,2,20,0,0,0,0,0,0,0,0,0,0,0,0,360,0,22,0,0,0,0,0,0,0,0,0,0,0,0,0,0,0,0,0,0,0,0,{"$f":"SUM(EA110:EA125)","v":0},0,0,0,0,0,0,0,0,0,0,0,0,0,0,0,0,0,0,0,0,0,0,0,0,0,0,0,0,0,0,0,0,0,0,0,0,0,0,0,0,0,0,0,0,0,0,0,0,0,0,0,0,0,0,0,0,0,0,0,0,0,0,0,{"$f":"SUM(GM110:GM125)","v":0},0,0,0,0,0,0,0,0,0,0,0,0,0,0,0,0,0,0,0,0,0,0,0,0,0,0,0,{"$f":"SUM(HO110:HO125)","v":0},0,0,0,0,0,0,0,{"$f":"SUM(HW110:HW125)","v":0}]
[{"$f":"CONCATENATE(A110,\"-\",A111,\"-\",A112,\"-\",A113,\"-\",A114,\"-\",A115,\"-\",A116,\"-\",A117,\"-\",A118,\"-\",A119,\"-\",A120,\"-\",A121)","v":"1-2-3-T--------"}]
[null," BAS001"," BAS002"," BAS003"," BAS004"," BAS005"," BAS006"," BAS007"," BAS008"," BAS009"," BAS010"," BAS011"," BAS012"," BAS013"," BAS014"," BAS015"," BAS016"," BAS017"," BAS018"," BAS019"," BAS020"," BAS021"," BAS022"," BAS023"," BAS024"," BAS025"," BAS026"," BAS027"," BAS028"," BAS029"," BAS030"," BAS031"," BAS032"," BAS033"," BAS034"," BAS035"," BAS036"," BAS037"," BAS038"," BAS039"," BAS040"," BAS041"," BAS042"," BAS043"," BAS044"," BAS045"," BAS046"," BAS047"," BAS048"," BAS049"," BAS050"," BAS051"," BAS052"," BAS053"," BAS054"," BAS055"," BAS056"," BAS057"," BAS058"," BAS059"," BAS060"," BAS061"," BAS062"," BAS063"," BAS064"," BAS065"," BAS066"," BAS067"," BAS068"," BAS069"," BAS070"," BAS071"," BAS072"," BAS073"," BAS074"," BAS075"," BAS076"," BAS077"," BAS078"," BAS079"," BAS080"," BAS081"," BAS082"," BAS083"," BAS084"," BAS085"," BAS086"," BAS087"," BAS088"," BAS089"," BAS090"," BAS091"," BAS092"," BAS093"," BAS094"," BAS095"," BAS096"," BAS097"," BAS098"," BAS099"," BAS100"," BAS101"," BAS102"," BAS103"," BAS104"," BAS105"," BAS106"," BAS107"," BAS108"," BAS109"," BAS110"," BAS111"," BAS112"," BAS113"," BAS114"," BAS115"," BAS116"," BAS117"," BAS118"," BAS119"," BAS120"," BAS121"," BAS122"," BAS123"," BAS124"," BAS125"," BAS126"," BAS127"," BAS128"," BAS129"," BAS130"," BAS131"," BAS132"," BAS133"," BAS134"," BAS135"," BAS136"," BAS137"," BAS138"," BAS139"," BAS140"," BAS141"," BAS142"," BAS143"," BAS144"," BAS145"," BAS146"," BAS147"," BAS148"," BAS149"," BAS150"," BAS151"," BAS152"," BAS153"," BAS154"," BAS155"," BAS156"," BAS157"," BAS158"," BAS159"," BAS160"," BAS161"," BAS162"," BAS163"," BAS164"," BAS165"," BAS166"," BAS167"," BAS168"," BAS169"," BAS170"," BAS171"," BAS172"," BAS173"," BAS174"," BAS175"," BAS176"," BAS177"," BAS178"," BAS179"," BAS180"," BAS181"," BAS182"," BAS183"," BAS184"," BAS185"," BAS186"," BAS187"," BAS188"," BAS189"," BAS190"," BAS191"," BAS192"," BAS193"," BAS194"," BAS195"," BAS196"," BAS197"," BAS198"," BAS199"," BAS200"," BAS201"," BAS202"," BAS203"," BAS204"," BAS205"," BAS206"," BAS207"," BAS208"," BAS209"," BAS210"," BAS211"," BAS212"," BAS213"," BAS214"," BAS215"," BAS216"," BAS217"," BAS218"," BAS219"," BAS220"," BAS221"," BAS222"," BAS223"," BAS224"," BAS225"," BAS226"," BAS227"," BAS228"," BAS229"," BAS230"]
[null,{"$f":"IF(B130=B109,\"SI\",\"NO\")","v":"SI"},{"$f":"IF(C130=C109,\"SI\",\"NO\")","v":"SI"},"SI","SI","SI","SI","SI","SI","SI","SI","SI","SI","SI","SI","SI","SI","SI","SI","SI","SI","SI","SI","SI","SI","SI","SI","SI","SI","SI","SI","SI","SI","SI","SI","SI","SI","SI","SI","SI","SI","SI","SI","SI","SI","SI","SI","SI","SI","SI","SI","SI","SI","SI","SI","SI","SI","SI","SI","SI","SI","SI","SI","SI","SI","SI",{"$f":"IF(BO130=BO109,\"SI\",\"NO\")","v":"SI"},"SI","SI","SI","SI","SI","SI","SI","SI","SI","SI","SI","SI","SI","SI","SI","SI","SI","SI","SI","SI","SI","SI","SI","SI","SI","SI","SI","SI","SI","SI","SI","SI","SI","SI","SI","SI","SI","SI","SI","SI","SI","SI","SI","SI","SI","SI","SI","SI","SI","SI","SI","SI","SI","SI","SI","SI","SI","SI","SI","SI","SI","SI","SI",{"$f":"IF(EA130=EA109,\"SI\",\"NO\")","v":"SI"},"SI","SI","SI","SI","SI","SI","SI","SI","SI","SI","SI","SI","SI","SI","SI","SI","SI","SI","SI","SI","SI","SI","SI","SI","SI","SI","SI","SI","SI","SI","SI","SI","SI","SI","SI","SI","SI","SI","SI","SI","SI","SI","SI","SI","SI","SI","SI","SI","SI","SI","SI","SI","SI","SI","SI","SI","SI","SI","SI","SI","SI","SI","SI",{"$f":"IF(GM130=GM109,\"SI\",\"NO\")","v":"SI"},"SI","SI","SI","SI","SI","SI","SI","SI","SI","SI","SI","SI","SI","SI","SI","SI","SI","SI","SI","SI","SI","SI","SI","SI","SI","SI","SI",{"$f":"IF(HO130=HO109,\"SI\",\"NO\")","v":"SI"},"SI","SI","SI","SI","SI","SI","SI",{"$f":"IF(HW130=HW109,\"SI\",\"NO\")","v":"SI"}]
[]
["PP016 - 3"]
["ANNO",2025]
["cod_red","03"]
["codmic","(Todas)"]
["cod_prov","(Todas)"]
["coddist","(Todas)"]
["cod_estab","(Todas)"]
["cod_eje","(Todas)"]
[]
[null,"Valores"]
["Etiquetas de fila"," BAS001"," BAS002"," BAS003"," BAS004"," BAS005"," BAS006"," BAS007"," BAS008"," BAS009"," BAS010"," BAS011"," BAS012"," BAS013"," BAS014"," BAS015"," BAS016"," BAS017"," BAS018"," BAS019"," BAS020"," BAS021"," BAS022"," BAS023"," BAS024"," BAS025"," BAS026"," BAS027"," BAS028"," BAS029"," BAS030"," BAS031"," BAS032"," BAS033"," BAS034"," BAS035"," BAS036"," BAS037"," BAS038"," BAS039"," BAS040"," BAS041"," BAS042"," BAS043"," BAS044"," BAS045"," BAS046"," BAS047"," BAS048"," BAS049"," BAS050"," BAS051"," BAS052"," BAS053"," BAS054"," BAS055"," BAS056"," BAS057"," BAS058"," BAS059"," BAS060"," BAS061"," BAS062"," BAS063"," BAS064"," BAS065"," BAS066"," BAS067"," BAS068"," BAS069"," BAS070"," BAS071"," BAS072"," BAS073"," BAS074"," BAS075"," BAS076"," BAS077"," BAS078"," BAS079"," BAS080"," BAS081"," BAS082"," BAS083"," BAS084"," BAS085"," BAS086"," BAS087"," BAS088"," BAS089"," BAS090"," BAS091"," BAS092"," BAS093"," BAS094"," BAS095"," BAS096"," BAS097"," BAS098"," BAS099"," BAS100"," BAS101"," BAS102"," BAS103"," BAS104"," BAS105"," BAS106"," BAS107"," BAS108"," BAS109"," BAS110"," BAS111"," BAS112"," BAS113"," BAS114"," BAS115"," BAS116"," BAS117"," BAS118"," BAS119"," BAS120"," BAS121"," BAS122"," BAS123"," BAS124"," BAS125"," BAS126"," BAS127"," BAS128"," BAS129"," BAS130"," BAS131"," BAS132"," BAS133"," BAS134"," BAS135"," BAS136"," BAS137"," BAS138"," BAS139"," BAS140"," BAS141"," BAS142"," BAS143"," BAS144"," BAS145"," BAS146"," BAS147"," BAS148"," BAS149"," BAS150"," BAS151"," BAS152"," BAS153"," BAS154"," BAS155"," BAS156"," BAS157"," BAS158"," BAS159"," BAS160"," BAS161"," BAS162"," BAS163"," BAS164"," BAS165"," BAS166"," BAS167"," BAS168"," BAS169"," BAS170"," BAS171"," BAS172"," BAS173"," BAS174"," BAS175"," BAS176"," BAS177"," BAS178"," BAS179"," BAS180"," BAS181"," BAS182"," BAS183"," BAS184"," BAS185"," BAS186"," BAS187"," BAS188"," BAS189"," BAS190"," BAS191"," BAS192"," BAS193"," BAS194"," BAS195"," BAS196"," BAS197"," BAS198"," BAS199"," BAS200"," BAS201"," BAS202"," BAS203"," BAS204"," BAS205"," BAS206"," BAS207"," BAS208"," BAS209"," BAS210"," BAS211"," BAS212"," BAS213"," BAS214"," BAS215"," BAS216"," BAS217"," BAS218"," BAS219"," BAS220"," BAS221"," BAS222"," BAS223"," BAS224"," BAS225"," BAS226"," BAS227"," BAS228"," BAS229"," BAS230"]
[1,1358,10,0,0,1610,14,0,0,244,830,237,748,3,38,3,38,0,0,0,0,0,0,0,0,0,0,0,0,0,0,0,0,0,0,0,0,0,0,0,0,0,0,0,0,43,0,39,0,18,46,20,71,2,0,2,0,1,0,3,0,7,63,0,0,7,62,0,0,0,0,0,0,0,0,0,0,51,139,51,149,0,0,0,0,0,0,0,0,0,0,0,0,0,0,0,0,1,0,0,0,0,0,0,0,0,0,0,0,0,0,0,0,0,0,0,0,0,0,0,0,0,0,0,0,0,0,0,0,0,0,0,0,10,38,0,0,0,0,0,0,0,0,0,0,0,0,0,0,0,0,0,0,0,0,0,0,0,0,0,0,0,0,0,0,0,0,0,0,0,0,0,0,0,0,0,0,0,0,0,0,0,0,0,0,0,0,0,0,0,0,0,0,0,0,0,0,0,0,0,0,0,0,0,0,0,0,0,0,0,0,0,0,0,0,0,0,0,0,0,0,0,0,0,0,0,0,0,0,0,0]
[2,1233,492,0,0,1302,461,0,1,232,723,228,697,113,348,116,361,1,4,1,4,0,0,0,0,0,0,0,0,0,0,0,0,0,0,0,0,0,0,0,0,0,0,0,0,38,0,33,0,19,35,18,196,1,0,0,0,2,0,2,0,10,21,9,18,12,26,9,18,1,6,0,0,0,0,0,0,45,88,40,79,1,4,1,4,0,0,0,0,0,0,0,0,0,0,0,0,2,2,0,0,0,0,0,0,0,0,0,0,0,0,0,0,0,0,0,0,0,0,0,0,0,0,0,0,0,0,0,0,0,0,0,0,492,348,0,0,0,0,0,0,0,0,0,0,0,0,0,0,0,0,0,0,0,0,0,0,0,0,0,0,0,0,0,0,0,0,0,0,0,0,0,0,0,0,0,0,0,0,0,0,0,0,0,0,0,0,0,0,0,0,0,0,0,0,0,0,0,0,0,0,0,0,0,0,0,0,0,0,0,0,0,0,0,0,0,0,0,0,0,0,0,0,0,0,0,0,0,0,0,0]
[3,981,472,0,0,1071,441,0,0,190,860,167,720,93,266,80,247,44,94,19,57,3,27,3,17,3,14,3,17,1,2,0,0,0,0,0,0,0,0,0,0,0,0,0,0,22,0,21,0,8,10,7,7,3,0,2,0,2,0,2,0,13,75,15,72,11,63,13,77,0,0,2,68,0,0,0,0,23,50,21,47,0,0,0,0,0,0,0,0,0,0,0,0,0,0,0,0,1,1,1,1,0,0,0,0,0,0,0,0,0,0,0,0,0,0,0,0,0,0,0,0,0,0,0,0,0,0,0,0,0,0,0,0,471,266,44,0,0,0,0,0,0,0,0,0,0,0,0,0,0,0,0,0,0,0,0,0,0,0,0,0,0,0,0,0,0,0,0,0,0,0,0,0,0,0,0,0,0,0,0,0,0,0,0,0,0,0,0,0,0,0,0,0,0,0,0,0,0,0,0,0,0,0,0,0,0,0,0,0,0,0,0,0,0,0,0,0,0,0,0,0,0,0,0,0,0,0,0,0,0,0]
["T",3572,974,0,0,3983,916,0,1,666,2413,632,2165,209,652,199,646,45,98,20,61,3,27,3,17,3,14,3,17,1,2,0,0,0,0,0,0,0,0,0,0,0,0,0,0,103,0,93,0,45,91,45,274,6,0,4,0,5,0,7,0,30,159,24,90,30,151,22,95,1,6,2,68,0,0,0,0,119,277,112,275,1,4,1,4,0,0,0,0,0,0,0,0,0,0,0,0,4,3,1,1,0,0,0,0,0,0,0,0,0,0,0,0,0,0,0,0,0,0,0,0,0,0,0,0,0,0,0,0,0,0,0,0,973,652,44,0,0,0,0,0,0,0,0,0,0,0,0,0,0,0,0,0,0,0,0,0,0,0,0,0,0,0,0,0,0,0,0,0,0,0,0,0,0,0,0,0,0,0,0,0,0,0,0,0,0,0,0,0,0,0,0,0,0,0,0,0,0,0,0,0,0,0,0,0,0,0,0,0,0,0,0,0,0,0,0,0,0,0,0,0,0,0,0,0,0,0,0,0,0,0]
[]
[]
[]
[]
[]
[]
[]
[]
[]
[]
[]
[]
[]
["TOTAL"]
[{"$f":"COUNT(A144:A159)","v":3},{"$f":"SUM(B144:B159)","v":7144},{"$f":"SUM(C144:C159)","v":1948},0,0,7966,1832,0,2,1332,4826,1264,4330,418,1304,398,1292,90,196,40,122,6,54,6,34,6,28,6,34,2,4,0,0,0,0,0,0,0,0,0,0,0,0,0,0,206,0,186,0,90,182,90,548,12,0,8,0,10,0,14,0,60,318,48,180,60,{"$f":"SUM(BO144:BO159)","v":302},44,190,2,12,4,136,0,0,0,0,238,554,224,550,2,8,2,8,0,0,0,0,0,0,0,0,0,0,0,0,8,6,2,2,0,0,0,0,0,0,0,0,0,0,0,0,0,0,0,0,0,0,0,0,0,0,0,0,0,0,0,0,0,{"$f":"SUM(EA144:EA159)","v":0},0,0,1946,1304,88,0,0,0,0,0,0,0,0,0,0,0,0,0,0,0,0,0,0,0,0,0,0,0,0,0,0,0,0,0,0,0,0,0,0,0,0,0,0,0,0,0,0,0,0,0,0,0,0,0,0,0,0,0,0,0,0,0,0,{"$f":"SUM(GM144:GM159)","v":0},0,0,0,0,0,0,0,0,0,0,0,0,0,0,0,0,0,0,0,0,0,0,0,0,0,0,0,{"$f":"SUM(HO144:HO159)","v":0},0,0,0,0,0,0,0,0]
[{"$f":"CONCATENATE(A144,\"-\",A145,\"-\",A146,\"-\",A147,\"-\",A148,\"-\",A149,\"-\",A150,\"-\",A151,\"-\",A152,\"-\",A153,\"-\",A154,\"-\",A155)","v":"1-2-3-T--------"}]
[null," BAS001"," BAS002"," BAS003"," BAS004"," BAS005"," BAS006"," BAS007"," BAS008"," BAS009"," BAS010"," BAS011"," BAS012"," BAS013"," BAS014"," BAS015"," BAS016"," BAS017"," BAS018"," BAS019"," BAS020"," BAS021"," BAS022"," BAS023"," BAS024"," BAS025"," BAS026"," BAS027"," BAS028"," BAS029"," BAS030"," BAS031"," BAS032"," BAS033"," BAS034"," BAS035"," BAS036"," BAS037"," BAS038"," BAS039"," BAS040"," BAS041"," BAS042"," BAS043"," BAS044"," BAS045"," BAS046"," BAS047"," BAS048"," BAS049"," BAS050"," BAS051"," BAS052"," BAS053"," BAS054"," BAS055"," BAS056"," BAS057"," BAS058"," BAS059"," BAS060"," BAS061"," BAS062"," BAS063"," BAS064"," BAS065"," BAS066"," BAS067"," BAS068"," BAS069"," BAS070"," BAS071"," BAS072"," BAS073"," BAS074"," BAS075"," BAS076"," BAS077"," BAS078"," BAS079"," BAS080"," BAS081"," BAS082"," BAS083"," BAS084"," BAS085"," BAS086"," BAS087"," BAS088"," BAS089"," BAS090"," BAS091"," BAS092"," BAS093"," BAS094"," BAS095"," BAS096"," BAS097"," BAS098"," BAS099"," BAS100"," BAS101"," BAS102"," BAS103"," BAS104"," BAS105"," BAS106"," BAS107"," BAS108"," BAS109"," BAS110"," BAS111"," BAS112"," BAS113"," BAS114"," BAS115"," BAS116"," BAS117"," BAS118"," BAS119"," BAS120"," BAS121"," BAS122"," BAS123"," BAS124"," BAS125"," BAS126"," BAS127"," BAS128"," BAS129"," BAS130"," BAS131"," BAS132"," BAS133"," BAS134"," BAS135"," BAS136"," BAS137"," BAS138"," BAS139"," BAS140"," BAS141"," BAS142"," BAS143"," BAS144"," BAS145"," BAS146"," BAS147"," BAS148"," BAS149"," BAS150"," BAS151"," BAS152"," BAS153"," BAS154"," BAS155"," BAS156"," BAS157"," BAS158"," BAS159"," BAS160"," BAS161"," BAS162"," BAS163"," BAS164"," BAS165"," BAS166"," BAS167"," BAS168"," BAS169"," BAS170"," BAS171"," BAS172"," BAS173"," BAS174"," BAS175"," BAS176"," BAS177"," BAS178"," BAS179"," BAS180"," BAS181"," BAS182"," BAS183"," BAS184"," BAS185"," BAS186"," BAS187"," BAS188"," BAS189"," BAS190"," BAS191"," BAS192"," BAS193"," BAS194"," BAS195"," BAS196"," BAS197"," BAS198"," BAS199"," BAS200"," BAS201"," BAS202"," BAS203"," BAS204"," BAS205"," BAS206"," BAS207"," BAS208"," BAS209"," BAS210"," BAS211"," BAS212"," BAS213"," BAS214"," BAS215"," BAS216"," BAS217"," BAS218"," BAS219"," BAS220"," BAS221"," BAS222"," BAS223"," BAS224"," BAS225"," BAS226"," BAS227"," BAS228"," BAS229"," BAS230"]
[null,{"$f":"IF(B164=B143,\"SI\",\"NO\")","v":"SI"},{"$f":"IF(C164=C143,\"SI\",\"NO\")","v":"SI"},"SI","SI","SI","SI","SI","SI","SI","SI","SI","SI","SI","SI","SI","SI","SI","SI","SI","SI","SI","SI","SI","SI","SI","SI","SI","SI","SI","SI","SI","SI","SI","SI","SI","SI","SI","SI","SI","SI","SI","SI","SI","SI","SI","SI","SI","SI","SI","SI","SI","SI","SI","SI","SI","SI","SI","SI","SI","SI","SI","SI","SI","SI","SI",{"$f":"IF(BO164=BO143,\"SI\",\"NO\")","v":"SI"},"SI","SI","SI","SI","SI","SI","SI","SI","SI","SI","SI","SI","SI","SI","SI","SI","SI","SI","SI","SI","SI","SI","SI","SI","SI","SI","SI","SI","SI","SI","SI","SI","SI","SI","SI","SI","SI","SI","SI","SI","SI","SI","SI","SI","SI","SI","SI","SI","SI","SI","SI","SI","SI","SI","SI","SI","SI","SI","SI","SI","SI","SI","SI",{"$f":"IF(EA164=EA143,\"SI\",\"NO\")","v":"SI"},"SI","SI","SI","SI","SI","SI","SI","SI","SI","SI","SI","SI","SI","SI","SI","SI","SI","SI","SI","SI","SI","SI","SI","SI","SI","SI","SI","SI","SI","SI","SI","SI","SI","SI","SI","SI","SI","SI","SI","SI","SI","SI","SI","SI","SI","SI","SI","SI","SI","SI","SI","SI","SI","SI","SI","SI","SI","SI","SI","SI","SI","SI","SI",{"$f":"IF(GM164=GM143,\"SI\",\"NO\")","v":"SI"},"SI","SI","SI","SI","SI","SI","SI","SI","SI","SI","SI","SI","SI","SI","SI","SI","SI","SI","SI","SI","SI","SI","SI","SI","SI","SI","SI",{"$f":"IF(HO164=HO143,\"SI\",\"NO\")","v":"SI"},"SI","SI","SI","SI","SI","SI","SI","SI"]
[]
["PP017-9"]
["ANNO",2025]
["cod_red","03"]
["codmic","(Todas)"]
["cod_prov","(Todas)"]
["coddist","(Todas)"]
["cod_estab","(Todas)"]
["cod_eje","(Todas)"]
[]
[null,"Valores"]
["Etiquetas de fila"," BAS001"," BAS002"," BAS003"," BAS004"," BAS005"," BAS006"," BAS007"," BAS008"," BAS009"," BAS010"," BAS011"," BAS012"," BAS013"," BAS014"," BAS015"," BAS016"," BAS017"," BAS018"," BAS019"," BAS020"," BAS021"," BAS022"," BAS023"," BAS024"," BAS025"," BAS026"," BAS027"," BAS028"," BAS029"," BAS030"," BAS031"," BAS032"," BAS033"," BAS034"," BAS035"," BAS036"," BAS037"," BAS038"," BAS039"," BAS040"," BAS041"," BAS042"," BAS043"," BAS044"," BAS045"," BAS046"," BAS047"," BAS048"," BAS049"," BAS050"," BAS051"," BAS052"," BAS053"," BAS054"," BAS055"," BAS056"," BAS057"," BAS058"," BAS059"," BAS060"," BAS061"," BAS062"," BAS063"," BAS064"," BAS065"," BAS066"," BAS067"," BAS068"," BAS069"," BAS070"," BAS071"," BAS072"," BAS073"," BAS074"," BAS075"," BAS076"," BAS077"," BAS078"," BAS079"," BAS080"," BAS081"," BAS082"," BAS083"," BAS084"," BAS085"," BAS086"," BAS087"," BAS088"," BAS089"," BAS090"," BAS091"," BAS092"," BAS093"," BAS094"," BAS095"," BAS096"," BAS097"," BAS098"," BAS099"," BAS100"," BAS101"," BAS102"," BAS103"," BAS104"," BAS105"," BAS106"," BAS107"," BAS108"," BAS109"," BAS110"," BAS111"," BAS112"," BAS113"," BAS114"," BAS115"," BAS116"," BAS117"," BAS118"," BAS119"," BAS120"," BAS121"," BAS122"," BAS123"," BAS124"," BAS125"," BAS126"," BAS127"," BAS128"," BAS129"," BAS130"," BAS131"," BAS132"," BAS133"," BAS134"," BAS135"," BAS136"," BAS137"," BAS138"," BAS139"," BAS140"," BAS141"," BAS142"," BAS143"," BAS144"," BAS145"," BAS146"," BAS147"," BAS148"," BAS149"," BAS150"," BAS151"," BAS152"," BAS153"," BAS154"," BAS155"," BAS156"," BAS157"," BAS158"," BAS159"," BAS160"," BAS161"," BAS162"," BAS163"," BAS164"," BAS165"," BAS166"," BAS167"," BAS168"," BAS169"," BAS170"," BAS171"," BAS172"," BAS173"," BAS174"," BAS175"," BAS176"," BAS177"," BAS178"," BAS179"," BAS180"," BAS181"," BAS182"," BAS183"," BAS184"," BAS185"," BAS186"," BAS187"," BAS188"," BAS189"," BAS190"," BAS191"," BAS192"," BAS193"," BAS194"," BAS195"," BAS196"," BAS197"," BAS198"," BAS199"," BAS200"," BAS201"," BAS202"," BAS203"," BAS204"," BAS205"," BAS206"," BAS207"," BAS208"," BAS209"," BAS210"," BAS211"," BAS212"," BAS213"," BAS214"," BAS215"," BAS216"," BAS217"," BAS218"," BAS219"," BAS220"," BAS221"," BAS222"," BAS223"," BAS224"," BAS225"," BAS226"," BAS227"," BAS228"," BAS229"," BAS230"]
[1,5,79,631,1447,153,31,239,207,8,511,9,13,0,0,9,0,0,9,975,1126,39,229,6,6,3,1,0,0,0,0,13,26,0,0,17,93,0,0,0,0,0,0,0,0,0,0,0,72,0,0,0,0,0,0,0,0,0,0,22,87,0,0,10,15,0,0,0,0,0,0,13,26,0,0,0,0,0,0,0,0,0,0,0,0,0,0,0,1,6,0,0,0,0,0,0,0,0,0,0,0,0,0,0,0,0,0,0,0,0,0,0,0,0,0,0,0,0,0,0,0,0,0,0,0,0,0,0,0,0,0,0,0,0,3,0,0,0,5,0,0,1,0,0,0,0,0,0,0,0,6,0,0,0,0,0,0,0,0,0,0,0,6,0,0,0,7,0,0,0,0,0,0,0,0,0,0,0,0,0,0,0,0,0,0,0,0,0,0,0,0,0,0,0,0,0,0,0,0,0,0,0,0,0,0,0,0,0,0,0,0,0,0,0,0,0,0,0,0,0,0,0,0,0,0,0,0,0,0,0,0]
[2,2,6,568,1594,113,12,305,93,8,442,181,375,25,1,81,72,1,146,807,792,39,222,0,0,235,5,16,0,0,0,6,9,0,0,20,28,0,0,0,0,0,0,1,0,0,0,0,9,0,0,1,3,0,0,0,0,0,0,13,14,0,0,25,33,0,0,0,0,0,0,3,5,0,0,0,0,0,0,0,0,0,0,0,1,22,0,0,3,26,0,0,0,0,0,0,0,0,0,0,0,0,0,0,0,0,0,0,0,0,0,0,1,22,0,0,1,1,0,0,0,0,0,0,0,0,0,0,0,0,0,0,0,0,0,2,1,0,10,3,1,0,0,0,0,0,0,0,0,0,0,5,1,0,0,0,1,0,0,0,0,0,0,4,1,0,10,6,1,0,0,0,0,0,0,0,1,0,0,0,0,0,0,0,0,0,0,0,0,0,0,0,0,0,0,0,0,0,0,0,0,0,0,0,0,0,0,0,0,0,0,0,0,0,0,0,0,0,0,0,0,0,0,0,0,0,0,0,0,0,0]
[3,4,24,469,1804,93,20,288,49,15,323,236,1131,30,1,150,39,0,184,929,590,41,206,5,1,305,4,38,4,0,0,0,0,0,0,28,28,0,0,0,0,0,0,0,0,0,0,0,0,0,0,2,10,0,0,0,0,0,0,1,0,0,0,28,27,0,0,0,0,0,0,0,0,0,0,0,0,0,0,0,0,0,0,0,0,0,0,0,2,26,0,0,0,0,0,0,0,0,0,0,0,0,0,0,0,0,0,0,0,0,0,0,0,0,0,0,0,0,0,0,0,0,0,0,0,0,0,0,0,0,0,0,0,0,3,0,0,1,24,0,1,1,0,0,0,0,0,0,0,0,7,1,0,3,0,0,0,4,0,0,0,0,7,1,0,3,22,1,0,3,0,0,0,0,0,0,0,1,0,0,0,0,0,0,0,0,0,0,0,0,0,0,0,0,0,0,0,0,0,0,0,0,0,0,0,0,0,0,0,0,0,0,0,0,0,0,0,0,0,0,0,0,0,0,0,0,0,0,0,0,0]
["T",11,109,1668,4845,359,63,832,349,31,1276,426,1519,55,2,240,111,1,339,2711,2508,119,657,11,7,543,10,54,4,0,0,19,35,0,0,65,149,0,0,0,0,0,0,1,0,0,0,0,81,0,0,3,13,0,0,0,0,0,0,36,101,0,0,63,75,0,0,0,0,0,0,16,31,0,0,0,0,0,0,0,0,0,0,0,1,22,0,0,6,58,0,0,0,0,0,0,0,0,0,0,0,0,0,0,0,0,0,0,0,0,0,0,1,22,0,0,1,1,0,0,0,0,0,0,0,0,0,0,0,0,0,0,0,0,6,2,1,1,39,3,2,2,0,0,0,0,0,0,0,0,13,6,1,3,0,0,1,4,0,0,0,0,13,5,1,3,39,7,1,3,0,0,0,0,0,0,1,1,0,0,0,0,0,0,0,0,0,0,0,0,0,0,0,0,0,0,0,0,0,0,0,0,0,0,0,0,0,0,0,0,0,0,0,0,0,0,0,0,0,0,0,0,0,0,0,0,0,0,0,0,0]
[]
[]
[]
[]
[]
[]
[]
[]
[]
[]
[]
[]
[]
[]
["TOTAL"]
[{"$f":"COUNT(A178:A194)","v":3},{"$f":"SUM(B178:B194)","v":22},{"$f":"SUM(C178:C194)","v":218},3336,9690,718,126,1664,698,62,2552,852,3038,110,4,480,222,2,678,5422,5016,238,1314,22,14,1086,20,108,8,0,0,38,70,0,0,130,298,0,0,0,0,0,0,2,0,0,0,0,162,0,0,6,26,0,0,0,0,0,0,72,202,0,0,126,150,0,{"$f":"SUM(BO178:BO194)","v":0},0,0,0,0,32,62,0,0,0,0,0,0,0,0,0,0,0,2,44,0,0,12,116,0,0,0,0,0,0,0,0,0,0,0,0,0,0,0,0,0,0,0,0,0,0,2,44,0,0,2,2,0,0,0,0,0,0,0,0,0,0,0,0,{"$f":"SUM(EA178:EA194)","v":0},0,0,0,12,4,2,2,78,6,4,4,0,0,0,0,0,0,0,0,26,12,2,6,0,0,2,8,0,0,0,0,26,10,2,6,78,14,2,6,0,0,0,0,0,0,2,2,0,0,0,0,0,0,0,0,0,0,0,0,0,0,0,0,{"$f":"SUM(GM178:GM194)","v":0},0,0,0,0,0,0,0,0,0,0,0,0,0,0,0,0,0,0,0,0,0,0,0,0,0,0,0,{"$f":"SUM(HO178:HO194)","v":0},0,0,0,0,0,0,0,0]
[{"$f":"CONCATENATE(A178,\"-\",A179,\"-\",A180,\"-\",A181,\"-\",A182,\"-\",A183,\"-\",A184,\"-\",A185,\"-\",A186,\"-\",A187,\"-\",A188,\"-\",A189)","v":"1-2-3-T--------"}]
[null," BAS001"," BAS002"," BAS003"," BAS004"," BAS005"," BAS006"," BAS007"," BAS008"," BAS009"," BAS010"," BAS011"," BAS012"," BAS013"," BAS014"," BAS015"," BAS016"," BAS017"," BAS018"," BAS019"," BAS020"," BAS021"," BAS022"," BAS023"," BAS024"," BAS025"," BAS026"," BAS027"," BAS028"," BAS029"," BAS030"," BAS031"," BAS032"," BAS033"," BAS034"," BAS035"," BAS036"," BAS037"," BAS038"," BAS039"," BAS040"," BAS041"," BAS042"," BAS043"," BAS044"," BAS045"," BAS046"," BAS047"," BAS048"," BAS049"," BAS050"," BAS051"," BAS052"," BAS053"," BAS054"," BAS055"," BAS056"," BAS057"," BAS058"," BAS059"," BAS060"," BAS061"," BAS062"," BAS063"," BAS064"," BAS065"," BAS066"," BAS067"," BAS068"," BAS069"," BAS070"," BAS071"," BAS072"," BAS073"," BAS074"," BAS075"," BAS076"," BAS077"," BAS078"," BAS079"," BAS080"," BAS081"," BAS082"," BAS083"," BAS084"," BAS085"," BAS086"," BAS087"," BAS088"," BAS089"," BAS090"," BAS091"," BAS092"," BAS093"," BAS094"," BAS095"," BAS096"," BAS097"," BAS098"," BAS099"," BAS100"," BAS101"," BAS102"," BAS103"," BAS104"," BAS105"," BAS106"," BAS107"," BAS108"," BAS109"," BAS110"," BAS111"," BAS112"," BAS113"," BAS114"," BAS115"," BAS116"," BAS117"," BAS118"," BAS119"," BAS120"," BAS121"," BAS122"," BAS123"," BAS124"," BAS125"," BAS126"," BAS127"," BAS128"," BAS129"," BAS130"," BAS131"," BAS132"," BAS133"," BAS134"," BAS135"," BAS136"," BAS137"," BAS138"," BAS139"," BAS140"," BAS141"," BAS142"," BAS143"," BAS144"," BAS145"," BAS146"," BAS147"," BAS148"," BAS149"," BAS150"," BAS151"," BAS152"," BAS153"," BAS154"," BAS155"," BAS156"," BAS157"," BAS158"," BAS159"," BAS160"," BAS161"," BAS162"," BAS163"," BAS164"," BAS165"," BAS166"," BAS167"," BAS168"," BAS169"," BAS170"," BAS171"," BAS172"," BAS173"," BAS174"," BAS175"," BAS176"," BAS177"," BAS178"," BAS179"," BAS180"," BAS181"," BAS182"," BAS183"," BAS184"," BAS185"," BAS186"," BAS187"," BAS188"," BAS189"," BAS190"," BAS191"," BAS192"," BAS193"," BAS194"," BAS195"," BAS196"," BAS197"," BAS198"," BAS199"," BAS200"," BAS201"," BAS202"," BAS203"," BAS204"," BAS205"," BAS206"," BAS207"," BAS208"," BAS209"," BAS210"," BAS211"," BAS212"," BAS213"," BAS214"," BAS215"," BAS216"," BAS217"," BAS218"," BAS219"," BAS220"," BAS221"," BAS222"," BAS223"," BAS224"," BAS225"," BAS226"," BAS227"," BAS228"," BAS229"," BAS230"]
[null,{"$f":"IF(B199=B177,\"SI\",\"NO\")","v":"SI"},{"$f":"IF(C199=C177,\"SI\",\"NO\")","v":"SI"},"SI","SI","SI","SI","SI","SI","SI","SI","SI","SI","SI","SI","SI","SI","SI","SI","SI","SI","SI","SI","SI","SI","SI","SI","SI","SI","SI","SI","SI","SI","SI","SI","SI","SI","SI","SI","SI","SI","SI","SI","SI","SI","SI","SI","SI","SI","SI","SI","SI","SI","SI","SI","SI","SI","SI","SI","SI","SI","SI","SI","SI","SI","SI",{"$f":"IF(BO199=BO177,\"SI\",\"NO\")","v":"SI"},"SI","SI","SI","SI","SI","SI","SI","SI","SI","SI","SI","SI","SI","SI","SI","SI","SI","SI","SI","SI","SI","SI","SI","SI","SI","SI","SI","SI","SI","SI","SI","SI","SI","SI","SI","SI","SI","SI","SI","SI","SI","SI","SI","SI","SI","SI","SI","SI","SI","SI","SI","SI","SI","SI","SI","SI","SI","SI","SI","SI","SI","SI","SI",{"$f":"IF(EA199=EA177,\"SI\",\"NO\")","v":"SI"},"SI","SI","SI","SI","SI","SI","SI","SI","SI","SI","SI","SI","SI","SI","SI","SI","SI","SI","SI","SI","SI","SI","SI","SI","SI","SI","SI","SI","SI","SI","SI","SI","SI","SI","SI","SI","SI","SI","SI","SI","SI","SI","SI","SI","SI","SI","SI","SI","SI","SI","SI","SI","SI","SI","SI","SI","SI","SI","SI","SI","SI","SI","SI",{"$f":"IF(GM199=GM177,\"SI\",\"NO\")","v":"SI"},"SI","SI","SI","SI","SI","SI","SI","SI","SI","SI","SI","SI","SI","SI","SI","SI","SI","SI","SI","SI","SI","SI","SI","SI","SI","SI","SI",{"$f":"IF(HO199=HO177,\"SI\",\"NO\")","v":"SI"},"SI","SI","SI","SI","SI","SI","SI","SI"]
[]
["PP017-10"]
["ANNO",2025]
["cod_red","03"]
["codmic","(Todas)"]
["cod_prov","(Todas)"]
["coddist","(Todas)"]
["cod_estab","(Todas)"]
["cod_eje","(Todas)"]
[]
[null,"Valores"]
["Etiquetas de fila"," BAS001"," BAS002"," BAS003"," BAS004"," BAS005"," BAS006"," BAS007"," BAS008"," BAS009"," BAS010"," BAS011"," BAS012"," BAS013"," BAS014"," BAS015"," BAS016"," BAS017"," BAS018"," BAS019"," BAS020"," BAS021"," BAS022"," BAS023"," BAS024"," BAS025"," BAS026"," BAS027"," BAS028"," BAS029"," BAS030"," BAS031"," BAS032"," BAS033"," BAS034"," BAS035"," BAS036"," BAS037"," BAS038"," BAS039"," BAS040"," BAS041"," BAS042"," BAS043"," BAS044"," BAS045"," BAS046"," BAS047"," BAS048"," BAS049"," BAS050"," BAS051"," BAS052"," BAS053"," BAS054"," BAS055"," BAS056"," BAS057"," BAS058"," BAS059"," BAS060"," BAS061"," BAS062"," BAS063"," BAS064"," BAS065"," BAS066"," BAS067"," BAS068"," BAS069"," BAS070"," BAS071"," BAS072"," BAS073"," BAS074"," BAS075"," BAS076"," BAS077"," BAS078"," BAS079"," BAS080"," BAS081"," BAS082"," BAS083"," BAS084"," BAS085"," BAS086"," BAS087"," BAS088"," BAS089"," BAS090"," BAS091"," BAS092"," BAS093"," BAS094"," BAS095"," BAS096"," BAS097"," BAS098"," BAS099"," BAS100"," BAS101"," BAS102"," BAS103"," BAS104"," BAS105"," BAS106"," BAS107"," BAS108"," BAS109"," BAS110"," BAS111"," BAS112"," BAS113"," BAS114"," BAS115"," BAS116"," BAS117"," BAS118"," BAS119"," BAS120"," BAS121"," BAS122"," BAS123"," BAS124"," BAS125"," BAS126"," BAS127"," BAS128"," BAS129"," BAS130"," BAS131"," BAS132"," BAS133"," BAS134"," BAS135"," BAS136"," BAS137"," BAS138"," BAS139"," BAS140"," BAS141"," BAS142"," BAS143"," BAS144"," BAS145"," BAS146"," BAS147"," BAS148"," BAS149"," BAS150"," BAS151"," BAS152"," BAS153"," BAS154"," BAS155"," BAS156"," BAS157"," BAS158"," BAS159"," BAS160"," BAS161"," BAS162"," BAS163"," BAS164"," BAS165"," BAS166"," BAS167"," BAS168"," BAS169"," BAS170"," BAS171"," BAS172"," BAS173"," BAS174"," BAS175"," BAS176"," BAS177"," BAS178"," BAS179"," BAS180"," BAS181"," BAS182"," BAS183"," BAS184"," BAS185"," BAS186"," BAS187"," BAS188"," BAS189"," BAS190"," BAS191"," BAS192"," BAS193"," BAS194"," BAS195"," BAS196"," BAS197"," BAS198"," BAS199"," BAS200"," BAS201"," BAS202"," BAS203"," BAS204"," BAS205"," BAS206"," BAS207"," BAS208"," BAS209"," BAS210"," BAS211"," BAS212"," BAS213"," BAS214"," BAS215"," BAS216"," BAS217"," BAS218"," BAS219"," BAS220"," BAS221"," BAS222"," BAS223"," BAS224"," BAS225"," BAS226"," BAS227"," BAS228"," BAS229"," BAS230"]
[1,3,120,8,51,0,0,0,0,1,40,1,40,0,0,1,40,1,20,1,20,0,0,0,0,1,20,1,20,0,0,1,20,0,0,0,0,0,0,0,0,0,0,0,0,0,0,0,0,0,0,2,6,0,0,0,0,0,0,0,0,0,0,0,0,0,0,0,0,0,0,0,0,0,0,0,0,0,0,0,0,0,0,0,0,0,0,0,0,0,0,0,0,0,0,0,0,0,0,0,0,0,0,0,0,0,0,0,0,0,0,0,0,0,0,0,0,0,0,0,0,0,0,0,0,0,0,0,0,1,40,0,0,2,60,0,0,0,0,1,20,0,0,1,20,0,0,0,0,0,0,0,0,0,0,0,0,0,0,0,0,0,0,0,0,0,0,0,0,0,0,0,0,0,0,0,0,0,0,0,0,0,0,0,0,0,0,0,0,0,0,0,0,0,0,0,0,0,0,0,0,0,0,0,0,0,0,0,0,0,0,0,0,0,0,0,0,0,0,0,0,0,0,0,0,0,0,0,0,0,0]
[2,1,2,18,24,0,0,0,0,1,2,1,2,0,0,1,2,1,40,23,91,0,0,0,0,1,40,1,40,0,0,1,40,0,0,0,0,0,0,0,0,0,0,0,0,0,0,0,0,0,0,0,0,0,0,0,0,0,0,0,0,0,0,0,0,0,0,0,0,0,0,0,0,0,0,0,0,0,0,0,0,0,0,0,0,0,0,0,0,0,0,0,0,0,0,0,0,0,0,0,0,0,0,0,0,0,0,0,0,0,0,0,0,0,0,0,0,0,0,0,0,0,0,0,0,0,0,0,0,11,12,0,0,1,2,0,0,0,0,2,41,0,0,0,0,0,0,0,0,0,0,0,0,0,0,0,0,0,0,0,0,0,0,0,0,0,0,0,0,0,0,0,0,0,0,0,0,0,0,0,0,0,0,0,0,0,0,0,0,0,0,0,0,0,0,0,0,0,0,0,0,0,0,0,0,0,0,0,0,0,0,0,0,0,0,0,0,0,0,0,0,0,0,0,0,0,0,0,0,0,0]
[3,1,1,32,63,0,0,0,0,0,0,0,0,0,0,0,0,0,0,5,8,0,0,0,0,0,0,0,0,0,0,0,0,1,60,18,114,0,0,0,0,1,60,1,60,0,0,1,60,0,0,3,11,0,0,0,0,0,0,0,0,0,0,0,0,0,0,0,0,0,0,0,0,0,0,0,0,0,0,0,0,0,0,0,0,0,0,0,0,0,0,0,0,0,0,0,0,0,0,0,0,0,0,0,0,0,0,0,0,0,0,0,0,0,0,0,0,0,0,0,0,0,0,0,0,0,0,0,0,15,26,0,0,0,0,0,0,0,0,0,0,0,0,0,0,0,0,0,0,1,60,0,0,1,60,0,0,0,0,0,0,0,0,0,0,0,0,0,0,0,0,0,0,0,0,0,0,0,0,0,0,0,0,0,0,0,0,0,0,0,0,0,0,0,0,0,0,0,0,0,0,0,0,0,0,0,0,0,0,0,0,0,0,0,0,0,0,0,0,0,0,0,0,0,0,0,0,0,0,0,0]
["T",5,123,58,138,0,0,0,0,2,42,2,42,0,0,2,42,2,60,29,119,0,0,0,0,2,60,2,60,0,0,2,60,1,60,18,114,0,0,0,0,1,60,1,60,0,0,1,60,0,0,5,17,0,0,0,0,0,0,0,0,0,0,0,0,0,0,0,0,0,0,0,0,0,0,0,0,0,0,0,0,0,0,0,0,0,0,0,0,0,0,0,0,0,0,0,0,0,0,0,0,0,0,0,0,0,0,0,0,0,0,0,0,0,0,0,0,0,0,0,0,0,0,0,0,0,0,0,0,27,78,0,0,3,62,0,0,0,0,3,61,0,0,1,20,0,0,0,0,1,60,0,0,1,60,0,0,0,0,0,0,0,0,0,0,0,0,0,0,0,0,0,0,0,0,0,0,0,0,0,0,0,0,0,0,0,0,0,0,0,0,0,0,0,0,0,0,0,0,0,0,0,0,0,0,0,0,0,0,0,0,0,0,0,0,0,0,0,0,0,0,0,0,0,0,0,0,0,0,0,0]
[]
[]
[]
[]
[]
[]
[]
[]
[]
[]
[]
[]
[]
[]
["TOTAL"]
[{"$f":"COUNT(A213:A229)","v":3},{"$f":"SUM(B213:B229)","v":10},{"$f":"SUM(C213:C229)","v":246},116,276,0,0,0,0,4,84,4,84,0,0,4,84,4,120,58,238,0,0,0,0,4,120,4,120,0,0,4,120,2,120,36,228,0,0,0,0,2,120,2,120,0,0,2,120,0,0,10,34,0,0,0,0,0,0,0,0,0,0,0,0,0,{"$f":"SUM(BO213:BO229)","v":0},0,0,0,0,0,0,0,0,0,0,0,0,0,0,0,0,0,0,0,0,0,0,0,0,0,0,0,0,0,0,0,0,0,0,0,0,0,0,0,0,0,0,0,0,0,0,0,0,0,0,0,0,0,0,0,0,0,0,0,0,0,0,54,{"$f":"SUM(EA213:EA229)","v":156},0,0,6,124,0,0,0,0,6,122,0,0,2,40,0,0,0,0,2,120,0,0,2,120,0,0,0,0,0,0,0,0,0,0,0,0,0,0,0,0,0,0,0,0,0,0,0,0,0,0,0,0,0,0,0,0,0,0,0,0,0,0,0,{"$f":"SUM(GM213:GM229)","v":0},0,0,0,0,0,0,0,0,0,0,0,0,0,0,0,0,0,0,0,0,0,0,0,0,0,0,0,0,0,0,0,0,0,0,0,0]
[{"$f":"CONCATENATE(A213,\"-\",A214,\"-\",A215,\"-\",A216,\"-\",A217,\"-\",A218,\"-\",A219,\"-\",A220,\"-\",A221,\"-\",A222,\"-\",A223,\"-\",A224)","v":"1-2-3-T--------"}]
[null," BAS001"," BAS002"," BAS003"," BAS004"," BAS005"," BAS006"," BAS007"," BAS008"," BAS009"," BAS010"," BAS011"," BAS012"," BAS013"," BAS014"," BAS015"," BAS016"," BAS017"," BAS018"," BAS019"," BAS020"," BAS021"," BAS022"," BAS023"," BAS024"," BAS025"," BAS026"," BAS027"," BAS028"," BAS029"," BAS030"," BAS031"," BAS032"," BAS033"," BAS034"," BAS035"," BAS036"," BAS037"," BAS038"," BAS039"," BAS040"," BAS041"," BAS042"," BAS043"," BAS044"," BAS045"," BAS046"," BAS047"," BAS048"," BAS049"," BAS050"," BAS051"," BAS052"," BAS053"," BAS054"," BAS055"," BAS056"," BAS057"," BAS058"," BAS059"," BAS060"," BAS061"," BAS062"," BAS063"," BAS064"," BAS065"," BAS066"," BAS067"," BAS068"," BAS069"," BAS070"," BAS071"," BAS072"," BAS073"," BAS074"," BAS075"," BAS076"," BAS077"," BAS078"," BAS079"," BAS080"," BAS081"," BAS082"," BAS083"," BAS084"," BAS085"," BAS086"," BAS087"," BAS088"," BAS089"," BAS090"," BAS091"," BAS092"," BAS093"," BAS094"," BAS095"," BAS096"," BAS097"," BAS098"," BAS099"," BAS100"," BAS101"," BAS102"," BAS103"," BAS104"," BAS105"," BAS106"," BAS107"," BAS108"," BAS109"," BAS110"," BAS111"," BAS112"," BAS113"," BAS114"," BAS115"," BAS116"," BAS117"," BAS118"," BAS119"," BAS120"," BAS121"," BAS122"," BAS123"," BAS124"," BAS125"," BAS126"," BAS127"," BAS128"," BAS129"," BAS130"," BAS131"," BAS132"," BAS133"," BAS134"," BAS135"," BAS136"," BAS137"," BAS138"," BAS139"," BAS140"," BAS141"," BAS142"," BAS143"," BAS144"," BAS145"," BAS146"," BAS147"," BAS148"," BAS149"," BAS150"," BAS151"," BAS152"," BAS153"," BAS154"," BAS155"," BAS156"," BAS157"," BAS158"," BAS159"," BAS160"," BAS161"," BAS162"," BAS163"," BAS164"," BAS165"," BAS166"," BAS167"," BAS168"," BAS169"," BAS170"," BAS171"," BAS172"," BAS173"," BAS174"," BAS175"," BAS176"," BAS177"," BAS178"," BAS179"," BAS180"," BAS181"," BAS182"," BAS183"," BAS184"," BAS185"," BAS186"," BAS187"," BAS188"," BAS189"," BAS190"," BAS191"," BAS192"," BAS193"," BAS194"," BAS195"," BAS196"," BAS197"," BAS198"," BAS199"," BAS200"," BAS201"," BAS202"," BAS203"," BAS204"," BAS205"," BAS206"," BAS207"," BAS208"," BAS209"," BAS210"," BAS211"," BAS212"," BAS213"," BAS214"," BAS215"," BAS216"," BAS217"," BAS218"," BAS219"," BAS220"," BAS221"," BAS222"," BAS223"," BAS224"," BAS225"," BAS226"," BAS227"," BAS228"," BAS229"," BAS230"]
[null,{"$f":"IF(B234=B212,\"SI\",\"NO\")","v":"SI"},{"$f":"IF(C234=C212,\"SI\",\"NO\")","v":"SI"},"SI","SI","SI","SI","SI","SI","SI","SI","SI","SI","SI","SI","SI","SI","SI","SI","SI","SI","SI","SI","SI","SI","SI","SI","SI","SI","SI","SI","SI","SI","SI","SI","SI","SI","SI","SI","SI","SI","SI","SI","SI","SI","SI","SI","SI","SI","SI","SI","SI","SI","SI","SI","SI","SI","SI","SI","SI","SI","SI","SI","SI","SI","SI",{"$f":"IF(BO234=BO212,\"SI\",\"NO\")","v":"SI"},"SI","SI","SI","SI","SI","SI","SI","SI","SI","SI","SI","SI","SI","SI","SI","SI","SI","SI","SI","SI","SI","SI","SI","SI","SI","SI","SI","SI","SI","SI","SI","SI","SI","SI","SI","SI","SI","SI","SI","SI","SI","SI","SI","SI","SI","SI","SI","SI","SI","SI","SI","SI","SI","SI","SI","SI","SI","SI","SI","SI","SI","SI","SI",{"$f":"IF(EA234=EA212,\"SI\",\"NO\")","v":"SI"},"SI","SI","SI","SI","SI","SI","SI","SI","SI","SI","SI","SI","SI","SI","SI","SI","SI","SI","SI","SI","SI","SI","SI","SI","SI","SI","SI","SI","SI","SI","SI","SI","SI","SI","SI","SI","SI","SI","SI","SI","SI","SI","SI","SI","SI","SI","SI","SI","SI","SI","SI","SI","SI","SI","SI","SI","SI","SI","SI","SI","SI","SI","SI",{"$f":"IF(GM234=GM212,\"SI\",\"NO\")","v":"SI"},"SI","SI","SI","SI","SI","SI","SI","SI","SI","SI","SI","SI","SI","SI","SI","SI","SI","SI","SI","SI","SI","SI","SI","SI","SI","SI","SI",{"$f":"IF(HO234=HO212,\"SI\",\"NO\")","v":"SI"},"SI","SI","SI","SI","SI","SI","SI","SI"]
[]
["PP017-11"]
["ANNO",2025]
["cod_red","03"]
["codmic","(Todas)"]
["cod_prov","(Todas)"]
["coddist","(Todas)"]
["cod_estab","(Todas)"]
["cod_eje","(Todas)"]
[]
[null,"Valores"]
["Etiquetas de fila"," BAS001"," BAS002"," BAS003"," BAS004"," BAS005"," BAS006"," BAS007"," BAS008"," BAS009"," BAS010"," BAS011"," BAS012"," BAS013"," BAS014"," BAS015"," BAS016"," BAS017"," BAS018"," BAS019"," BAS020"," BAS021"," BAS022"," BAS023"," BAS024"," BAS025"," BAS026"," BAS027"," BAS028"," BAS029"," BAS030"," BAS031"," BAS032"," BAS033"," BAS034"," BAS035"," BAS036"," BAS037"," BAS038"," BAS039"," BAS040"," BAS041"," BAS042"," BAS043"," BAS044"," BAS045"," BAS046"," BAS047"," BAS048"," BAS049"," BAS050"," BAS051"," BAS052"," BAS053"," BAS054"," BAS055"," BAS056"," BAS057"," BAS058"," BAS059"," BAS060"," BAS061"," BAS062"," BAS063"," BAS064"," BAS065"," BAS066"," BAS067"," BAS068"," BAS069"," BAS070"," BAS071"," BAS072"," BAS073"," BAS074"," BAS075"," BAS076"," BAS077"," BAS078"," BAS079"," BAS080"," BAS081"," BAS082"," BAS083"," BAS084"," BAS085"," BAS086"," BAS087"," BAS088"," BAS089"," BAS090"," BAS091"," BAS092"," BAS093"," BAS094"," BAS095"," BAS096"," BAS097"," BAS098"," BAS099"," BAS100"," BAS101"," BAS102"," BAS103"," BAS104"," BAS105"," BAS106"," BAS107"," BAS108"," BAS109"," BAS110"," BAS111"," BAS112"," BAS113"," BAS114"," BAS115"," BAS116"," BAS117"," BAS118"," BAS119"," BAS120"," BAS121"," BAS122"," BAS123"," BAS124"," BAS125"," BAS126"," BAS127"," BAS128"," BAS129"," BAS130"," BAS131"," BAS132"," BAS133"," BAS134"," BAS135"," BAS136"," BAS137"," BAS138"," BAS139"," BAS140"," BAS141"," BAS142"," BAS143"," BAS144"," BAS145"," BAS146"," BAS147"," BAS148"," BAS149"," BAS150"," BAS151"," BAS152"," BAS153"," BAS154"," BAS155"," BAS156"," BAS157"," BAS158"," BAS159"," BAS160"," BAS161"," BAS162"," BAS163"," BAS164"," BAS165"," BAS166"," BAS167"," BAS168"," BAS169"," BAS170"," BAS171"," BAS172"," BAS173"," BAS174"," BAS175"," BAS176"," BAS177"," BAS178"," BAS179"," BAS180"," BAS181"," BAS182"," BAS183"," BAS184"," BAS185"," BAS186"," BAS187"," BAS188"," BAS189"," BAS190"," BAS191"," BAS192"," BAS193"," BAS194"," BAS195"," BAS196"," BAS197"," BAS198"," BAS199"," BAS200"," BAS201"," BAS202"," BAS203"," BAS204"," BAS205"," BAS206"," BAS207"," BAS208"," BAS209"," BAS210"," BAS211"," BAS212"," BAS213"," BAS214"," BAS215"," BAS216"," BAS217"," BAS218"," BAS219"," BAS220"," BAS221"," BAS222"," BAS223"," BAS224"," BAS225"," BAS226"," BAS227"," BAS228"," BAS229"," BAS230"]
[1,0,0,0,0,0,0,0,0,0,0,2,0,0,0,5,0,0,0,0,0,0,0,0,0,0,0,2,0,0,0,2,0,0,0,0,0,0,0,2,0,0,0,3,0,0,0,0,0,0,0,2,0,0,0,0,0,0,0,0,0,0,0,2,3,0,0,2,2,0,2,3,0,2,0,0,0,0,0,0,0,0,0,0,0,0,0,0,0,0,0,0,0,0,0,0,0,0,0,0,0,0,0,0,0,0,0,0,0,0,0,0,0,0,0,0,0,0,0,0,0,0,0,0,0,0,0,0,0,0,0,0,0,0,0,0,0,0,0,0,0,0,0,0,0,0,0,0,0,0,0,0,0,0,0,0,0,0,0,0,0,0,0,0,0,0,0,0,0,0,0,0,0,0,0,0,0,0,0,0,0,0,0,0,0,0,0,0,0,0,0,0,0,0,0,0,0,0,0,0,0,0,0,0,0,0,0,0,0,0,0,0,0,0,0,0,0,0,0,0,0,0,0,0,0,0,0,0,0,0,0]
[2,0,0,0,0,0,0,0,0,0,0,0,0,1,0,1,1,0,0,0,0,0,0,0,0,0,0,0,0,0,0,0,0,0,0,0,0,0,0,0,1,0,0,1,1,0,0,0,0,0,0,0,0,0,0,0,0,0,0,0,0,0,0,0,1,0,0,0,0,0,0,1,0,0,0,0,0,0,0,0,0,0,0,0,0,0,0,0,0,0,0,0,0,0,0,0,0,0,0,0,0,0,0,0,0,0,0,0,0,0,0,0,0,0,0,0,0,0,0,0,0,0,0,0,0,0,0,0,0,0,0,0,0,0,0,0,0,0,0,0,0,0,0,0,0,0,0,0,0,0,0,0,0,0,0,0,0,0,0,0,0,0,0,0,0,0,0,0,0,0,0,0,0,0,0,0,0,0,0,0,0,0,0,0,0,0,0,0,0,0,0,0,0,0,0,0,0,0,0,0,0,0,0,0,0,0,0,0,0,0,0,0,0,0,0,0,0,0,0,0,0,0,0,0,0,0,0,0,0,0,0]
[3,0,0,0,0,0,0,0,0,0,0,0,1,0,0,18,3,0,0,0,0,0,0,0,0,0,0,0,0,0,0,0,1,0,0,0,0,0,0,1,2,0,0,2,2,0,0,0,0,0,0,1,2,0,0,0,0,0,0,0,0,0,0,0,2,0,0,0,0,0,0,2,0,0,0,0,0,0,0,0,0,0,0,0,0,0,0,0,0,0,0,0,0,0,0,0,0,0,0,0,0,0,0,0,0,0,0,0,0,0,0,0,0,0,0,0,0,0,0,0,0,0,0,0,0,0,0,0,1,3,2,24,1,9,0,0,17,80,9,66,9,92,0,0,1,3,1,9,1,9,0,0,1,3,1,9,1,9,0,0,1,3,2,24,1,9,0,0,1,3,1,9,1,9,0,0,0,0,0,0,0,0,0,0,1,3,2,24,1,9,0,0,0,0,0,0,0,0,0,0,0,0,0,0,0,0,0,0,0,0,0,0,0,0,0,0,0,0,0,0,0,0,0,0,0,0,0,0,0,0,0]
["T",0,0,0,0,0,0,0,0,0,0,2,1,1,0,24,4,0,0,0,0,0,0,0,0,0,0,2,0,0,0,2,1,0,0,0,0,0,0,3,3,0,0,6,3,0,0,0,0,0,0,3,2,0,0,0,0,0,0,0,0,0,0,2,6,0,0,2,2,0,2,6,0,2,0,0,0,0,0,0,0,0,0,0,0,0,0,0,0,0,0,0,0,0,0,0,0,0,0,0,0,0,0,0,0,0,0,0,0,0,0,0,0,0,0,0,0,0,0,0,0,0,0,0,0,0,0,0,1,3,2,24,1,9,0,0,17,80,9,66,9,92,0,0,1,3,1,9,1,9,0,0,1,3,1,9,1,9,0,0,1,3,2,24,1,9,0,0,1,3,1,9,1,9,0,0,0,0,0,0,0,0,0,0,1,3,2,24,1,9,0,0,0,0,0,0,0,0,0,0,0,0,0,0,0,0,0,0,0,0,0,0,0,0,0,0,0,0,0,0,0,0,0,0,0,0,0,0,0,0,0]
[]
[]
[]
[]
[]
[]
[]
[]
[]
[]
[]
[]
[]
[]
["TOTAL"]
[{"$f":"COUNT(A248:A264)","v":3},{"$f":"SUM(B248:B264)","v":0},{"$f":"SUM(C248:C264)","v":0},0,0,0,0,0,0,0,0,4,2,2,0,48,8,0,0,0,0,0,0,0,0,0,0,4,0,0,0,4,2,0,0,0,0,0,0,6,6,0,0,12,6,0,0,0,0,0,0,6,4,0,0,0,0,0,0,0,0,0,0,4,12,0,{"$f":"SUM(BO248:BO264)","v":0},4,4,0,4,12,0,4,0,0,0,0,0,0,0,0,0,0,0,0,0,0,0,0,0,0,0,0,0,0,0,0,0,0,0,0,0,0,0,0,0,0,0,0,0,0,0,0,0,0,0,0,0,0,0,0,0,0,0,0,0,0,2,6,{"$f":"SUM(EA248:EA264)","v":4},48,2,18,0,0,34,160,18,132,18,184,0,0,2,6,2,18,2,18,0,0,2,6,2,18,2,18,0,0,2,6,4,48,2,18,0,0,2,6,2,18,2,18,0,0,0,0,0,0,0,0,0,0,2,6,4,48,2,18,0,0,0,0,{"$f":"SUM(GM248:GM264)","v":0},0,0,0,0,0,0,0,0,0,0,0,0,0,0,0,0,0,0,0,0,0,0,0,0,0,0,0,0,0,0,0,0,0,0,0,0]
[{"$f":"CONCATENATE(A248,\"-\",A249,\"-\",A250,\"-\",A251,\"-\",A252,\"-\",A253,\"-\",A254,\"-\",A255,\"-\",A256,\"-\",A257,\"-\",A258,\"-\",A259)","v":"1-2-3-T--------"}]
[null," BAS001"," BAS002"," BAS003"," BAS004"," BAS005"," BAS006"," BAS007"," BAS008"," BAS009"," BAS010"," BAS011"," BAS012"," BAS013"," BAS014"," BAS015"," BAS016"," BAS017"," BAS018"," BAS019"," BAS020"," BAS021"," BAS022"," BAS023"," BAS024"," BAS025"," BAS026"," BAS027"," BAS028"," BAS029"," BAS030"," BAS031"," BAS032"," BAS033"," BAS034"," BAS035"," BAS036"," BAS037"," BAS038"," BAS039"," BAS040"," BAS041"," BAS042"," BAS043"," BAS044"," BAS045"," BAS046"," BAS047"," BAS048"," BAS049"," BAS050"," BAS051"," BAS052"," BAS053"," BAS054"," BAS055"," BAS056"," BAS057"," BAS058"," BAS059"," BAS060"," BAS061"," BAS062"," BAS063"," BAS064"," BAS065"," BAS066"," BAS067"," BAS068"," BAS069"," BAS070"," BAS071"," BAS072"," BAS073"," BAS074"," BAS075"," BAS076"," BAS077"," BAS078"," BAS079"," BAS080"," BAS081"," BAS082"," BAS083"," BAS084"," BAS085"," BAS086"," BAS087"," BAS088"," BAS089"," BAS090"," BAS091"," BAS092"," BAS093"," BAS094"," BAS095"," BAS096"," BAS097"," BAS098"," BAS099"," BAS100"," BAS101"," BAS102"," BAS103"," BAS104"," BAS105"," BAS106"," BAS107"," BAS108"," BAS109"," BAS110"," BAS111"," BAS112"," BAS113"," BAS114"," BAS115"," BAS116"," BAS117"," BAS118"," BAS119"," BAS120"," BAS121"," BAS122"," BAS123"," BAS124"," BAS125"," BAS126"," BAS127"," BAS128"," BAS129"," BAS130"," BAS131"," BAS132"," BAS133"," BAS134"," BAS135"," BAS136"," BAS137"," BAS138"," BAS139"," BAS140"," BAS141"," BAS142"," BAS143"," BAS144"," BAS145"," BAS146"," BAS147"," BAS148"," BAS149"," BAS150"," BAS151"," BAS152"," BAS153"," BAS154"," BAS155"," BAS156"," BAS157"," BAS158"," BAS159"," BAS160"," BAS161"," BAS162"," BAS163"," BAS164"," BAS165"," BAS166"," BAS167"," BAS168"," BAS169"," BAS170"," BAS171"," BAS172"," BAS173"," BAS174"," BAS175"," BAS176"," BAS177"," BAS178"," BAS179"," BAS180"," BAS181"," BAS182"," BAS183"," BAS184"," BAS185"," BAS186"," BAS187"," BAS188"," BAS189"," BAS190"," BAS191"," BAS192"," BAS193"," BAS194"," BAS195"," BAS196"," BAS197"," BAS198"," BAS199"," BAS200"," BAS201"," BAS202"," BAS203"," BAS204"," BAS205"," BAS206"," BAS207"," BAS208"," BAS209"," BAS210"," BAS211"," BAS212"," BAS213"," BAS214"," BAS215"," BAS216"," BAS217"," BAS218"," BAS219"," BAS220"," BAS221"," BAS222"," BAS223"," BAS224"," BAS225"," BAS226"," BAS227"," BAS228"," BAS229"," BAS230"]
[null,{"$f":"IF(B269=B247,\"SI\",\"NO\")","v":"SI"},{"$f":"IF(C269=C247,\"SI\",\"NO\")","v":"SI"},"SI","SI","SI","SI","SI","SI","SI","SI","SI","SI","SI","SI","SI","SI","SI","SI","SI","SI","SI","SI","SI","SI","SI","SI","SI","SI","SI","SI","SI","SI","SI","SI","SI","SI","SI","SI","SI","SI","SI","SI","SI","SI","SI","SI","SI","SI","SI","SI","SI","SI","SI","SI","SI","SI","SI","SI","SI","SI","SI","SI","SI","SI","SI",{"$f":"IF(BO269=BO247,\"SI\",\"NO\")","v":"SI"},"SI","SI","SI","SI","SI","SI","SI","SI","SI","SI","SI","SI","SI","SI","SI","SI","SI","SI","SI","SI","SI","SI","SI","SI","SI","SI","SI","SI","SI","SI","SI","SI","SI","SI","SI","SI","SI","SI","SI","SI","SI","SI","SI","SI","SI","SI","SI","SI","SI","SI","SI","SI","SI","SI","SI","SI","SI","SI","SI","SI","SI","SI","SI",{"$f":"IF(EA269=EA247,\"SI\",\"NO\")","v":"SI"},"SI","SI","SI","SI","SI","SI","SI","SI","SI","SI","SI","SI","SI","SI","SI","SI","SI","SI","SI","SI","SI","SI","SI","SI","SI","SI","SI","SI","SI","SI","SI","SI","SI","SI","SI","SI","SI","SI","SI","SI","SI","SI","SI","SI","SI","SI","SI","SI","SI","SI","SI","SI","SI","SI","SI","SI","SI","SI","SI","SI","SI","SI","SI",{"$f":"IF(GM269=GM247,\"SI\",\"NO\")","v":"SI"},"SI","SI","SI","SI","SI","SI","SI","SI","SI","SI","SI","SI","SI","SI","SI","SI","SI","SI","SI","SI","SI","SI","SI","SI","SI","SI","SI","SI","SI","SI","SI","SI","SI","SI","SI","SI"]
[]
["PP017-12"]
["ANNO",2025]
["cod_red","03"]
["codmic","(Todas)"]
["cod_prov","(Todas)"]
["coddist","(Todas)"]
["cod_estab","(Todas)"]
["cod_eje","(Todas)"]
[]
[null,"Valores"]
["Etiquetas de fila"," BAS001"," BAS002"," BAS003"," BAS004"," BAS005"," BAS006"," BAS007"," BAS008"," BAS009"," BAS010"," BAS011"," BAS012"," BAS013"," BAS014"," BAS015"," BAS016"," BAS017"," BAS018"," BAS019"," BAS020"," BAS021"," BAS022"," BAS023"," BAS024"," BAS025"," BAS026"," BAS027"," BAS028"," BAS029"," BAS030"," BAS031"," BAS032"," BAS033"," BAS034"," BAS035"," BAS036"," BAS037"," BAS038"," BAS039"," BAS040"," BAS041"," BAS042"," BAS043"," BAS044"," BAS045"," BAS046"," BAS047"," BAS048"," BAS049"," BAS050"," BAS051"," BAS052"," BAS053"," BAS054"," BAS055"," BAS056"," BAS057"," BAS058"," BAS059"," BAS060"," BAS061"," BAS062"," BAS063"," BAS064"," BAS065"," BAS066"," BAS067"," BAS068"," BAS069"," BAS070"," BAS071"," BAS072"," BAS073"," BAS074"," BAS075"," BAS076"," BAS077"," BAS078"," BAS079"," BAS080"," BAS081"," BAS082"," BAS083"," BAS084"," BAS085"," BAS086"," BAS087"," BAS088"," BAS089"," BAS090"," BAS091"," BAS092"," BAS093"," BAS094"," BAS095"," BAS096"," BAS097"," BAS098"," BAS099"," BAS100"," BAS101"," BAS102"," BAS103"," BAS104"," BAS105"," BAS106"," BAS107"," BAS108"," BAS109"," BAS110"," BAS111"," BAS112"," BAS113"," BAS114"," BAS115"," BAS116"," BAS117"," BAS118"," BAS119"," BAS120"," BAS121"," BAS122"," BAS123"," BAS124"," BAS125"," BAS126"," BAS127"," BAS128"," BAS129"," BAS130"," BAS131"," BAS132"," BAS133"," BAS134"," BAS135"," BAS136"," BAS137"," BAS138"," BAS139"," BAS140"," BAS141"," BAS142"," BAS143"," BAS144"," BAS145"," BAS146"," BAS147"," BAS148"," BAS149"," BAS150"," BAS151"," BAS152"," BAS153"," BAS154"," BAS155"," BAS156"," BAS157"," BAS158"," BAS159"," BAS160"," BAS161"," BAS162"," BAS163"," BAS164"," BAS165"," BAS166"," BAS167"," BAS168"," BAS169"," BAS170"," BAS171"," BAS172"," BAS173"," BAS174"," BAS175"," BAS176"," BAS177"," BAS178"," BAS179"," BAS180"," BAS181"," BAS182"," BAS183"," BAS184"," BAS185"," BAS186"," BAS187"," BAS188"," BAS189"," BAS190"," BAS191"," BAS192"," BAS193"," BAS194"," BAS195"," BAS196"," BAS197"," BAS198"," BAS199"," BAS200"," BAS201"," BAS202"," BAS203"," BAS204"," BAS205"," BAS206"," BAS207"," BAS208"," BAS209"," BAS210"," BAS211"," BAS212"," BAS213"," BAS214"," BAS215"," BAS216"," BAS217"," BAS218"," BAS219"," BAS220"," BAS221"," BAS222"," BAS223"," BAS224"," BAS225"," BAS226"," BAS227"," BAS228"," BAS229"," BAS230"]
[1,0,0,0,0,0,0,0,0,0,0,0,0,0,0,0,0,0,0,0,0,0,0,0,0,0,0,0,0,0,0,0,0,0,0,0,0,0,0,0,0,0,0,0,0,0,0,0,0,0,0,0,0,0,0,0,0,0,0,0,0,0,0,0,0,0,0,0,0,0,0,0,0,0,0,0,0,0,0,0,0,0,0,0,0,0,0,0,0,0,0,0,0,0,0,0,0,0,0,0,0,0,0,0,0,0,0,0,0,0,0,0,0,0,0,0,0,0,0,0,0,0,0,0,0,0,0,0,0,0,0,0,0,0,0,0,0,0,0,0,0,0,0,0,0,0,0,0,0,0,0,0,0,0,0,0,0,0,0,0,0,0,0,0,0,0,0,0,0,0,0,0,0,0,0,0,0,0,0,0,0,0,0,0,0,0,0,0,0,0,0,0,0,0,0,0,0,0,0,0,0,0,0,0,0,0,0,0,0,0,0,0,0,0,0,0,0,0,0,0,0,0,0,0,0,0,0,0,0,0,0]
[2,0,0,0,0,0,0,0,0,0,0,0,0,0,0,0,0,0,0,0,0,0,0,0,0,0,0,0,0,0,0,0,0,0,0,0,0,0,0,0,0,0,0,0,0,0,0,0,0,0,0,0,0,0,0,0,0,0,0,0,0,0,0,0,0,0,0,0,0,0,0,0,0,0,0,0,0,0,0,1,4,1,4,0,0,1,4,1,4,0,0,1,4,1,4,0,0,1,4,1,4,0,0,1,4,1,4,0,0,1,4,1,4,0,0,0,0,0,0,0,0,1,4,1,4,0,0,1,4,1,4,0,0,0,0,0,0,0,0,0,0,0,0,0,0,0,0,0,0,0,0,0,0,0,0,0,0,0,0,0,0,0,0,0,0,0,0,0,0,0,0,0,0,0,0,0,0,0,0,0,0,0,0,0,0,0,0,0,0,0,0,0,0,0,0,0,0,0,0,0,0,0,0,0,0,0,0,0,0,0,0,0,0,0,0,0,0,0,0,0,0,0,0,0,0,0,0,0,0,0,0]
[3,1,3,2,18,1,9,0,0,0,0,0,0,0,0,0,0,0,0,1,15,0,0,0,0,0,0,0,0,0,0,0,0,0,0,0,0,0,0,0,0,0,0,0,0,0,0,0,0,0,0,0,0,0,0,0,0,0,0,1,1,1,0,0,0,0,0,0,0,0,0,0,0,0,0,0,0,1,2,0,0,1,9,10,43,15,67,11,86,0,0,0,0,1,2,0,0,0,0,0,0,0,0,0,0,0,0,0,0,0,0,0,0,0,0,0,0,0,0,0,0,0,0,0,0,0,0,6,10,2,3,0,0,0,0,0,0,0,0,0,0,0,0,0,0,0,0,0,0,0,0,0,0,0,0,0,0,0,0,0,0,0,0,0,0,0,0,0,0,0,0,0,0,0,0,0,0,0,0,0,0,0,0,0,0,0,0,0,0,0,0,0,0,0,0,0,0,0,0,0,0,0,0,0,0,0,0,0,0,0,0,0,0,0,0,0,0,0,0,0,0,0,0,0,0,0,0,0,0,0,0]
["T",1,3,2,18,1,9,0,0,0,0,0,0,0,0,0,0,0,0,1,15,0,0,0,0,0,0,0,0,0,0,0,0,0,0,0,0,0,0,0,0,0,0,0,0,0,0,0,0,0,0,0,0,0,0,0,0,0,0,1,1,1,0,0,0,0,0,0,0,0,0,0,0,0,0,0,0,1,2,1,4,2,13,10,43,16,71,12,90,0,0,1,4,2,6,0,0,1,4,1,4,0,0,1,4,1,4,0,0,1,4,1,4,0,0,0,0,0,0,0,0,1,4,1,4,0,0,7,14,3,7,0,0,0,0,0,0,0,0,0,0,0,0,0,0,0,0,0,0,0,0,0,0,0,0,0,0,0,0,0,0,0,0,0,0,0,0,0,0,0,0,0,0,0,0,0,0,0,0,0,0,0,0,0,0,0,0,0,0,0,0,0,0,0,0,0,0,0,0,0,0,0,0,0,0,0,0,0,0,0,0,0,0,0,0,0,0,0,0,0,0,0,0,0,0,0,0,0,0,0,0]
[]
[]
[]
[]
[]
[]
[]
[]
[]
["TOTAL"]
[{"$f":"COUNT(A283:A294)","v":3},{"$f":"SUM(B283:B294)","v":2},{"$f":"SUM(C283:C294)","v":6},4,36,2,18,0,0,0,0,0,0,0,0,0,0,0,0,2,30,0,0,0,0,0,0,0,0,0,0,0,0,0,0,0,0,0,0,0,0,0,0,0,0,0,0,0,0,0,0,0,0,0,0,0,0,0,0,2,2,2,0,0,0,0,{"$f":"SUM(BO283:BO294)","v":0},0,0,0,0,0,0,0,0,0,0,2,4,2,8,4,26,20,86,32,142,24,180,0,0,2,8,4,12,0,0,2,8,2,8,0,0,2,8,2,8,0,0,2,8,2,8,0,0,0,0,0,0,0,0,2,8,2,8,0,0,14,28,6,{"$f":"SUM(EA283:EA294)","v":14},0,0,0,0,0,0,0,0,0,0,0,0,0,0,0,0,0,0,0,0,0,0,0,0,0,0,0,0,0,0,0,0,0,0,0,0,0,0,0,0,0,0,0,0,0,0,0,0,0,0,0,0,0,0,0,0,0,0,0,0,0,0,0,{"$f":"SUM(GM283:GM294)","v":0},0,0,0,0,0,0,0,0,0,0,0,0,0,0,0,0,0,0,0,0,0,0,0,0,0,0,0,0,0,0,0,0,0,0,0,0]
[{"$f":"CONCATENATE(A283,\"-\",A284,\"-\",A285,\"-\",A286,\"-\",A287,\"-\",A288,\"-\",A289,\"-\",A290,\"-\",A291,\"-\",A292,\"-\",A293,\"-\",A294)","v":"1-2-3-T--------"}]
[null," BAS001"," BAS002"," BAS003"," BAS004"," BAS005"," BAS006"," BAS007"," BAS008"," BAS009"," BAS010"," BAS011"," BAS012"," BAS013"," BAS014"," BAS015"," BAS016"," BAS017"," BAS018"," BAS019"," BAS020"," BAS021"," BAS022"," BAS023"," BAS024"," BAS025"," BAS026"," BAS027"," BAS028"," BAS029"," BAS030"," BAS031"," BAS032"," BAS033"," BAS034"," BAS035"," BAS036"," BAS037"," BAS038"," BAS039"," BAS040"," BAS041"," BAS042"," BAS043"," BAS044"," BAS045"," BAS046"," BAS047"," BAS048"," BAS049"," BAS050"," BAS051"," BAS052"," BAS053"," BAS054"," BAS055"," BAS056"," BAS057"," BAS058"," BAS059"," BAS060"," BAS061"," BAS062"," BAS063"," BAS064"," BAS065"," BAS066"," BAS067"," BAS068"," BAS069"," BAS070"," BAS071"," BAS072"," BAS073"," BAS074"," BAS075"," BAS076"," BAS077"," BAS078"," BAS079"," BAS080"," BAS081"," BAS082"," BAS083"," BAS084"," BAS085"," BAS086"," BAS087"," BAS088"," BAS089"," BAS090"," BAS091"," BAS092"," BAS093"," BAS094"," BAS095"," BAS096"," BAS097"," BAS098"," BAS099"," BAS100"," BAS101"," BAS102"," BAS103"," BAS104"," BAS105"," BAS106"," BAS107"," BAS108"," BAS109"," BAS110"," BAS111"," BAS112"," BAS113"," BAS114"," BAS115"," BAS116"," BAS117"," BAS118"," BAS119"," BAS120"," BAS121"," BAS122"," BAS123"," BAS124"," BAS125"," BAS126"," BAS127"," BAS128"," BAS129"," BAS130"," BAS131"," BAS132"," BAS133"," BAS134"," BAS135"," BAS136"," BAS137"," BAS138"," BAS139"," BAS140"," BAS141"," BAS142"," BAS143"," BAS144"," BAS145"," BAS146"," BAS147"," BAS148"," BAS149"," BAS150"," BAS151"," BAS152"," BAS153"," BAS154"," BAS155"," BAS156"," BAS157"," BAS158"," BAS159"," BAS160"," BAS161"," BAS162"," BAS163"," BAS164"," BAS165"," BAS166"," BAS167"," BAS168"," BAS169"," BAS170"," BAS171"," BAS172"," BAS173"," BAS174"," BAS175"," BAS176"," BAS177"," BAS178"," BAS179"," BAS180"," BAS181"," BAS182"," BAS183"," BAS184"," BAS185"," BAS186"," BAS187"," BAS188"," BAS189"," BAS190"," BAS191"," BAS192"," BAS193"," BAS194"," BAS195"," BAS196"," BAS197"," BAS198"," BAS199"," BAS200"," BAS201"," BAS202"," BAS203"," BAS204"," BAS205"," BAS206"," BAS207"," BAS208"," BAS209"," BAS210"," BAS211"," BAS212"," BAS213"," BAS214"," BAS215"," BAS216"," BAS217"," BAS218"," BAS219"," BAS220"," BAS221"," BAS222"," BAS223"," BAS224"," BAS225"," BAS226"," BAS227"," BAS228"," BAS229"," BAS230"]
[null,{"$f":"IF(B299=B282,\"SI\",\"NO\")","v":"SI"},{"$f":"IF(C299=C282,\"SI\",\"NO\")","v":"SI"},"SI","SI","SI","SI","SI","SI","SI","SI","SI","SI","SI","SI","SI","SI","SI","SI","SI","SI","SI","SI","SI","SI","SI","SI","SI","SI","SI","SI","SI","SI","SI","SI","SI","SI","SI","SI","SI","SI","SI","SI","SI","SI","SI","SI","SI","SI","SI","SI","SI","SI","SI","SI","SI","SI","SI","SI","SI","SI","SI","SI","SI","SI","SI",{"$f":"IF(BO299=BO282,\"SI\",\"NO\")","v":"SI"},"SI","SI","SI","SI","SI","SI","SI","SI","SI","SI","SI","SI","SI","SI","SI","SI","SI","SI","SI","SI","SI","SI","SI","SI","SI","SI","SI","SI","SI","SI","SI","SI","SI","SI","SI","SI","SI","SI","SI","SI","SI","SI","SI","SI","SI","SI","SI","SI","SI","SI","SI","SI","SI","SI","SI","SI","SI","SI","SI","SI","SI","SI","SI",{"$f":"IF(EA299=EA282,\"SI\",\"NO\")","v":"SI"},"SI","SI","SI","SI","SI","SI","SI","SI","SI","SI","SI","SI","SI","SI","SI","SI","SI","SI","SI","SI","SI","SI","SI","SI","SI","SI","SI","SI","SI","SI","SI","SI","SI","SI","SI","SI","SI","SI","SI","SI","SI","SI","SI","SI","SI","SI","SI","SI","SI","SI","SI","SI","SI","SI","SI","SI","SI","SI","SI","SI","SI","SI","SI",{"$f":"IF(GM299=GM282,\"SI\",\"NO\")","v":"SI"},"SI","SI","SI","SI","SI","SI","SI","SI","SI","SI","SI","SI","SI","SI","SI","SI","SI","SI","SI","SI","SI","SI","SI","SI","SI","SI","SI","SI","SI","SI","SI","SI","SI","SI","SI","SI"]
[]
["PP018 4"]
["ANNO",2025]
["cod_red","03"]
["codmic","(Todas)"]
["cod_prov","(Todas)"]
["coddist","(Todas)"]
["cod_estab","(Todas)"]
["cod_eje","(Todas)"]
[]
[null,"Valores"]
["Etiquetas de fila"," BAS001"," BAS002"," BAS003"," BAS004"," BAS005"," BAS006"," BAS007"," BAS008"," BAS009"," BAS010"," BAS011"," BAS012"," BAS013"," BAS014"," BAS015"," BAS016"," BAS017"," BAS018"," BAS019"," BAS020"," BAS021"," BAS022"," BAS023"," BAS024"," BAS025"," BAS026"," BAS027"," BAS028"," BAS029"," BAS030"," BAS031"," BAS032"," BAS033"," BAS034"," BAS035"," BAS036"," BAS037"," BAS038"," BAS039"," BAS040"," BAS041"," BAS042"," BAS043"," BAS044"," BAS045"," BAS046"," BAS047"," BAS048"," BAS049"," BAS050"," BAS051"," BAS052"," BAS053"," BAS054"," BAS055"," BAS056"," BAS057"," BAS058"," BAS059"," BAS060"," BAS061"," BAS062"," BAS063"," BAS064"," BAS065"," BAS066"," BAS067"," BAS068"," BAS069"," BAS070"," BAS071"," BAS072"," BAS073"," BAS074"," BAS075"," BAS076"," BAS077"," BAS078"," BAS079"," BAS080"," BAS081"," BAS082"," BAS083"," BAS084"," BAS085"," BAS086"," BAS087"," BAS088"," BAS089"," BAS090"," BAS091"," BAS092"," BAS093"," BAS094"," BAS095"," BAS096"," BAS097"," BAS098"," BAS099"," BAS100"," BAS101"," BAS102"," BAS103"," BAS104"," BAS105"," BAS106"," BAS107"," BAS108"," BAS109"," BAS110"," BAS111"," BAS112"," BAS113"," BAS114"," BAS115"," BAS116"," BAS117"," BAS118"," BAS119"," BAS120"," BAS121"," BAS122"," BAS123"," BAS124"," BAS125"," BAS126"," BAS127"," BAS128"," BAS129"," BAS130"," BAS131"," BAS132"," BAS133"," BAS134"," BAS135"," BAS136"," BAS137"," BAS138"," BAS139"," BAS140"," BAS141"," BAS142"," BAS143"," BAS144"," BAS145"," BAS146"," BAS147"," BAS148"," BAS149"," BAS150"," BAS151"," BAS152"," BAS153"," BAS154"," BAS155"," BAS156"," BAS157"," BAS158"," BAS159"," BAS160"," BAS161"," BAS162"," BAS163"," BAS164"," BAS165"," BAS166"," BAS167"," BAS168"," BAS169"," BAS170"," BAS171"," BAS172"," BAS173"," BAS174"," BAS175"," BAS176"," BAS177"," BAS178"," BAS179"," BAS180"," BAS181"," BAS182"," BAS183"," BAS184"," BAS185"," BAS186"," BAS187"," BAS188"," BAS189"," BAS190"," BAS191"," BAS192"," BAS193"," BAS194"," BAS195"," BAS196"," BAS197"," BAS198"," BAS199"," BAS200"," BAS201"," BAS202"," BAS203"," BAS204"," BAS205"," BAS206"," BAS207"," BAS208"," BAS209"," BAS210"," BAS211"," BAS212"," BAS213"," BAS214"," BAS215"," BAS216"," BAS217"," BAS218"," BAS219"," BAS220"," BAS221"," BAS222"," BAS223"," BAS224"," BAS225"," BAS226"," BAS227"," BAS228"," BAS229"," BAS230"]
[1,1314,946,393,74,97,50,0,1,1,0,0,1,1,1,1,0,0,0,0,0,0,0,0,0,0,0,0,0,0,0,0,0,0,0,0,0,0,0,0,0,0,0,0,0,0,0,0,0,0,0,0,0,0,0,0,0,0,0,0,0,0,0,0,0,0,0,0,0,0,0,0,0,0,2,20,1,14,0,0,0,0,0,0,0,0,259,0,0,0,0,0,0,0,0,0,0,0,0,0,0,0,0,0,0,0,0,0,0,0,0,0,0,0,0,0,0,0,0,0,0,0,0,0,0,0,0,0,0,0,0,0,0,0,0,0,0,0,0,0,0,0,0,0,0,0,0,0,0,0,0,0,0,0,0,0,0,0,0,0,0,0,0,0,0,0,0,0,0,0,0,0,0,0,0,0,0,0,0,0,0,0,0,0,0,0,0,0,0,0,0,0,0,0,0,0,0,0,0,0,0,0,0,0,0,0,0,0,0,0,0,0,0,0,0,0,0,0,0,0,0,0,0,0,0,0,0,0,0,0,0]
[2,1090,657,465,166,89,38,0,0,1,0,0,0,1,0,0,0,0,0,0,0,0,0,0,0,0,0,0,0,0,2,8,0,0,0,0,0,0,0,0,0,0,0,0,0,0,0,0,0,0,0,0,0,0,0,0,0,0,0,0,0,0,0,0,0,0,0,0,0,0,0,0,0,0,8,50,1,25,0,0,1,1,0,0,0,0,137,0,0,0,0,0,0,0,0,0,0,0,0,0,0,0,0,0,0,0,0,0,0,0,0,0,0,0,0,0,0,0,0,0,0,0,0,0,0,0,0,0,0,0,0,0,0,0,0,0,0,0,0,0,0,0,0,0,0,0,0,0,0,0,0,0,0,0,0,0,0,0,0,0,0,0,0,0,0,0,0,0,0,0,0,0,0,0,0,0,0,0,0,0,0,0,0,0,0,0,0,0,0,0,0,0,0,0,0,0,0,0,0,0,0,0,0,0,0,0,0,0,0,0,0,0,0,0,0,0,0,0,0,0,0,0,0,0,0,0,0,0,0,0,0]
[3,1089,881,651,337,148,103,0,1,2,1,1,2,3,1,12,0,0,0,0,0,0,0,0,0,0,0,0,0,0,24,40,6,6,0,0,0,0,2,18,3,0,0,0,0,0,0,0,0,0,0,0,0,0,0,0,0,0,0,0,0,11,16,0,0,0,0,0,0,0,0,0,0,0,5,19,0,0,0,0,0,0,0,0,0,0,199,0,3,0,0,0,0,0,0,0,0,0,0,0,0,0,0,0,0,0,0,0,0,0,0,0,0,0,0,0,0,0,0,0,0,0,0,0,0,0,0,0,0,0,0,0,0,0,0,0,0,0,0,0,0,0,0,0,0,0,0,0,0,0,0,0,0,0,0,0,0,0,0,0,0,0,0,0,0,0,0,0,0,0,0,0,0,0,0,0,0,0,0,0,0,0,0,0,0,0,0,0,0,0,0,0,0,0,0,0,0,0,0,0,0,0,0,0,0,0,0,0,0,0,0,0,0,0,0,0,0,0,0,0,0,0,0,0,0,0,0,0,0,0,0]
["T",3493,2484,1509,577,334,191,0,2,4,1,1,3,5,2,13,0,0,0,0,0,0,0,0,0,0,0,0,0,0,26,48,6,6,0,0,0,0,2,18,3,0,0,0,0,0,0,0,0,0,0,0,0,0,0,0,0,0,0,0,0,11,16,0,0,0,0,0,0,0,0,0,0,0,15,89,2,39,0,0,1,1,0,0,0,0,595,0,3,0,0,0,0,0,0,0,0,0,0,0,0,0,0,0,0,0,0,0,0,0,0,0,0,0,0,0,0,0,0,0,0,0,0,0,0,0,0,0,0,0,0,0,0,0,0,0,0,0,0,0,0,0,0,0,0,0,0,0,0,0,0,0,0,0,0,0,0,0,0,0,0,0,0,0,0,0,0,0,0,0,0,0,0,0,0,0,0,0,0,0,0,0,0,0,0,0,0,0,0,0,0,0,0,0,0,0,0,0,0,0,0,0,0,0,0,0,0,0,0,0,0,0,0,0,0,0,0,0,0,0,0,0,0,0,0,0,0,0,0,0,0]
[]
[]
[]
[]
[]
[]
[]
[]
[]
["TOTAL"]
[{"$f":"COUNT(A313:A324)","v":3},{"$f":"SUM(B313:B324)","v":6986},{"$f":"SUM(C313:C324)","v":4968},3018,1154,668,382,0,4,8,2,2,6,10,4,26,0,0,0,0,0,0,0,0,0,0,0,0,0,0,52,96,12,12,0,0,0,0,4,36,6,0,0,0,0,0,0,0,0,0,0,0,0,0,0,0,0,0,0,0,0,22,32,0,0,0,{"$f":"SUM(BO313:BO324)","v":0},0,0,0,0,0,0,0,30,178,4,78,0,0,2,2,0,0,0,0,1190,0,6,0,0,0,0,0,0,0,0,0,0,0,0,0,0,0,0,0,0,0,0,0,0,0,0,0,0,0,0,0,0,0,0,0,0,0,0,0,0,0,0,0,{"$f":"SUM(EA313:EA324)","v":0},0,0,0,0,0,0,0,0,0,0,0,0,0,0,0,0,0,0,0,0,0,0,0,0,0,0,0,0,0,0,0,0,0,0,0,0,0,0,0,0,0,0,0,0,0,0,0,0,0,0,0,0,0,0,0,0,0,0,0,0,0,0,0,{"$f":"SUM(GM313:GM324)","v":0},0,0,0,0,0,0,0,0,0,0,0,0,0,0,0,0,0,0,0,0,0,0,0,0,0,0,0,0,0,0,0,0,0,0,0,0]
[{"$f":"CONCATENATE(A313,\"-\",A314,\"-\",A315,\"-\",A316,\"-\",A317,\"-\",A318,\"-\",A319,\"-\",A320,\"-\",A321,\"-\",A322,\"-\",A323,\"-\",A324)","v":"1-2-3-T--------"}]
[null," BAS001"," BAS002"," BAS003"," BAS004"," BAS005"," BAS006"," BAS007"," BAS008"," BAS009"," BAS010"," BAS011"," BAS012"," BAS013"," BAS014"," BAS015"," BAS016"," BAS017"," BAS018"," BAS019"," BAS020"," BAS021"," BAS022"," BAS023"," BAS024"," BAS025"," BAS026"," BAS027"," BAS028"," BAS029"," BAS030"," BAS031"," BAS032"," BAS033"," BAS034"," BAS035"," BAS036"," BAS037"," BAS038"," BAS039"," BAS040"," BAS041"," BAS042"," BAS043"," BAS044"," BAS045"," BAS046"," BAS047"," BAS048"," BAS049"," BAS050"," BAS051"," BAS052"," BAS053"," BAS054"," BAS055"," BAS056"," BAS057"," BAS058"," BAS059"," BAS060"," BAS061"," BAS062"," BAS063"," BAS064"," BAS065"," BAS066"," BAS067"," BAS068"," BAS069"," BAS070"," BAS071"," BAS072"," BAS073"," BAS074"," BAS075"," BAS076"," BAS077"," BAS078"," BAS079"," BAS080"," BAS081"," BAS082"," BAS083"," BAS084"," BAS085"," BAS086"," BAS087"," BAS088"," BAS089"," BAS090"," BAS091"," BAS092"," BAS093"," BAS094"," BAS095"," BAS096"," BAS097"," BAS098"," BAS099"," BAS100"," BAS101"," BAS102"," BAS103"," BAS104"," BAS105"," BAS106"," BAS107"," BAS108"," BAS109"," BAS110"," BAS111"," BAS112"," BAS113"," BAS114"," BAS115"," BAS116"," BAS117"," BAS118"," BAS119"," BAS120"," BAS121"," BAS122"," BAS123"," BAS124"," BAS125"," BAS126"," BAS127"," BAS128"," BAS129"," BAS130"," BAS131"," BAS132"," BAS133"," BAS134"," BAS135"," BAS136"," BAS137"," BAS138"," BAS139"," BAS140"," BAS141"," BAS142"," BAS143"," BAS144"," BAS145"," BAS146"," BAS147"," BAS148"," BAS149"," BAS150"," BAS151"," BAS152"," BAS153"," BAS154"," BAS155"," BAS156"," BAS157"," BAS158"," BAS159"," BAS160"," BAS161"," BAS162"," BAS163"," BAS164"," BAS165"," BAS166"," BAS167"," BAS168"," BAS169"," BAS170"," BAS171"," BAS172"," BAS173"," BAS174"," BAS175"," BAS176"," BAS177"," BAS178"," BAS179"," BAS180"," BAS181"," BAS182"," BAS183"," BAS184"," BAS185"," BAS186"," BAS187"," BAS188"," BAS189"," BAS190"," BAS191"," BAS192"," BAS193"," BAS194"," BAS195"," BAS196"," BAS197"," BAS198"," BAS199"," BAS200"," BAS201"," BAS202"," BAS203"," BAS204"," BAS205"," BAS206"," BAS207"," BAS208"," BAS209"," BAS210"," BAS211"," BAS212"," BAS213"," BAS214"," BAS215"," BAS216"," BAS217"," BAS218"," BAS219"," BAS220"," BAS221"," BAS222"," BAS223"," BAS224"," BAS225"," BAS226"," BAS227"," BAS228"," BAS229"," BAS230"]
[null,{"$f":"IF(B329=B312,\"SI\",\"NO\")","v":"SI"},{"$f":"IF(C329=C312,\"SI\",\"NO\")","v":"SI"},"SI","SI","SI","SI","SI","SI","SI","SI","SI","SI","SI","SI","SI","SI","SI","SI","SI","SI","SI","SI","SI","SI","SI","SI","SI","SI","SI","SI","SI","SI","SI","SI","SI","SI","SI","SI","SI","SI","SI","SI","SI","SI","SI","SI","SI","SI","SI","SI","SI","SI","SI","SI","SI","SI","SI","SI","SI","SI","SI","SI","SI","SI","SI",{"$f":"IF(BO329=BO312,\"SI\",\"NO\")","v":"SI"},"SI","SI","SI","SI","SI","SI","SI","SI","SI","SI","SI","SI","SI","SI","SI","SI","SI","SI","SI","SI","SI","SI","SI","SI","SI","SI","SI","SI","SI","SI","SI","SI","SI","SI","SI","SI","SI","SI","SI","SI","SI","SI","SI","SI","SI","SI","SI","SI","SI","SI","SI","SI","SI","SI","SI","SI","SI","SI","SI","SI","SI","SI","SI",{"$f":"IF(EA329=EA312,\"SI\",\"NO\")","v":"SI"},"SI","SI","SI","SI","SI","SI","SI","SI","SI","SI","SI","SI","SI","SI","SI","SI","SI","SI","SI","SI","SI","SI","SI","SI","SI","SI","SI","SI","SI","SI","SI","SI","SI","SI","SI","SI","SI","SI","SI","SI","SI","SI","SI","SI","SI","SI","SI","SI","SI","SI","SI","SI","SI","SI","SI","SI","SI","SI","SI","SI","SI","SI","SI",{"$f":"IF(GM329=GM312,\"SI\",\"NO\")","v":"SI"},"SI","SI","SI","SI","SI","SI","SI","SI","SI","SI","SI","SI","SI","SI","SI","SI","SI","SI","SI","SI","SI","SI","SI","SI","SI","SI","SI","SI","SI","SI","SI","SI","SI","SI","SI","SI"]
[]
["PP024-5"]
["ANNO",2025]
["cod_red","03"]
["codmic","(Todas)"]
["cod_prov","(Todas)"]
["coddist","(Todas)"]
["cod_estab","(Todas)"]
["cod_eje","(Todas)"]
[]
[null,"Valores"]
["Etiquetas de fila"," BAS001"," BAS002"," BAS003"," BAS004"," BAS005"," BAS006"," BAS007"," BAS008"," BAS009"," BAS010"," BAS011"," BAS012"," BAS013"," BAS014"," BAS015"," BAS016"," BAS017"," BAS018"," BAS019"," BAS020"," BAS021"," BAS022"," BAS023"," BAS024"," BAS025"," BAS026"," BAS027"," BAS028"," BAS029"," BAS030"," BAS031"," BAS032"," BAS033"," BAS034"," BAS035"," BAS036"," BAS037"," BAS038"," BAS039"," BAS040"," BAS041"," BAS042"," BAS043"," BAS044"," BAS045"," BAS046"," BAS047"," BAS048"," BAS049"," BAS050"," BAS051"," BAS052"," BAS053"," BAS054"," BAS055"," BAS056"," BAS057"," BAS058"," BAS059"," BAS060"," BAS061"," BAS062"," BAS063"," BAS064"," BAS065"," BAS066"," BAS067"," BAS068"," BAS069"," BAS070"," BAS071"," BAS072"," BAS073"," BAS074"," BAS075"," BAS076"," BAS077"," BAS078"," BAS079"," BAS080"," BAS081"," BAS082"," BAS083"," BAS084"," BAS085"," BAS086"," BAS087"," BAS088"," BAS089"," BAS090"," BAS091"," BAS092"," BAS093"," BAS094"," BAS095"," BAS096"," BAS097"," BAS098"," BAS099"," BAS100"," BAS101"," BAS102"," BAS103"," BAS104"," BAS105"," BAS106"," BAS107"," BAS108"," BAS109"," BAS110"," BAS111"," BAS112"," BAS113"," BAS114"," BAS115"," BAS116"," BAS117"," BAS118"," BAS119"," BAS120"," BAS121"," BAS122"," BAS123"," BAS124"," BAS125"," BAS126"," BAS127"," BAS128"," BAS129"," BAS130"," BAS131"," BAS132"," BAS133"," BAS134"," BAS135"," BAS136"," BAS137"," BAS138"," BAS139"," BAS140"," BAS141"," BAS142"," BAS143"," BAS144"," BAS145"," BAS146"," BAS147"," BAS148"," BAS149"," BAS150"," BAS151"," BAS152"," BAS153"," BAS154"," BAS155"," BAS156"," BAS157"," BAS158"," BAS159"," BAS160"," BAS161"," BAS162"," BAS163"," BAS164"," BAS165"," BAS166"," BAS167"," BAS168"," BAS169"," BAS170"," BAS171"," BAS172"," BAS173"," BAS174"," BAS175"," BAS176"," BAS177"," BAS178"," BAS179"," BAS180"," BAS181"," BAS182"," BAS183"," BAS184"," BAS185"," BAS186"," BAS187"," BAS188"," BAS189"," BAS190"," BAS191"," BAS192"," BAS193"," BAS194"," BAS195"," BAS196"," BAS197"," BAS198"," BAS199"," BAS200"," BAS201"," BAS202"," BAS203"," BAS204"," BAS205"," BAS206"," BAS207"," BAS208"," BAS209"," BAS210"," BAS211"," BAS212"," BAS213"," BAS214"," BAS215"," BAS216"," BAS217"," BAS218"," BAS219"," BAS220"," BAS221"," BAS222"," BAS223"," BAS224"," BAS225"," BAS226"," BAS227"," BAS228"," BAS229"," BAS230"]
[1,839,796,274,148,2,23,0,0,0,0,0,0,3,0,0,0,0,0,0,0,0,0,0,0,0,0,0,0,0,0,0,0,0,0,0,0,0,0,0,0,0,0,0,0,0,0,0,0,0,0,0,0,0,0,0,0,0,0,0,0,0,0,0,0,0,0,0,0,0,0,0,0,0,0,0,0,0,0,0,0,0,0,0,0,0,0,0,0,0,0,0,0,0,0,0,0,0,0,0,0,0,0,0,0,0,0,0,0,0,0,0,0,0,0,0,0,0,0,0,0,0,0,0,0,0,0,0,0,0,0,0,0,0,0,0,0,0,0,0,0,0,0,0,0,0,0,0,0,0,0,0,0,0,0,0,0,0,0,0,0,0,0,0,0,0,0,0,0,0,0,0,0,0,0,0,0,0,0,0,0,0,0,0,0,0,0,0,0,0,0,0,0,0,0,0,0,0,0,0,0,0,0,0,0,0,0,0,0,0,0,0,0,0,0,0,0,0,0,0,0,0,0,0,0,0,0,0,0,0,0]
[2,1083,927,420,332,1,7,0,0,0,0,1,0,7,3,0,1,1,1,0,0,0,0,0,0,0,0,0,0,0,0,0,0,0,0,0,0,0,0,0,0,0,0,0,0,0,0,0,0,0,0,0,0,0,0,0,0,0,0,0,0,0,0,0,0,0,0,0,0,0,0,0,0,0,0,0,0,0,0,0,0,0,0,0,0,0,0,0,0,0,0,0,0,0,0,0,0,0,0,0,0,0,0,0,0,0,0,0,0,0,0,0,0,0,0,0,0,0,0,0,0,0,0,0,0,0,0,0,0,0,0,0,0,0,0,0,0,0,0,0,0,0,0,0,0,0,0,0,0,0,0,0,0,0,0,0,0,0,0,0,0,0,0,0,0,0,0,0,0,0,0,0,0,0,0,0,0,0,0,0,0,0,0,0,0,0,0,0,0,0,0,0,0,0,0,0,0,0,0,0,0,0,0,0,0,0,0,0,0,0,0,0,0,0,0,0,0,0,0,0,0,0,0,0,0,0,0,0,0,0,0]
[3,608,560,472,308,3,32,1,7,0,0,0,0,5,2,0,1,4,4,4,1,1,9,1,1,1,9,0,0,1,9,0,0,1,9,0,0,2,60,0,0,0,0,0,0,0,0,0,0,0,0,0,0,0,0,0,0,0,0,9,0,0,0,0,0,0,0,0,0,0,0,0,0,0,0,0,0,0,0,0,0,0,0,0,0,0,0,0,0,0,0,0,0,0,0,0,0,0,0,0,0,0,0,0,0,0,0,0,0,0,0,0,0,0,0,0,0,0,0,0,0,0,0,0,0,0,0,0,0,0,0,0,0,0,0,0,0,0,0,0,0,0,0,0,0,0,0,0,0,0,0,0,0,0,0,0,0,0,0,0,0,0,0,0,0,0,0,0,0,0,0,0,0,0,0,0,0,0,0,0,0,0,0,0,0,0,0,0,0,0,0,0,0,0,0,0,0,0,0,0,0,0,0,0,0,0,0,0,0,0,0,0,0,0,0,0,0,0,0,0,0,0,0,0,0,0,0,0,0,0,0]
["T",2530,2283,1166,788,6,62,1,7,0,0,1,0,15,5,0,2,5,5,4,1,1,9,1,1,1,9,0,0,1,9,0,0,1,9,0,0,2,60,0,0,0,0,0,0,0,0,0,0,0,0,0,0,0,0,0,0,0,0,9,0,0,0,0,0,0,0,0,0,0,0,0,0,0,0,0,0,0,0,0,0,0,0,0,0,0,0,0,0,0,0,0,0,0,0,0,0,0,0,0,0,0,0,0,0,0,0,0,0,0,0,0,0,0,0,0,0,0,0,0,0,0,0,0,0,0,0,0,0,0,0,0,0,0,0,0,0,0,0,0,0,0,0,0,0,0,0,0,0,0,0,0,0,0,0,0,0,0,0,0,0,0,0,0,0,0,0,0,0,0,0,0,0,0,0,0,0,0,0,0,0,0,0,0,0,0,0,0,0,0,0,0,0,0,0,0,0,0,0,0,0,0,0,0,0,0,0,0,0,0,0,0,0,0,0,0,0,0,0,0,0,0,0,0,0,0,0,0,0,0,0]
[]
[]
[]
[]
[]
[]
[]
[]
[]
["TOTAL"]
[{"$f":"COUNT(A343:A354)","v":3},{"$f":"SUM(B343:B354)","v":5060},{"$f":"SUM(C343:C354)","v":4566},2332,1576,12,124,2,14,0,0,2,0,30,10,0,4,10,10,8,2,2,18,2,2,2,18,0,0,2,18,0,0,2,18,0,0,4,120,0,0,0,0,0,0,0,0,0,0,0,0,0,0,0,0,0,0,0,0,18,0,0,0,0,0,0,{"$f":"SUM(BO343:BO354)","v":0},0,0,0,0,0,0,0,0,0,0,0,0,0,0,0,0,0,0,0,0,0,0,0,0,0,0,0,0,0,0,0,0,0,0,0,0,0,0,0,0,0,0,0,0,0,0,0,0,0,0,0,0,0,0,0,0,0,0,0,0,0,0,0,{"$f":"SUM(EA343:EA354)","v":0},0,0,0,0,0,0,0,0,0,0,0,0,0,0,0,0,0,0,0,0,0,0,0,0,0,0,0,0,0,0,0,0,0,0,0,0,0,0,0,0,0,0,0,0,0,0,0,0,0,0,0,0,0,0,0,0,0,0,0,0,0,0,0,{"$f":"SUM(GM343:GM354)","v":0},0,0,0,0,0,0,0,0,0,0,0,0,0,0,0,0,0,0,0,0,0,0,0,0,0,0,0,0,0,0,0,0,0,0,0,0]
[{"$f":"CONCATENATE(A343,\"-\",A344,\"-\",A345,\"-\",A346,\"-\",A347,\"-\",A348,\"-\",A349,\"-\",A350,\"-\",A351,\"-\",A352,\"-\",A353,\"-\",A354)","v":"1-2-3-T--------"}]
[null," BAS001"," BAS002"," BAS003"," BAS004"," BAS005"," BAS006"," BAS007"," BAS008"," BAS009"," BAS010"," BAS011"," BAS012"," BAS013"," BAS014"," BAS015"," BAS016"," BAS017"," BAS018"," BAS019"," BAS020"," BAS021"," BAS022"," BAS023"," BAS024"," BAS025"," BAS026"," BAS027"," BAS028"," BAS029"," BAS030"," BAS031"," BAS032"," BAS033"," BAS034"," BAS035"," BAS036"," BAS037"," BAS038"," BAS039"," BAS040"," BAS041"," BAS042"," BAS043"," BAS044"," BAS045"," BAS046"," BAS047"," BAS048"," BAS049"," BAS050"," BAS051"," BAS052"," BAS053"," BAS054"," BAS055"," BAS056"," BAS057"," BAS058"," BAS059"," BAS060"," BAS061"," BAS062"," BAS063"," BAS064"," BAS065"," BAS066"," BAS067"," BAS068"," BAS069"," BAS070"," BAS071"," BAS072"," BAS073"," BAS074"," BAS075"," BAS076"," BAS077"," BAS078"," BAS079"," BAS080"," BAS081"," BAS082"," BAS083"," BAS084"," BAS085"," BAS086"," BAS087"," BAS088"," BAS089"," BAS090"," BAS091"," BAS092"," BAS093"," BAS094"," BAS095"," BAS096"," BAS097"," BAS098"," BAS099"," BAS100"," BAS101"," BAS102"," BAS103"," BAS104"," BAS105"," BAS106"," BAS107"," BAS108"," BAS109"," BAS110"," BAS111"," BAS112"," BAS113"," BAS114"," BAS115"," BAS116"," BAS117"," BAS118"," BAS119"," BAS120"," BAS121"," BAS122"," BAS123"," BAS124"," BAS125"," BAS126"," BAS127"," BAS128"," BAS129"," BAS130"," BAS131"," BAS132"," BAS133"," BAS134"," BAS135"," BAS136"," BAS137"," BAS138"," BAS139"," BAS140"," BAS141"," BAS142"," BAS143"," BAS144"," BAS145"," BAS146"," BAS147"," BAS148"," BAS149"," BAS150"," BAS151"," BAS152"," BAS153"," BAS154"," BAS155"," BAS156"," BAS157"," BAS158"," BAS159"," BAS160"," BAS161"," BAS162"," BAS163"," BAS164"," BAS165"," BAS166"," BAS167"," BAS168"," BAS169"," BAS170"," BAS171"," BAS172"," BAS173"," BAS174"," BAS175"," BAS176"," BAS177"," BAS178"," BAS179"," BAS180"," BAS181"," BAS182"," BAS183"," BAS184"," BAS185"," BAS186"," BAS187"," BAS188"," BAS189"," BAS190"," BAS191"," BAS192"," BAS193"," BAS194"," BAS195"," BAS196"," BAS197"," BAS198"," BAS199"," BAS200"," BAS201"," BAS202"," BAS203"," BAS204"," BAS205"," BAS206"," BAS207"," BAS208"," BAS209"," BAS210"," BAS211"," BAS212"," BAS213"," BAS214"," BAS215"," BAS216"," BAS217"," BAS218"," BAS219"," BAS220"," BAS221"," BAS222"," BAS223"," BAS224"," BAS225"," BAS226"," BAS227"," BAS228"," BAS229"," BAS230"]
[null,{"$f":"IF(B359=B342,\"SI\",\"NO\")","v":"SI"},{"$f":"IF(C359=C342,\"SI\",\"NO\")","v":"SI"},"SI","SI","SI","SI","SI","SI","SI","SI","SI","SI","SI","SI","SI","SI","SI","SI","SI","SI","SI","SI","SI","SI","SI","SI","SI","SI","SI","SI","SI","SI","SI","SI","SI","SI","SI","SI","SI","SI","SI","SI","SI","SI","SI","SI","SI","SI","SI","SI","SI","SI","SI","SI","SI","SI","SI","SI","SI","SI","SI","SI","SI","SI","SI",{"$f":"IF(BO359=BO342,\"SI\",\"NO\")","v":"SI"},"SI","SI","SI","SI","SI","SI","SI","SI","SI","SI","SI","SI","SI","SI","SI","SI","SI","SI","SI","SI","SI","SI","SI","SI","SI","SI","SI","SI","SI","SI","SI","SI","SI","SI","SI","SI","SI","SI","SI","SI","SI","SI","SI","SI","SI","SI","SI","SI","SI","SI","SI","SI","SI","SI","SI","SI","SI","SI","SI","SI","SI","SI","SI",{"$f":"IF(EA359=EA342,\"SI\",\"NO\")","v":"SI"},"SI","SI","SI","SI","SI","SI","SI","SI","SI","SI","SI","SI","SI","SI","SI","SI","SI","SI","SI","SI","SI","SI","SI","SI","SI","SI","SI","SI","SI","SI","SI","SI","SI","SI","SI","SI","SI","SI","SI","SI","SI","SI","SI","SI","SI","SI","SI","SI","SI","SI","SI","SI","SI","SI","SI","SI","SI","SI","SI","SI","SI","SI","SI",{"$f":"IF(GM359=GM342,\"SI\",\"NO\")","v":"SI"},"SI","SI","SI","SI","SI","SI","SI","SI","SI","SI","SI","SI","SI","SI","SI","SI","SI","SI","SI","SI","SI","SI","SI","SI","SI","SI","SI","SI","SI","SI","SI","SI","SI","SI","SI","SI"]
[]
[]
["PP131-6"]
["ANNO",2025]
["cod_red","03"]
["codmic","(Todas)"]
["cod_prov","(Todas)"]
["coddist","(Todas)"]
["cod_estab","(Todas)"]
["cod_eje","(Todas)"]
[]
[null,"Valores"]
["Etiquetas de fila"," BAS001"," BAS002"," BAS003"," BAS004"," BAS005"," BAS006"," BAS007"," BAS008"," BAS009"," BAS010"," BAS011"," BAS012"," BAS013"," BAS014"," BAS015"," BAS016"," BAS017"," BAS018"," BAS019"," BAS020"," BAS021"," BAS022"," BAS023"," BAS024"," BAS025"," BAS026"," BAS027"," BAS028"," BAS029"," BAS030"," BAS031"," BAS032"," BAS033"," BAS034"," BAS035"," BAS036"," BAS037"," BAS038"," BAS039"," BAS040"," BAS041"," BAS042"," BAS043"," BAS044"," BAS045"," BAS046"," BAS047"," BAS048"," BAS049"," BAS050"," BAS051"," BAS052"," BAS053"," BAS054"," BAS055"," BAS056"," BAS057"," BAS058"," BAS059"," BAS060"," BAS061"," BAS062"," BAS063"," BAS064"," BAS065"," BAS066"," BAS067"," BAS068"," BAS069"," BAS070"," BAS071"," BAS072"," BAS073"," BAS074"," BAS075"," BAS076"," BAS077"," BAS078"," BAS079"," BAS080"," BAS081"," BAS082"," BAS083"," BAS084"," BAS085"," BAS086"," BAS087"," BAS088"," BAS089"," BAS090"," BAS091"," BAS092"," BAS093"," BAS094"," BAS095"," BAS096"," BAS097"," BAS098"," BAS099"," BAS100"," BAS101"," BAS102"," BAS103"," BAS104"," BAS105"," BAS106"," BAS107"," BAS108"," BAS109"," BAS110"," BAS111"," BAS112"," BAS113"," BAS114"," BAS115"," BAS116"," BAS117"," BAS118"," BAS119"," BAS120"," BAS121"," BAS122"," BAS123"," BAS124"," BAS125"," BAS126"," BAS127"," BAS128"," BAS129"," BAS130"," BAS131"," BAS132"," BAS133"," BAS134"," BAS135"," BAS136"," BAS137"," BAS138"," BAS139"," BAS140"," BAS141"," BAS142"," BAS143"," BAS144"," BAS145"," BAS146"," BAS147"," BAS148"," BAS149"," BAS150"," BAS151"," BAS152"," BAS153"," BAS154"," BAS155"," BAS156"," BAS157"," BAS158"," BAS159"," BAS160"," BAS161"," BAS162"," BAS163"," BAS164"," BAS165"," BAS166"," BAS167"," BAS168"," BAS169"," BAS170"," BAS171"," BAS172"," BAS173"," BAS174"," BAS175"," BAS176"," BAS177"," BAS178"," BAS179"," BAS180"," BAS181"," BAS182"," BAS183"," BAS184"," BAS185"," BAS186"," BAS187"," BAS188"," BAS189"," BAS190"," BAS191"," BAS192"," BAS193"," BAS194"," BAS195"," BAS196"," BAS197"," BAS198"," BAS199"," BAS200"," BAS201"," BAS202"," BAS203"," BAS204"," BAS205"," BAS206"," BAS207"," BAS208"," BAS209"," BAS210"," BAS211"," BAS212"," BAS213"," BAS214"," BAS215"," BAS216"," BAS217"," BAS218"," BAS219"," BAS220"," BAS221"," BAS222"," BAS223"," BAS224"," BAS225"," BAS226"," BAS227"," BAS228"," BAS229"," BAS230"]
[1,19,0,8,6,7,9,9,5,0,0,0,1,30,52,38,26,25,2,0,0,0,1,11,0,3,3,0,0,15,1,0,0,0,0,9,0,1,0,0,0,10,0,0,0,0,0,0,0,32,0,0,0,1,1,0,0,0,0,0,0,0,0,0,0,0,0,0,0,0,0,0,0,0,0,0,0,0,0,0,0,0,0,5,44,0,0,0,0,34,0,0,0,0,0,0,0,0,0,0,0,0,0,0,0,0,0,0,0,0,0,0,0,0,0,0,0,0,0,0,0,0,0,0,0,0,0,0,0,0,0,0,0,0,0,0,0,0,0,0,0,0,0,0,0,0,0,0,0,0,0,0,0,0,0,0,0,0,0,0,0,0,0,0,0,0,0,0,0,0,0,0,0,0,0,0,0,0,0,0,0,0,0,0,0,0,0,0,0,0,0,0,0,0,0,0,0,0,0,0,0,0,0,0,0,0,0,0,0,0,0,0,0,0,0,0,0,0,0,0,0,0,0,0,0,0,0,0,0,0,0]
[2,17,1,5,1,6,9,7,2,0,1,0,1,40,28,43,35,24,1,0,1,0,0,15,0,2,3,0,0,17,1,0,0,0,0,14,0,0,0,0,0,8,0,1,0,0,0,5,0,31,20,0,1,3,3,1,1,0,0,0,0,1,1,0,0,0,0,0,0,0,0,0,0,0,0,0,0,0,0,0,0,0,0,9,27,1,19,0,0,43,1,0,0,0,0,0,0,0,0,0,0,0,0,0,0,0,0,0,0,0,0,0,0,0,0,0,0,0,0,0,0,0,0,0,0,0,0,0,0,0,0,0,0,0,0,0,0,0,0,0,0,0,0,0,0,0,0,0,0,0,0,0,0,0,0,0,0,0,0,0,0,0,0,0,0,0,0,0,0,0,0,0,0,0,0,0,0,0,0,0,0,0,0,0,0,0,0,0,0,0,0,0,0,0,0,0,0,0,0,0,0,0,0,0,0,0,0,0,0,0,0,0,0,0,0,0,0,0,0,0,0,0,0,0,0,0,0,0,0,0,0]
[3,23,4,6,2,5,7,2,2,0,1,0,1,32,32,28,29,26,3,0,0,0,2,21,0,1,6,0,0,16,0,4,0,0,0,12,0,3,1,0,0,7,1,0,2,0,0,1,0,49,10,16,0,8,14,4,8,1,3,0,0,15,15,2,36,0,0,0,0,0,0,0,0,0,0,0,0,0,0,0,0,0,0,4,10,0,0,1,17,41,8,0,0,0,0,0,0,0,0,0,0,0,0,0,0,0,0,0,0,0,0,0,0,0,0,0,0,0,0,0,0,0,0,0,0,0,0,0,0,0,0,0,0,0,0,0,0,0,0,0,0,0,0,0,0,0,0,0,0,0,0,0,0,0,0,0,0,0,0,0,0,0,0,0,0,0,0,0,0,0,0,0,0,0,0,0,0,0,0,0,0,0,0,0,0,0,0,0,0,0,0,0,0,0,0,0,0,0,0,0,0,0,0,0,0,0,0,0,0,0,0,0,0,0,0,0,0,0,0,0,0,0,0,0,0,0,0,0,0,0,0]
["T",59,5,19,9,18,25,18,9,0,2,0,3,102,112,109,90,75,6,0,1,0,3,47,0,6,12,0,0,48,2,4,0,0,0,35,0,4,1,0,0,25,1,1,2,0,0,6,0,112,30,16,1,12,18,5,9,1,3,0,0,16,16,2,36,0,0,0,0,0,0,0,0,0,0,0,0,0,0,0,0,0,0,18,81,1,19,1,17,118,9,0,0,0,0,0,0,0,0,0,0,0,0,0,0,0,0,0,0,0,0,0,0,0,0,0,0,0,0,0,0,0,0,0,0,0,0,0,0,0,0,0,0,0,0,0,0,0,0,0,0,0,0,0,0,0,0,0,0,0,0,0,0,0,0,0,0,0,0,0,0,0,0,0,0,0,0,0,0,0,0,0,0,0,0,0,0,0,0,0,0,0,0,0,0,0,0,0,0,0,0,0,0,0,0,0,0,0,0,0,0,0,0,0,0,0,0,0,0,0,0,0,0,0,0,0,0,0,0,0,0,0,0,0,0,0,0,0,0,0,0]
[]
[]
[]
[]
[]
[]
[]
[]
[]
["TOTAL"]
[{"$f":"COUNT(A374:A385)","v":3},{"$f":"SUM(B374:B385)","v":118},{"$f":"SUM(C374:C385)","v":10},38,18,36,50,36,18,0,4,0,6,204,224,218,180,150,12,0,2,0,6,94,0,12,24,0,0,96,4,8,0,0,0,70,0,8,2,0,0,50,2,2,4,0,0,12,0,224,60,32,2,24,36,10,18,2,6,0,0,32,32,4,72,0,{"$f":"SUM(BO374:BO385)","v":0},0,0,0,0,0,0,0,0,0,0,0,0,0,0,0,0,36,162,2,38,2,34,236,18,0,0,0,0,0,0,0,0,0,0,0,0,0,0,0,0,0,0,0,0,0,0,0,0,0,0,0,0,0,0,0,0,0,0,0,0,0,0,0,{"$f":"SUM(EA374:EA385)","v":0},0,0,0,0,0,0,0,0,0,0,0,0,0,0,0,0,0,0,0,0,0,0,0,0,0,0,0,0,0,0,0,0,0,0,0,0,0,0,0,0,0,0,0,0,0,0,0,0,0,0,0,0,0,0,0,0,0,0,0,0,0,0,0,{"$f":"SUM(GM374:GM385)","v":0},0,0,0,0,0,0,0,0,0,0,0,0,0,0,0,0,0,0,0,0,0,0,0,0,0,0,0,0,0,0,0,0,0,0,0,0]
[{"$f":"CONCATENATE(A374,\"-\",A375,\"-\",A376,\"-\",A377,\"-\",A378,\"-\",A379,\"-\",A380,\"-\",A381,\"-\",A382,\"-\",A383,\"-\",A384,\"-\",A385)","v":"1-2-3-T--------"}]
[null," BAS001"," BAS002"," BAS003"," BAS004"," BAS005"," BAS006"," BAS007"," BAS008"," BAS009"," BAS010"," BAS011"," BAS012"," BAS013"," BAS014"," BAS015"," BAS016"," BAS017"," BAS018"," BAS019"," BAS020"," BAS021"," BAS022"," BAS023"," BAS024"," BAS025"," BAS026"," BAS027"," BAS028"," BAS029"," BAS030"," BAS031"," BAS032"," BAS033"," BAS034"," BAS035"," BAS036"," BAS037"," BAS038"," BAS039"," BAS040"," BAS041"," BAS042"," BAS043"," BAS044"," BAS045"," BAS046"," BAS047"," BAS048"," BAS049"," BAS050"," BAS051"," BAS052"," BAS053"," BAS054"," BAS055"," BAS056"," BAS057"," BAS058"," BAS059"," BAS060"," BAS061"," BAS062"," BAS063"," BAS064"," BAS065"," BAS066"," BAS067"," BAS068"," BAS069"," BAS070"," BAS071"," BAS072"," BAS073"," BAS074"," BAS075"," BAS076"," BAS077"," BAS078"," BAS079"," BAS080"," BAS081"," BAS082"," BAS083"," BAS084"," BAS085"," BAS086"," BAS087"," BAS088"," BAS089"," BAS090"," BAS091"," BAS092"," BAS093"," BAS094"," BAS095"," BAS096"," BAS097"," BAS098"," BAS099"," BAS100"," BAS101"," BAS102"," BAS103"," BAS104"," BAS105"," BAS106"," BAS107"," BAS108"," BAS109"," BAS110"," BAS111"," BAS112"," BAS113"," BAS114"," BAS115"," BAS116"," BAS117"," BAS118"," BAS119"," BAS120"," BAS121"," BAS122"," BAS123"," BAS124"," BAS125"," BAS126"," BAS127"," BAS128"," BAS129"," BAS130"," BAS131"," BAS132"," BAS133"," BAS134"," BAS135"," BAS136"," BAS137"," BAS138"," BAS139"," BAS140"," BAS141"," BAS142"," BAS143"," BAS144"," BAS145"," BAS146"," BAS147"," BAS148"," BAS149"," BAS150"," BAS151"," BAS152"," BAS153"," BAS154"," BAS155"," BAS156"," BAS157"," BAS158"," BAS159"," BAS160"," BAS161"," BAS162"," BAS163"," BAS164"," BAS165"," BAS166"," BAS167"," BAS168"," BAS169"," BAS170"," BAS171"," BAS172"," BAS173"," BAS174"," BAS175"," BAS176"," BAS177"," BAS178"," BAS179"," BAS180"," BAS181"," BAS182"," BAS183"," BAS184"," BAS185"," BAS186"," BAS187"," BAS188"," BAS189"," BAS190"," BAS191"," BAS192"," BAS193"," BAS194"," BAS195"," BAS196"," BAS197"," BAS198"," BAS199"," BAS200"," BAS201"," BAS202"," BAS203"," BAS204"," BAS205"," BAS206"," BAS207"," BAS208"," BAS209"," BAS210"," BAS211"," BAS212"," BAS213"," BAS214"," BAS215"," BAS216"," BAS217"," BAS218"," BAS219"," BAS220"," BAS221"," BAS222"," BAS223"," BAS224"," BAS225"," BAS226"," BAS227"," BAS228"," BAS229"," BAS230"]
[null,{"$f":"IF(B390=B373,\"SI\",\"NO\")","v":"SI"},{"$f":"IF(C390=C373,\"SI\",\"NO\")","v":"SI"},"SI","SI","SI","SI","SI","SI","SI","SI","SI","SI","SI","SI","SI","SI","SI","SI","SI","SI","SI","SI","SI","SI","SI","SI","SI","SI","SI","SI","SI","SI","SI","SI","SI","SI","SI","SI","SI","SI","SI","SI","SI","SI","SI","SI","SI","SI","SI","SI","SI","SI","SI","SI","SI","SI","SI","SI","SI","SI","SI","SI","SI","SI","SI",{"$f":"IF(BO390=BO373,\"SI\",\"NO\")","v":"SI"},"SI","SI","SI","SI","SI","SI","SI","SI","SI","SI","SI","SI","SI","SI","SI","SI","SI","SI","SI","SI","SI","SI","SI","SI","SI","SI","SI","SI","SI","SI","SI","SI","SI","SI","SI","SI","SI","SI","SI","SI","SI","SI","SI","SI","SI","SI","SI","SI","SI","SI","SI","SI","SI","SI","SI","SI","SI","SI","SI","SI","SI","SI","SI",{"$f":"IF(EA390=EA373,\"SI\",\"NO\")","v":"SI"},"SI","SI","SI","SI","SI","SI","SI","SI","SI","SI","SI","SI","SI","SI","SI","SI","SI","SI","SI","SI","SI","SI","SI","SI","SI","SI","SI","SI","SI","SI","SI","SI","SI","SI","SI","SI","SI","SI","SI","SI","SI","SI","SI","SI","SI","SI","SI","SI","SI","SI","SI","SI","SI","SI","SI","SI","SI","SI","SI","SI","SI","SI","SI",{"$f":"IF(GM390=GM373,\"SI\",\"NO\")","v":"SI"},"SI","SI","SI","SI","SI","SI","SI","SI","SI","SI","SI","SI","SI","SI","SI","SI","SI","SI","SI","SI","SI","SI","SI","SI","SI","SI","SI","SI","SI","SI","SI","SI","SI","SI","SI","SI"]
[]
["OTRAS ACTIVIDADES_7"]
["ANNO",2025]
["cod_red","03"]
["codmic","(Todas)"]
["cod_prov","(Todas)"]
["coddist","(Todas)"]
["cod_estab","(Todas)"]
["cod_eje","(Todas)"]
[]
[null,"Valores"]
["Etiquetas de fila"," BAS001"," BAS002"," BAS003"," BAS004"," BAS005"," BAS006"," BAS007"," BAS008"," BAS009"," BAS010"," BAS011"," BAS012"," BAS013"," BAS014"," BAS015"," BAS016"," BAS017"," BAS018"," BAS019"," BAS020"," BAS021"," BAS022"," BAS023"," BAS024"," BAS025"," BAS026"," BAS027"," BAS028"," BAS029"," BAS030"," BAS031"," BAS032"," BAS033"," BAS034"," BAS035"," BAS036"," BAS037"," BAS038"," BAS039"," BAS040"," BAS041"," BAS042"," BAS043"," BAS044"," BAS045"," BAS046"," BAS047"," BAS048"," BAS049"," BAS050"," BAS051"," BAS052"," BAS053"," BAS054"," BAS055"," BAS056"," BAS057"," BAS058"," BAS059"," BAS060"," BAS061"," BAS062"," BAS063"," BAS064"," BAS065"," BAS066"," BAS067"," BAS068"," BAS069"," BAS070"," BAS071"," BAS072"," BAS073"," BAS074"," BAS075"," BAS076"," BAS077"," BAS078"," BAS079"," BAS080"," BAS081"," BAS082"," BAS083"," BAS084"," BAS085"," BAS086"," BAS087"," BAS088"," BAS089"," BAS090"," BAS091"," BAS092"," BAS093"," BAS094"," BAS095"," BAS096"," BAS097"," BAS098"," BAS099"," BAS100"," BAS101"," BAS102"," BAS103"," BAS104"," BAS105"," BAS106"," BAS107"," BAS108"," BAS109"," BAS110"," BAS111"," BAS112"," BAS113"," BAS114"," BAS115"," BAS116"," BAS117"," BAS118"," BAS119"," BAS120"," BAS121"," BAS122"," BAS123"," BAS124"," BAS125"," BAS126"," BAS127"," BAS128"," BAS129"," BAS130"," BAS131"," BAS132"," BAS133"," BAS134"," BAS135"," BAS136"," BAS137"," BAS138"," BAS139"," BAS140"," BAS141"," BAS142"," BAS143"," BAS144"," BAS145"," BAS146"," BAS147"," BAS148"," BAS149"," BAS150"," BAS151"," BAS152"," BAS153"," BAS154"," BAS155"," BAS156"," BAS157"," BAS158"," BAS159"," BAS160"," BAS161"," BAS162"," BAS163"," BAS164"," BAS165"," BAS166"," BAS167"," BAS168"," BAS169"," BAS170"," BAS171"," BAS172"," BAS173"," BAS174"," BAS175"," BAS176"," BAS177"," BAS178"," BAS179"," BAS180"," BAS181"," BAS182"," BAS183"," BAS184"," BAS185"," BAS186"," BAS187"," BAS188"," BAS189"," BAS190"," BAS191"," BAS192"," BAS193"," BAS194"," BAS195"," BAS196"," BAS197"," BAS198"," BAS199"," BAS200"," BAS201"," BAS202"," BAS203"," BAS204"," BAS205"," BAS206"," BAS207"," BAS208"," BAS209"," BAS210"," BAS211"," BAS212"," BAS213"," BAS214"," BAS215"," BAS216"," BAS217"," BAS218"," BAS219"," BAS220"," BAS221"," BAS222"," BAS223"," BAS224"," BAS225"," BAS226"," BAS227"," BAS228"," BAS229"," BAS230"]
[1,0,0,0,0,0,0,0,0,0,0,0,0,0,0,1,0,0,0,0,0,1,1,1,1,0,0,0,0,0,0,0,0,0,0,0,0,0,0,0,0,0,0,0,0,0,0,0,0,0,0,0,0,0,0,0,0,0,0,0,0,0,0,0,0,0,0,0,0,0,0,0,0,0,0,0,0,0,0,0,0,0,0,0,0,0,0,0,0,0,0,0,0,0,0,0,0,0,0,0,0,0,0,0,0,0,0,0,0,0,0,0,0,0,0,0,0,0,0,0,0,0,0,0,0,0,0,0,0,0,0,0,0,0,0,0,0,0,0,0,0,0,155,0,155,0,0,0,0,0,0,0,0,0,0,0,0,0,0,0,0,0,0,0,0,0,0,0,0,0,0,0,0,0,0,0,0,0,0,0,0,0,0,0,0,0,0,0,0,0,0,0,0,0,0,0,0,0,0,0,0,0,0,0,0,0,0,0,0,0,0,0,0,0,0,0,0,0,0,0,0,0,0,0,0,0,0,0,0,0,0]
[2,1,0,0,0,0,0,0,0,0,0,0,0,0,0,0,0,0,0,0,0,0,0,0,0,0,0,0,0,0,0,0,0,0,0,0,0,0,0,0,0,0,0,0,0,0,0,0,0,0,0,0,0,0,0,0,0,0,0,0,0,0,0,0,0,0,0,0,0,0,0,0,0,0,0,0,0,0,0,0,0,0,0,0,0,0,0,0,0,0,0,0,0,0,0,0,0,0,0,0,0,0,0,0,0,0,0,0,0,0,0,0,0,0,0,0,0,0,0,0,0,0,0,0,0,0,0,0,0,0,0,0,0,0,0,0,0,0,3,3,0,0,188,0,188,0,0,0,0,0,0,0,0,0,0,0,0,0,0,0,0,0,0,0,0,0,0,0,0,0,0,2,11,0,0,0,0,0,0,0,0,0,0,0,0,0,0,0,0,0,0,0,0,0,0,0,0,0,0,0,0,0,0,0,0,0,0,0,0,0,0,0,0,0,0,0,0,0,0,0,0,0,0,0,0,0,0,0,0,0,0]
[3,0,0,0,0,0,0,0,0,0,0,0,0,0,0,0,0,0,0,0,0,0,0,0,0,0,0,0,0,0,0,0,0,0,0,0,0,0,0,0,0,0,0,0,0,0,0,0,0,0,0,0,0,49,49,0,0,0,0,0,0,0,0,0,0,0,0,0,0,0,0,0,0,0,0,0,0,0,0,0,0,0,0,0,0,0,0,0,0,0,0,0,0,0,0,0,0,0,0,0,0,0,0,0,1,1,0,0,0,0,0,0,0,0,0,0,0,0,0,0,0,0,0,0,0,0,0,0,0,0,0,0,0,0,0,0,0,0,0,0,0,0,116,0,116,11,0,0,0,0,0,0,0,11,0,0,0,0,0,0,0,0,0,0,0,0,0,0,0,0,0,0,0,0,0,0,0,0,0,0,0,0,0,0,0,0,0,0,0,0,0,0,0,0,0,0,0,0,0,0,0,0,0,0,0,0,0,0,0,0,0,0,0,0,0,0,0,0,0,0,0,0,0,0,0,0,0,0,0,0,0]
["T",1,0,0,0,0,0,0,0,0,0,0,0,0,0,1,0,0,0,0,0,1,1,1,1,0,0,0,0,0,0,0,0,0,0,0,0,0,0,0,0,0,0,0,0,0,0,0,0,0,0,0,0,49,49,0,0,0,0,0,0,0,0,0,0,0,0,0,0,0,0,0,0,0,0,0,0,0,0,0,0,0,0,0,0,0,0,0,0,0,0,0,0,0,0,0,0,0,0,0,0,0,0,0,1,1,0,0,0,0,0,0,0,0,0,0,0,0,0,0,0,0,0,0,0,0,0,0,0,0,0,0,0,0,0,0,0,0,3,3,0,0,459,0,459,11,0,0,0,0,0,0,0,11,0,0,0,0,0,0,0,0,0,0,0,0,0,0,0,0,0,2,11,0,0,0,0,0,0,0,0,0,0,0,0,0,0,0,0,0,0,0,0,0,0,0,0,0,0,0,0,0,0,0,0,0,0,0,0,0,0,0,0,0,0,0,0,0,0,0,0,0,0,0,0,0,0,0,0,0,0]
[]
[]
[]
[]
[]
[]
[]
[]
[]
["TOTAL"]
[{"$f":"COUNT(A404:A415)","v":3},{"$f":"SUM(B404:B415)","v":2},{"$f":"SUM(C404:C415)","v":0},0,0,0,0,0,0,0,0,0,0,0,0,2,0,0,0,0,0,2,2,2,2,0,0,0,0,0,0,0,0,0,0,0,0,0,0,0,0,0,0,0,0,0,0,0,0,0,0,0,0,98,98,0,0,0,0,0,0,0,0,0,0,0,{"$f":"SUM(BO404:BO415)","v":0},0,0,0,0,0,0,0,0,0,0,0,0,0,0,0,0,0,0,0,0,0,0,0,0,0,0,0,0,0,0,0,0,0,0,0,0,0,2,2,0,0,0,0,0,0,0,0,0,0,0,0,0,0,0,0,0,0,0,0,0,0,0,0,{"$f":"SUM(EA404:EA415)","v":0},0,0,0,0,0,0,0,6,6,0,0,918,0,918,22,0,0,0,0,0,0,0,22,0,0,0,0,0,0,0,0,0,0,0,0,0,0,0,0,0,4,22,0,0,0,0,0,0,0,0,0,0,0,0,0,0,0,0,0,0,0,0,0,{"$f":"SUM(GM404:GM415)","v":0},0,0,0,0,0,0,0,0,0,0,0,0,0,0,0,0,0,0,0,0,0,0,0,0,0,0,0,0,0,0,0,0,0,0,0,0]
[{"$f":"CONCATENATE(A404,\"-\",A405,\"-\",A406,\"-\",A407,\"-\",A408,\"-\",A409,\"-\",A410,\"-\",A411,\"-\",A412,\"-\",A413,\"-\",A414,\"-\",A415)","v":"1-2-3-T--------"}]
[null," BAS001"," BAS002"," BAS003"," BAS004"," BAS005"," BAS006"," BAS007"," BAS008"," BAS009"," BAS010"," BAS011"," BAS012"," BAS013"," BAS014"," BAS015"," BAS016"," BAS017"," BAS018"," BAS019"," BAS020"," BAS021"," BAS022"," BAS023"," BAS024"," BAS025"," BAS026"," BAS027"," BAS028"," BAS029"," BAS030"," BAS031"," BAS032"," BAS033"," BAS034"," BAS035"," BAS036"," BAS037"," BAS038"," BAS039"," BAS040"," BAS041"," BAS042"," BAS043"," BAS044"," BAS045"," BAS046"," BAS047"," BAS048"," BAS049"," BAS050"," BAS051"," BAS052"," BAS053"," BAS054"," BAS055"," BAS056"," BAS057"," BAS058"," BAS059"," BAS060"," BAS061"," BAS062"," BAS063"," BAS064"," BAS065"," BAS066"," BAS067"," BAS068"," BAS069"," BAS070"," BAS071"," BAS072"," BAS073"," BAS074"," BAS075"," BAS076"," BAS077"," BAS078"," BAS079"," BAS080"," BAS081"," BAS082"," BAS083"," BAS084"," BAS085"," BAS086"," BAS087"," BAS088"," BAS089"," BAS090"," BAS091"," BAS092"," BAS093"," BAS094"," BAS095"," BAS096"," BAS097"," BAS098"," BAS099"," BAS100"," BAS101"," BAS102"," BAS103"," BAS104"," BAS105"," BAS106"," BAS107"," BAS108"," BAS109"," BAS110"," BAS111"," BAS112"," BAS113"," BAS114"," BAS115"," BAS116"," BAS117"," BAS118"," BAS119"," BAS120"," BAS121"," BAS122"," BAS123"," BAS124"," BAS125"," BAS126"," BAS127"," BAS128"," BAS129"," BAS130"," BAS131"," BAS132"," BAS133"," BAS134"," BAS135"," BAS136"," BAS137"," BAS138"," BAS139"," BAS140"," BAS141"," BAS142"," BAS143"," BAS144"," BAS145"," BAS146"," BAS147"," BAS148"," BAS149"," BAS150"," BAS151"," BAS152"," BAS153"," BAS154"," BAS155"," BAS156"," BAS157"," BAS158"," BAS159"," BAS160"," BAS161"," BAS162"," BAS163"," BAS164"," BAS165"," BAS166"," BAS167"," BAS168"," BAS169"," BAS170"," BAS171"," BAS172"," BAS173"," BAS174"," BAS175"," BAS176"," BAS177"," BAS178"," BAS179"," BAS180"," BAS181"," BAS182"," BAS183"," BAS184"," BAS185"," BAS186"," BAS187"," BAS188"," BAS189"," BAS190"," BAS191"," BAS192"," BAS193"," BAS194"," BAS195"," BAS196"," BAS197"," BAS198"," BAS199"," BAS200"," BAS201"," BAS202"," BAS203"," BAS204"," BAS205"," BAS206"," BAS207"," BAS208"," BAS209"," BAS210"," BAS211"," BAS212"," BAS213"," BAS214"," BAS215"," BAS216"," BAS217"," BAS218"," BAS219"," BAS220"," BAS221"," BAS222"," BAS223"," BAS224"," BAS225"," BAS226"," BAS227"," BAS228"," BAS229"," BAS230"]
[null,{"$f":"IF(B420=B403,\"SI\",\"NO\")","v":"SI"},{"$f":"IF(C420=C403,\"SI\",\"NO\")","v":"SI"},"SI","SI","SI","SI","SI","SI","SI","SI","SI","SI","SI","SI","SI","SI","SI","SI","SI","SI","SI","SI","SI","SI","SI","SI","SI","SI","SI","SI","SI","SI","SI","SI","SI","SI","SI","SI","SI","SI","SI","SI","SI","SI","SI","SI","SI","SI","SI","SI","SI","SI","SI","SI","SI","SI","SI","SI","SI","SI","SI","SI","SI","SI","SI",{"$f":"IF(BO420=BO403,\"SI\",\"NO\")","v":"SI"},"SI","SI","SI","SI","SI","SI","SI","SI","SI","SI","SI","SI","SI","SI","SI","SI","SI","SI","SI","SI","SI","SI","SI","SI","SI","SI","SI","SI","SI","SI","SI","SI","SI","SI","SI","SI","SI","SI","SI","SI","SI","SI","SI","SI","SI","SI","SI","SI","SI","SI","SI","SI","SI","SI","SI","SI","SI","SI","SI","SI","SI","SI","SI",{"$f":"IF(EA420=EA403,\"SI\",\"NO\")","v":"SI"},"SI","SI","SI","SI","SI","SI","SI","SI","SI","SI","SI","SI","SI","SI","SI","SI","SI","SI","SI","SI","SI","SI","SI","SI","SI","SI","SI","SI","SI","SI","SI","SI","SI","SI","SI","SI","SI","SI","SI","SI","SI","SI","SI","SI","SI","SI","SI","SI","SI","SI","SI","SI","SI","SI","SI","SI","SI","SI","SI","SI","SI","SI","SI",{"$f":"IF(GM420=GM403,\"SI\",\"NO\")","v":"SI"},"SI","SI","SI","SI","SI","SI","SI","SI","SI","SI","SI","SI","SI","SI","SI","SI","SI","SI","SI","SI","SI","SI","SI","SI","SI","SI","SI","SI","SI","SI","SI","SI","SI","SI","SI","SI"]
[]
[]
["OTRAS ACTIVIDADES_8"]
["ANNO",2025]
["cod_red","03"]
["codmic","(Todas)"]
["cod_prov","(Todas)"]
["coddist","(Todas)"]
["cod_estab","(Todas)"]
["cod_eje","(Todas)"]
[]
[null,"Valores"]
["Etiquetas de fila"," BAS001"," BAS002"," BAS003"," BAS004"," BAS005"," BAS006"," BAS007"," BAS008"," BAS009"," BAS010"," BAS011"," BAS012"," BAS013"," BAS014"," BAS015"," BAS016"," BAS017"," BAS018"," BAS019"," BAS020"," BAS021"," BAS022"," BAS023"," BAS024"," BAS025"," BAS026"," BAS027"," BAS028"," BAS029"," BAS030"," BAS031"," BAS032"," BAS033"," BAS034"," BAS035"," BAS036"," BAS037"," BAS038"," BAS039"," BAS040"," BAS041"," BAS042"," BAS043"," BAS044"," BAS045"," BAS046"," BAS047"," BAS048"," BAS049"," BAS050"," BAS051"," BAS052"," BAS053"," BAS054"," BAS055"," BAS056"," BAS057"," BAS058"," BAS059"," BAS060"," BAS061"," BAS062"," BAS063"," BAS064"," BAS065"," BAS066"," BAS067"," BAS068"," BAS069"," BAS070"," BAS071"," BAS072"," BAS073"," BAS074"," BAS075"," BAS076"," BAS077"," BAS078"," BAS079"," BAS080"," BAS081"," BAS082"," BAS083"," BAS084"," BAS085"," BAS086"," BAS087"," BAS088"," BAS089"," BAS090"," BAS091"," BAS092"," BAS093"," BAS094"," BAS095"," BAS096"," BAS097"," BAS098"," BAS099"," BAS100"," BAS101"," BAS102"," BAS103"," BAS104"," BAS105"," BAS106"," BAS107"," BAS108"," BAS109"," BAS110"," BAS111"," BAS112"," BAS113"," BAS114"," BAS115"," BAS116"," BAS117"," BAS118"," BAS119"," BAS120"," BAS121"," BAS122"," BAS123"," BAS124"," BAS125"," BAS126"," BAS127"," BAS128"," BAS129"," BAS130"," BAS131"," BAS132"," BAS133"," BAS134"," BAS135"," BAS136"," BAS137"," BAS138"," BAS139"," BAS140"," BAS141"," BAS142"," BAS143"," BAS144"," BAS145"," BAS146"," BAS147"," BAS148"," BAS149"," BAS150"," BAS151"," BAS152"," BAS153"," BAS154"," BAS155"," BAS156"," BAS157"," BAS158"," BAS159"," BAS160"," BAS161"," BAS162"," BAS163"," BAS164"," BAS165"," BAS166"," BAS167"," BAS168"," BAS169"," BAS170"," BAS171"," BAS172"," BAS173"," BAS174"," BAS175"," BAS176"," BAS177"," BAS178"," BAS179"," BAS180"," BAS181"," BAS182"," BAS183"," BAS184"," BAS185"," BAS186"," BAS187"," BAS188"," BAS189"," BAS190"," BAS191"," BAS192"," BAS193"," BAS194"," BAS195"," BAS196"," BAS197"," BAS198"," BAS199"," BAS200"," BAS201"," BAS202"," BAS203"," BAS204"," BAS205"," BAS206"," BAS207"," BAS208"," BAS209"," BAS210"," BAS211"," BAS212"," BAS213"," BAS214"," BAS215"," BAS216"," BAS217"," BAS218"," BAS219"," BAS220"," BAS221"," BAS222"," BAS223"," BAS224"," BAS225"," BAS226"," BAS227"," BAS228"," BAS229"," BAS230"]
[1,0,0,0,0,0,0,0,0,0,0,0,0,0,0,0,0,0,0,0,0,0,0,0,0,0,0,0,0,0,0,0,0,0,0,0,0,0,0,0,0,0,0,0,0,0,0,0,0,0,0,0,0,0,0,0,0,0,0,0,0,0,0,0,0,0,0,0,0,0,0,0,0,0,0,0,0,0,0,0,0,0,0,0,0,6,1,0,0,0,0,0,0,0,0,0,0,0,0,0,0,0,0,0,0,0,0,0,0,0,0,0,0,0,0,0,0,0,0,0,0,0,0,0,0,0,0,0,0,0,0,0,0,0,0,0,0,0,0,0,0,0,0,0,0,0,0,0,0,0,0,0,0,0,0,0,0,0,0,0,0,0,0,0,0,0,0,0,0,0,0,0,0,0,0,0,0,0,0,0,0,0,0,0,0,0,0,0,0,0,0,0,0,0,0,0,0,0,0,0,0,0,0,0,0,0,0,0,0,0,0,0,0,0,0,0,0,0,0,0,0,0,0,0,0,0,0,0,0,0,0]
[2,0,0,0,0,0,0,0,0,0,0,0,0,0,0,0,0,0,0,0,0,0,0,0,0,0,0,0,0,0,0,0,0,0,0,0,0,0,0,0,0,0,0,0,0,0,0,0,0,0,0,0,0,0,0,0,0,0,0,0,0,0,0,0,0,0,0,0,0,0,0,0,0,0,0,0,0,0,0,0,0,0,0,0,0,24,1,0,0,0,0,0,0,0,0,0,0,0,0,0,0,0,0,0,0,0,0,0,0,0,0,0,0,0,0,0,0,0,0,0,0,0,0,0,0,0,0,0,0,0,0,0,0,0,0,0,0,0,0,0,0,0,0,0,0,0,0,0,0,0,0,0,0,0,0,0,0,0,0,0,0,0,0,0,0,0,0,0,0,0,0,0,0,0,0,0,0,0,0,0,0,0,0,0,0,0,0,0,0,0,0,0,0,0,0,0,0,0,0,0,0,0,0,0,0,0,0,0,0,0,0,0,0,0,0,0,0,0,0,0,0,0,0,0,0,0,0,0,0,0,0]
[3,0,0,0,0,0,0,0,0,0,0,0,0,0,0,0,0,0,0,0,0,0,0,0,0,0,0,0,0,0,0,0,0,0,0,0,0,0,0,0,0,0,0,0,0,0,0,0,0,0,0,0,0,0,0,0,0,0,0,0,0,0,0,0,0,0,0,0,0,0,0,0,0,0,0,0,0,0,0,0,0,0,0,0,0,86,52,0,0,0,0,0,0,0,0,0,0,0,0,0,0,0,0,0,0,0,0,0,0,0,0,0,0,0,0,0,0,0,0,0,0,0,0,0,0,0,0,0,0,0,0,0,0,0,0,0,0,0,0,0,0,0,0,0,0,0,0,0,0,0,0,0,0,0,0,0,0,0,0,0,0,0,0,0,0,0,0,0,0,0,0,0,0,0,0,0,0,0,0,0,0,0,0,0,0,0,0,0,0,0,0,0,0,0,0,0,0,0,0,0,0,0,0,0,0,0,0,0,0,0,0,0,0,0,0,0,0,0,0,0,0,0,0,0,0,0,0,0,0,0,0]
["T",0,0,0,0,0,0,0,0,0,0,0,0,0,0,0,0,0,0,0,0,0,0,0,0,0,0,0,0,0,0,0,0,0,0,0,0,0,0,0,0,0,0,0,0,0,0,0,0,0,0,0,0,0,0,0,0,0,0,0,0,0,0,0,0,0,0,0,0,0,0,0,0,0,0,0,0,0,0,0,0,0,0,0,0,116,54,0,0,0,0,0,0,0,0,0,0,0,0,0,0,0,0,0,0,0,0,0,0,0,0,0,0,0,0,0,0,0,0,0,0,0,0,0,0,0,0,0,0,0,0,0,0,0,0,0,0,0,0,0,0,0,0,0,0,0,0,0,0,0,0,0,0,0,0,0,0,0,0,0,0,0,0,0,0,0,0,0,0,0,0,0,0,0,0,0,0,0,0,0,0,0,0,0,0,0,0,0,0,0,0,0,0,0,0,0,0,0,0,0,0,0,0,0,0,0,0,0,0,0,0,0,0,0,0,0,0,0,0,0,0,0,0,0,0,0,0,0,0,0,0]
[]
[]
[]
[]
[]
[]
[]
[]
[]
["TOTAL"]
[{"$f":"COUNT(A435:A446)","v":3},{"$f":"SUM(B435:B446)","v":0},{"$f":"SUM(C435:C446)","v":0},0,0,0,0,0,0,0,0,0,0,0,0,0,0,0,0,0,0,0,0,0,0,0,0,0,0,0,0,0,0,0,0,0,0,0,0,0,0,0,0,0,0,0,0,0,0,0,0,0,0,0,0,0,0,0,0,0,0,0,0,0,0,0,{"$f":"SUM(BO435:BO446)","v":0},0,0,0,0,0,0,0,0,0,0,0,0,0,0,0,0,0,0,232,108,0,0,0,0,0,0,0,0,0,0,0,0,0,0,0,0,0,0,0,0,0,0,0,0,0,0,0,0,0,0,0,0,0,0,0,0,0,0,0,0,0,0,0,{"$f":"SUM(EA435:EA446)","v":0},0,0,0,0,0,0,0,0,0,0,0,0,0,0,0,0,0,0,0,0,0,0,0,0,0,0,0,0,0,0,0,0,0,0,0,0,0,0,0,0,0,0,0,0,0,0,0,0,0,0,0,0,0,0,0,0,0,0,0,0,0,0,0,{"$f":"SUM(GM435:GM446)","v":0},0,0,0,0,0,0,0,0,0,0,0,0,0,0,0,0,0,0,0,0,0,0,0,0,0,0,0,0,0,0,0,0,0,0,0,0]
[{"$f":"CONCATENATE(A435,\"-\",A436,\"-\",A437,\"-\",A438,\"-\",A439,\"-\",A440,\"-\",A441,\"-\",A442,\"-\",A443,\"-\",A444,\"-\",A445,\"-\",A446)","v":"1-2-3-T--------"}]
[null," BAS001"," BAS002"," BAS003"," BAS004"," BAS005"," BAS006"," BAS007"," BAS008"," BAS009"," BAS010"," BAS011"," BAS012"," BAS013"," BAS014"," BAS015"," BAS016"," BAS017"," BAS018"," BAS019"," BAS020"," BAS021"," BAS022"," BAS023"," BAS024"," BAS025"," BAS026"," BAS027"," BAS028"," BAS029"," BAS030"," BAS031"," BAS032"," BAS033"," BAS034"," BAS035"," BAS036"," BAS037"," BAS038"," BAS039"," BAS040"," BAS041"," BAS042"," BAS043"," BAS044"," BAS045"," BAS046"," BAS047"," BAS048"," BAS049"," BAS050"," BAS051"," BAS052"," BAS053"," BAS054"," BAS055"," BAS056"," BAS057"," BAS058"," BAS059"," BAS060"," BAS061"," BAS062"," BAS063"," BAS064"," BAS065"," BAS066"," BAS067"," BAS068"," BAS069"," BAS070"," BAS071"," BAS072"," BAS073"," BAS074"," BAS075"," BAS076"," BAS077"," BAS078"," BAS079"," BAS080"," BAS081"," BAS082"," BAS083"," BAS084"," BAS085"," BAS086"," BAS087"," BAS088"," BAS089"," BAS090"," BAS091"," BAS092"," BAS093"," BAS094"," BAS095"," BAS096"," BAS097"," BAS098"," BAS099"," BAS100"," BAS101"," BAS102"," BAS103"," BAS104"," BAS105"," BAS106"," BAS107"," BAS108"," BAS109"," BAS110"," BAS111"," BAS112"," BAS113"," BAS114"," BAS115"," BAS116"," BAS117"," BAS118"," BAS119"," BAS120"," BAS121"," BAS122"," BAS123"," BAS124"," BAS125"," BAS126"," BAS127"," BAS128"," BAS129"," BAS130"," BAS131"," BAS132"," BAS133"," BAS134"," BAS135"," BAS136"," BAS137"," BAS138"," BAS139"," BAS140"," BAS141"," BAS142"," BAS143"," BAS144"," BAS145"," BAS146"," BAS147"," BAS148"," BAS149"," BAS150"," BAS151"," BAS152"," BAS153"," BAS154"," BAS155"," BAS156"," BAS157"," BAS158"," BAS159"," BAS160"," BAS161"," BAS162"," BAS163"," BAS164"," BAS165"," BAS166"," BAS167"," BAS168"," BAS169"," BAS170"," BAS171"," BAS172"," BAS173"," BAS174"," BAS175"," BAS176"," BAS177"," BAS178"," BAS179"," BAS180"," BAS181"," BAS182"," BAS183"," BAS184"," BAS185"," BAS186"," BAS187"," BAS188"," BAS189"," BAS190"," BAS191"," BAS192"," BAS193"," BAS194"," BAS195"," BAS196"," BAS197"," BAS198"," BAS199"," BAS200"," BAS201"," BAS202"," BAS203"," BAS204"," BAS205"," BAS206"," BAS207"," BAS208"," BAS209"," BAS210"," BAS211"," BAS212"," BAS213"," BAS214"," BAS215"," BAS216"," BAS217"," BAS218"," BAS219"," BAS220"," BAS221"," BAS222"," BAS223"," BAS224"," BAS225"," BAS226"," BAS227"," BAS228"," BAS229"," BAS230"]
[null,{"$f":"IF(B451=B434,\"SI\",\"NO\")","v":"SI"},{"$f":"IF(C451=C434,\"SI\",\"NO\")","v":"SI"},"SI","SI","SI","SI","SI","SI","SI","SI","SI","SI","SI","SI","SI","SI","SI","SI","SI","SI","SI","SI","SI","SI","SI","SI","SI","SI","SI","SI","SI","SI","SI","SI","SI","SI","SI","SI","SI","SI","SI","SI","SI","SI","SI","SI","SI","SI","SI","SI","SI","SI","SI","SI","SI","SI","SI","SI","SI","SI","SI","SI","SI","SI","SI",{"$f":"IF(BO451=BO434,\"SI\",\"NO\")","v":"SI"},"SI","SI","SI","SI","SI","SI","SI","SI","SI","SI","SI","SI","SI","SI","SI","SI","SI","SI","SI","SI","SI","SI","SI","SI","SI","SI","SI","SI","SI","SI","SI","SI","SI","SI","SI","SI","SI","SI","SI","SI","SI","SI","SI","SI","SI","SI","SI","SI","SI","SI","SI","SI","SI","SI","SI","SI","SI","SI","SI","SI","SI","SI","SI",{"$f":"IF(EA451=EA434,\"SI\",\"NO\")","v":"SI"},"SI","SI","SI","SI","SI","SI","SI","SI","SI","SI","SI","SI","SI","SI","SI","SI","SI","SI","SI","SI","SI","SI","SI","SI","SI","SI","SI","SI","SI","SI","SI","SI","SI","SI","SI","SI","SI","SI","SI","SI","SI","SI","SI","SI","SI","SI","SI","SI","SI","SI","SI","SI","SI","SI","SI","SI","SI","SI","SI","SI","SI","SI","SI",{"$f":"IF(GM451=GM434,\"SI\",\"NO\")","v":"SI"},"SI","SI","SI","SI","SI","SI","SI","SI","SI","SI","SI","SI","SI","SI","SI","SI","SI","SI","SI","SI","SI","SI","SI","SI","SI","SI","SI","SI","SI","SI","SI","SI","SI","SI","SI","SI"]
[]
["PP017-13"]
["ANNO",2025]
["cod_red","03"]
["codmic","(Todas)"]
["cod_prov","(Todas)"]
["coddist","(Todas)"]
["cod_estab","(Todas)"]
["cod_eje","(Todas)"]
[]
[null,"Valores"]
["Etiquetas de fila"," BAS001"," BAS002"," BAS003"," BAS004"," BAS005"," BAS006"," BAS007"," BAS008"," BAS009"," BAS010"," BAS011"," BAS012"," BAS013"," BAS014"," BAS015"," BAS016"," BAS017"," BAS018"," BAS019"," BAS020"," BAS021"," BAS022"," BAS023"," BAS024"," BAS025"," BAS026"," BAS027"," BAS028"," BAS029"," BAS030"," BAS031"," BAS032"," BAS033"," BAS034"," BAS035"," BAS036"," BAS037"," BAS038"," BAS039"," BAS040"," BAS041"," BAS042"," BAS043"," BAS044"," BAS045"," BAS046"," BAS047"," BAS048"," BAS049"," BAS050"," BAS051"," BAS052"," BAS053"," BAS054"," BAS055"," BAS056"," BAS057"," BAS058"," BAS059"," BAS060"," BAS061"," BAS062"," BAS063"," BAS064"," BAS065"," BAS066"," BAS067"," BAS068"," BAS069"," BAS070"," BAS071"," BAS072"," BAS073"," BAS074"," BAS075"," BAS076"," BAS077"," BAS078"," BAS079"," BAS080"," BAS081"," BAS082"," BAS083"," BAS084"," BAS085"," BAS086"," BAS087"," BAS088"," BAS089"," BAS090"," BAS091"," BAS092"," BAS093"," BAS094"," BAS095"," BAS096"," BAS097"," BAS098"," BAS099"," BAS100"," BAS101"," BAS102"," BAS103"," BAS104"," BAS105"," BAS106"," BAS107"," BAS108"," BAS109"," BAS110"," BAS111"," BAS112"," BAS113"," BAS114"," BAS115"," BAS116"," BAS117"," BAS118"," BAS119"," BAS120"," BAS121"," BAS122"," BAS123"," BAS124"," BAS125"," BAS126"," BAS127"," BAS128"," BAS129"," BAS130"," BAS131"," BAS132"," BAS133"," BAS134"," BAS135"," BAS136"," BAS137"," BAS138"," BAS139"," BAS140"," BAS141"," BAS142"," BAS143"," BAS144"," BAS145"," BAS146"," BAS147"," BAS148"," BAS149"," BAS150"," BAS151"," BAS152"," BAS153"," BAS154"," BAS155"," BAS156"," BAS157"," BAS158"," BAS159"," BAS160"," BAS161"," BAS162"," BAS163"," BAS164"," BAS165"," BAS166"," BAS167"," BAS168"," BAS169"," BAS170"," BAS171"," BAS172"," BAS173"," BAS174"," BAS175"," BAS176"," BAS177"," BAS178"," BAS179"," BAS180"," BAS181"," BAS182"," BAS183"," BAS184"," BAS185"," BAS186"," BAS187"," BAS188"," BAS189"," BAS190"," BAS191"," BAS192"," BAS193"," BAS194"," BAS195"," BAS196"," BAS197"," BAS198"," BAS199"," BAS200"," BAS201"," BAS202"," BAS203"," BAS204"," BAS205"," BAS206"," BAS207"," BAS208"," BAS209"," BAS210"," BAS211"," BAS212"," BAS213"," BAS214"," BAS215"," BAS216"," BAS217"," BAS218"," BAS219"," BAS220"," BAS221"," BAS222"," BAS223"," BAS224"," BAS225"," BAS226"," BAS227"," BAS228"," BAS229"," BAS230"]
[1,0,0,0,0,0,0,0,0,0,0,0,0,0,0,0,0,0,0,0,0,0,0,0,0,0,0,0,0,0,0,0,0,0,0,0,0,0,0,0,0,0,0,0,0,0,0,0,0,0,0,0,0,0,0,0,0,0,0,0,0,0,0,0,0,0,0,0,0,0,0,0,0,0,0,0,0,0,0,22,3,1,0,0,0,0,0,0,0,0,0,0,0,0,0,0,0,0,0,0,0,0,0,0,0,0,0,0,0,0,0,0,0,0,0,0,0,0,0,0,0,0,0,0,0,0,0,0,0,0,0,0,0,0,0,0,0,0,0,0,0,0,0,0,0,0,0,0,0,0,0,0,0,0,0,0,0,0,0,0,0,0,0,0,0,0,0,0,0,0,0,0,0,0,0,0,0,0,0,0,0,0,0,0,0,0,0,0,0,0,0,0,0,0,0,0,0,0,0,0,0,0,0,0,0,0,0,0,0,0,0,0,0,0,0,0,0,0,0,0,0,0,0,0,0,0,0,0,0,0,0]
[2,0,0,0,0,0,0,0,0,0,0,0,0,0,0,0,0,0,0,0,0,0,0,0,0,0,0,0,0,0,0,0,0,0,0,0,0,0,0,0,0,0,0,0,0,0,0,0,0,0,0,0,0,0,0,0,0,0,0,0,0,0,0,0,0,0,0,0,0,0,0,0,0,0,0,0,0,0,0,556,235,0,0,0,0,0,0,0,0,0,0,0,0,0,0,0,0,0,0,0,0,0,0,0,0,0,0,0,0,0,0,0,0,0,0,0,0,0,0,0,0,0,0,0,0,0,0,0,0,0,0,0,0,0,0,0,0,0,0,0,0,0,0,0,0,0,0,0,0,0,0,0,0,0,0,0,0,0,0,0,0,0,0,0,0,0,0,0,0,0,0,0,0,0,0,0,0,0,0,0,0,0,0,0,0,0,0,0,0,0,0,0,0,0,0,0,0,0,0,0,0,0,0,0,0,0,0,0,0,0,0,0,0,0,0,0,0,0,0,0,0,0,0,0,0,0,0,0,0,0,0]
[3,0,0,0,0,0,0,0,0,0,0,0,0,0,0,0,0,0,0,0,0,0,0,0,0,0,0,0,0,0,0,0,0,0,0,0,0,0,0,0,0,0,0,0,0,0,0,0,0,0,0,0,0,0,0,0,0,0,0,0,0,0,0,0,0,0,0,0,0,0,0,0,0,0,0,0,0,0,0,1367,305,4,0,268,0,0,0,0,0,0,0,0,0,0,0,0,0,0,0,0,0,0,0,0,0,0,0,0,0,0,0,0,0,0,0,0,0,0,0,0,0,0,0,0,0,0,0,0,0,0,0,0,0,0,0,0,0,0,0,0,0,0,0,0,0,0,0,0,0,0,0,0,0,0,0,0,0,0,0,0,0,0,0,0,0,0,0,0,0,0,0,0,0,0,0,0,0,0,0,0,0,0,0,0,0,0,0,0,0,0,0,0,0,0,0,0,0,0,0,0,0,0,0,0,0,0,0,0,0,0,0,0,0,0,0,0,0,0,0,0,0,0,0,0,0,0,0,0,0,0,0]
["T",0,0,0,0,0,0,0,0,0,0,0,0,0,0,0,0,0,0,0,0,0,0,0,0,0,0,0,0,0,0,0,0,0,0,0,0,0,0,0,0,0,0,0,0,0,0,0,0,0,0,0,0,0,0,0,0,0,0,0,0,0,0,0,0,0,0,0,0,0,0,0,0,0,0,0,0,0,0,1945,543,5,0,268,0,0,0,0,0,0,0,0,0,0,0,0,0,0,0,0,0,0,0,0,0,0,0,0,0,0,0,0,0,0,0,0,0,0,0,0,0,0,0,0,0,0,0,0,0,0,0,0,0,0,0,0,0,0,0,0,0,0,0,0,0,0,0,0,0,0,0,0,0,0,0,0,0,0,0,0,0,0,0,0,0,0,0,0,0,0,0,0,0,0,0,0,0,0,0,0,0,0,0,0,0,0,0,0,0,0,0,0,0,0,0,0,0,0,0,0,0,0,0,0,0,0,0,0,0,0,0,0,0,0,0,0,0,0,0,0,0,0,0,0,0,0,0,0,0,0,0]
[]
[]
[]
[]
[]
[]
[]
[]
[]
["TOTAL"]
[{"$f":"COUNT(A465:A476)","v":3},{"$f":"SUM(B465:B476)","v":0},{"$f":"SUM(C465:C476)","v":0},0,0,0,0,0,0,0,0,0,0,0,0,0,0,0,0,0,0,0,0,0,0,0,0,0,0,0,0,0,0,0,0,0,0,0,0,0,0,0,0,0,0,0,0,0,0,0,0,0,0,0,0,0,0,0,0,0,0,0,0,0,0,0,{"$f":"SUM(BO465:BO476)","v":0},0,0,0,0,0,0,0,0,0,0,0,0,3890,1086,10,0,536,0,0,0,0,0,0,0,0,0,0,0,0,0,0,0,0,0,0,0,0,0,0,0,0,0,0,0,0,0,0,0,0,0,0,0,0,0,0,0,0,0,0,0,0,0,0,{"$f":"SUM(EA465:EA476)","v":0},0,0,0,0,0,0,0,0,0,0,0,0,0,0,0,0,0,0,0,0,0,0,0,0,0,0,0,0,0,0,0,0,0,0,0,0,0,0,0,0,0,0,0,0,0,0,0,0,0,0,0,0,0,0,0,0,0,0,0,0,0,0,0,{"$f":"SUM(GM465:GM476)","v":0},0,0,0,0,0,0,0,0,0,0,0,0,0,0,0,0,0,0,0,0,0,0,0,0,0,0,0,0,0,0,0,0,0,0,0,0]
[{"$f":"CONCATENATE(A465,\"-\",A466,\"-\",A467,\"-\",A468,\"-\",A469,\"-\",A470,\"-\",A471,\"-\",A472,\"-\",A473,\"-\",A474,\"-\",A475,\"-\",A476)","v":"1-2-3-T--------"}]
[null," BAS001"," BAS002"," BAS003"," BAS004"," BAS005"," BAS006"," BAS007"," BAS008"," BAS009"," BAS010"," BAS011"," BAS012"," BAS013"," BAS014"," BAS015"," BAS016"," BAS017"," BAS018"," BAS019"," BAS020"," BAS021"," BAS022"," BAS023"," BAS024"," BAS025"," BAS026"," BAS027"," BAS028"," BAS029"," BAS030"," BAS031"," BAS032"," BAS033"," BAS034"," BAS035"," BAS036"," BAS037"," BAS038"," BAS039"," BAS040"," BAS041"," BAS042"," BAS043"," BAS044"," BAS045"," BAS046"," BAS047"," BAS048"," BAS049"," BAS050"," BAS051"," BAS052"," BAS053"," BAS054"," BAS055"," BAS056"," BAS057"," BAS058"," BAS059"," BAS060"," BAS061"," BAS062"," BAS063"," BAS064"," BAS065"," BAS066"," BAS067"," BAS068"," BAS069"," BAS070"," BAS071"," BAS072"," BAS073"," BAS074"," BAS075"," BAS076"," BAS077"," BAS078"," BAS079"," BAS080"," BAS081"," BAS082"," BAS083"," BAS084"," BAS085"," BAS086"," BAS087"," BAS088"," BAS089"," BAS090"," BAS091"," BAS092"," BAS093"," BAS094"," BAS095"," BAS096"," BAS097"," BAS098"," BAS099"," BAS100"," BAS101"," BAS102"," BAS103"," BAS104"," BAS105"," BAS106"," BAS107"," BAS108"," BAS109"," BAS110"," BAS111"," BAS112"," BAS113"," BAS114"," BAS115"," BAS116"," BAS117"," BAS118"," BAS119"," BAS120"," BAS121"," BAS122"," BAS123"," BAS124"," BAS125"," BAS126"," BAS127"," BAS128"," BAS129"," BAS130"," BAS131"," BAS132"," BAS133"," BAS134"," BAS135"," BAS136"," BAS137"," BAS138"," BAS139"," BAS140"," BAS141"," BAS142"," BAS143"," BAS144"," BAS145"," BAS146"," BAS147"," BAS148"," BAS149"," BAS150"," BAS151"," BAS152"," BAS153"," BAS154"," BAS155"," BAS156"," BAS157"," BAS158"," BAS159"," BAS160"," BAS161"," BAS162"," BAS163"," BAS164"," BAS165"," BAS166"," BAS167"," BAS168"," BAS169"," BAS170"," BAS171"," BAS172"," BAS173"," BAS174"," BAS175"," BAS176"," BAS177"," BAS178"," BAS179"," BAS180"," BAS181"," BAS182"," BAS183"," BAS184"," BAS185"," BAS186"," BAS187"," BAS188"," BAS189"," BAS190"," BAS191"," BAS192"," BAS193"," BAS194"," BAS195"," BAS196"," BAS197"," BAS198"," BAS199"," BAS200"," BAS201"," BAS202"," BAS203"," BAS204"," BAS205"," BAS206"," BAS207"," BAS208"," BAS209"," BAS210"," BAS211"," BAS212"," BAS213"," BAS214"," BAS215"," BAS216"," BAS217"," BAS218"," BAS219"," BAS220"," BAS221"," BAS222"," BAS223"," BAS224"," BAS225"," BAS226"," BAS227"," BAS228"," BAS229"," BAS230"]
[null,{"$f":"IF(B481=B464,\"SI\",\"NO\")","v":"SI"},{"$f":"IF(C481=C464,\"SI\",\"NO\")","v":"SI"},"SI","SI","SI","SI","SI","SI","SI","SI","SI","SI","SI","SI","SI","SI","SI","SI","SI","SI","SI","SI","SI","SI","SI","SI","SI","SI","SI","SI","SI","SI","SI","SI","SI","SI","SI","SI","SI","SI","SI","SI","SI","SI","SI","SI","SI","SI","SI","SI","SI","SI","SI","SI","SI","SI","SI","SI","SI","SI","SI","SI","SI","SI","SI",{"$f":"IF(BO481=BO464,\"SI\",\"NO\")","v":"SI"},"SI","SI","SI","SI","SI","SI","SI","SI","SI","SI","SI","SI","SI","SI","SI","SI","SI","SI","SI","SI","SI","SI","SI","SI","SI","SI","SI","SI","SI","SI","SI","SI","SI","SI","SI","SI","SI","SI","SI","SI","SI","SI","SI","SI","SI","SI","SI","SI","SI","SI","SI","SI","SI","SI","SI","SI","SI","SI","SI","SI","SI","SI","SI",{"$f":"IF(EA481=EA464,\"SI\",\"NO\")","v":"SI"},"SI","SI","SI","SI","SI","SI","SI","SI","SI","SI","SI","SI","SI","SI","SI","SI","SI","SI","SI","SI","SI","SI","SI","SI","SI","SI","SI","SI","SI","SI","SI","SI","SI","SI","SI","SI","SI","SI","SI","SI","SI","SI","SI","SI","SI","SI","SI","SI","SI","SI","SI","SI","SI","SI","SI","SI","SI","SI","SI","SI","SI","SI","SI",{"$f":"IF(GM481=GM464,\"SI\",\"NO\")","v":"SI"},"SI","SI","SI","SI","SI","SI","SI","SI","SI","SI","SI","SI","SI","SI","SI","SI","SI","SI","SI","SI","SI","SI","SI","SI","SI","SI","SI","SI","SI","SI","SI","SI","SI","SI","SI","SI"]

{"sheet":"PPoR_1001","index":3,"n_rows":293,"n_cols":42,"rows_kept":293,"cut":false,"hidden":false,"merged":[[58,1,58,2],[4,1,4,9],[17,1,17,8],[18,1,18,8],[19,1,19,8],[31,2,31,4],[39,2,39,4],[39,5,39,7],[8,3,8,5],[12,3,12,4],[14,3,14,4],[46,2,46,4],[46,5,46,7],[51,1,51,8],[56,1,56,2],[57,1,57,2],[59,1,59,2],[60,1,60,2],[94,1,94,8],[95,1,95,8],[105,1,106,1],[105,2,105,3],[105,4,106,6],[105,7,105,8],[139,1,139,3],[107,4,107,6],[108,4,108,6],[109,4,109,6],[114,1,115,1],[114,2,114,3],[114,4,114,5],[121,1,122,1],[121,2,121,3],[121,4,121,5],[134,1,134,8],[135,1,135,8],[173,1,173,3],[140,1,140,3],[141,1,141,3],[142,1,142,3],[143,1,143,3],[166,1,166,3],[167,1,167,3],[168,1,168,3],[169,1,169,3],[170,1,170,3],[171,1,171,3],[172,1,172,3],[210,1,210,2],[187,1,187,8],[191,1,191,2],[192,1,192,2],[193,1,193,2],[199,1,199,2],[200,1,200,2],[201,1,201,2],[206,1,206,2],[207,1,207,2],[208,1,208,2],[209,1,209,2],[222,1,222,2],[211,1,211,2],[212,1,212,2],[213,1,213,2],[214,1,214,2],[215,1,215,2],[216,1,216,2],[217,1,217,2],[218,1,218,2],[219,1,219,2],[220,1,220,2],[221,1,221,2],[256,1,256,3],[257,1,257,3],[258,1,258,3],[223,1,223,2],[244,1,244,8],[248,1,248,3],[249,1,249,3],[250,1,250,3],[255,1,255,3]]}
[]
[]
[]
[]
[null,"\"REPORTE MENSUAL DE ACTIVIDADES - PROMOCIÓN DE LA SALUD\" 2021-2024"]
[]
[]
[null,"DIRESA/DISA/GERESA ",null,"EJECUTORA",null,null,null,"MES"]
[null,"CUSCO",null,{"$f":"+TABLAS!O14","v":""},null,null,null,{"$f":"+TABLAS!N26","v":"ENE - MAR"}]
[null,"RED "]
[null,{"$f":"+TABLAS!O9","v":"03 - LA CONVENCION"},null,null,null,null,null,"AÑO "]
[null,"MICRO RED",null,"PROVINCIA",null,null,null,{"$f":"+TABLAS!J16","v":"2025"}]
[null,{"$f":"+TABLAS!O10","v":""},null,{"$f":"+TABLAS!O12","v":""},null,null,null,{"$f":"+TABLAS!M20","v":0}]
[null,"IPRESS",null,"DISTRITO"]
[null,{"$f":"+TABLAS!O11","v":""},null,{"$f":"+TABLAS!O13","v":""},null,null,null,{"$f":"IF(H13=1,MID(A16,1,9)&\"_\"&MID(A16,13,20)&\"_\"&MID(H9,1,3)&\"_\"&H12,MID(A16,1,9)&\"_\"&MID(A16,13,20)&\"_\"&MID(H9,1,3)&\"_\"&MID(H9,7,3)&\"_\"&H12)","v":"__ENE_MAR_2025"}]
[]
[]
[null,"PRODUCTO: FAMILIAS SALUDABLES CON CONOCIMIENTOS PARA EL CUIDADO INFANTIL, LACTANCIA MATERNA EXCLUSIVA Y LA ADECUADA ALIMENTACION Y PROTECCION DEL MENOR DE 36 MESES"]
[null,"ACTIVIDAD: FAMILIAS CON NIÑO/AS MENORES DE 36 MESES DESARROLLAN PRACTICAS SALUDABLES",null,null,null,null,null,null,null,null,null,null,null,null,null,null,null,null,null,null,null,null,null,null,null,null,null,null,null,null,null,null,null,null,null,null,null,"\",TABLAS!$A$75)"]
[null,"SUB PRODUCTO: FAMILIAS CON NIÑOS (AS) MENORES DE 12 MESES Y GESTANTES RECIBEN ACOMPAÑAMIENTO A TRAVES DE SESIONES DEMOSTRATIVAS EN PREPARACIÓN DE ALIMENTOS.",null,null,null,null,null,null,null,null,null,null,null,null,null,null,null,null,null,null,null,null,null,null,null,null,null,null,null,null,null,null,null,null,null,null,"=+IMPORTARDATOSDINAMICOS(\" BAS"]
[]
[null,"1.1. EN FAMILIAS CON NIÑAS Y NIÑOS DE 6 MESES A 11 MESES"]
[]
[null,null,1,2,3]
[null,"TIPOS DE ACTIVIDAD/ EDADES","6 - 8 meses","9 - 11 meses","S/D"]
[1,"Preparacion de alimentos (ALI)",{"$f":"+GETPIVOTDATA(\" BAS001\",TABLAS!$A$75)","v":63},{"$f":"+GETPIVOTDATA(\" BAS002\",TABLAS!$A$75)","v":48},{"$f":"+GETPIVOTDATA(\" BAS003\",TABLAS!$A$75)","v":7},null,null,null,null,null,null,null,null,null,null,null,null,null,1,{"$f":"+S26+1","v":2},{"$f":"+T26+1","v":3},null,null,null,null,null,{"$f":"IF(LEN(S26)=1,CONCATENATE(\"00\",S26),IF(LEN(S26)=2,CONCATENATE(\"0\",S26),S26))","v":"001"},{"$f":"IF(LEN(T26)=1,CONCATENATE(\"00\",T26),IF(LEN(T26)=2,CONCATENATE(\"0\",T26),T26))","v":"002"},{"$f":"IF(LEN(U26)=1,CONCATENATE(\"00\",U26),IF(LEN(U26)=2,CONCATENATE(\"0\",U26),U26))","v":"003"},null,null,null,null,null,null,null,{"$f":"+$AK$20&AA26&$AL$19","v":"=+IMPORTARDATOSDINAMICOS(\" BAS001\",TABLAS!$A$75)"},{"$f":"+$AK$20&AB26&$AL$19","v":"=+IMPORTARDATOSDINAMICOS(\" BAS002\",TABLAS!$A$75)"},"=+IMPORTARDATOSDINAMICOS(\" BAS003\",TABLAS!$A$75)"]
[]
[]
[null,"1.2. SESIONES DEMOSTRATIVAS A GESTANTES"]
[]
[null,null,1,2,3]
[null,null,"GESTANTE (NORMAL/RIESGO)"]
[null,"TIPOS DE ACTIVIDAD/ EDADES","I Trim","II Trim","III Trim"]
[1,"Preparacion de alimentos (ALI)",{"$f":"+GETPIVOTDATA(\" BAS004\",TABLAS!$A$75)","v":6},{"$f":"+GETPIVOTDATA(\" BAS005\",TABLAS!$A$75)","v":7},{"$f":"+GETPIVOTDATA(\" BAS006\",TABLAS!$A$75)","v":17},null,null,null,null,null,null,null,null,null,null,null,null,null,{"$f":"+U26+1","v":4},{"$f":"+S34+1","v":5},{"$f":"+T34+1","v":6},null,null,null,null,null,{"$f":"IF(LEN(S34)=1,CONCATENATE(\"00\",S34),IF(LEN(S34)=2,CONCATENATE(\"0\",S34),S34))","v":"004"},"005","006",null,null,null,null,null,null,null,{"$f":"+$AK$20&AA34&$AL$19","v":"=+IMPORTARDATOSDINAMICOS(\" BAS004\",TABLAS!$A$75)"},"=+IMPORTARDATOSDINAMICOS(\" BAS005\",TABLAS!$A$75)","=+IMPORTARDATOSDINAMICOS(\" BAS006\",TABLAS!$A$75)"]
[]
[]
[null,"1.3. CUANDO LA SESION DEMOSTRATIVA SE REALICE EN CENTROS DE PROMOCION Y VIGILANCIA COMUNAL"]
[]
[null,null,1,2,3,4,5,6]
[null,null,"Familias con niñas y niños de 6 a 11 meses ",null,null,"Gestante"]
[null,"TIPOS DE ACTIVIDAD/ EDADES","6 - 8 meses","9 - 11 meses","S/D","I Trim","II Trim","III Trim"]
[1,"Preparacion de alimentos (ALI)",{"$f":"+GETPIVOTDATA(\" BAS007\",TABLAS!$A$75)","v":3},{"$f":"+GETPIVOTDATA(\" BAS008\",TABLAS!$A$75)","v":0},{"$f":"+GETPIVOTDATA(\" BAS009\",TABLAS!$A$75)","v":0},{"$f":"+GETPIVOTDATA(\" BAS010\",TABLAS!$A$75)","v":0},{"$f":"+GETPIVOTDATA(\" BAS011\",TABLAS!$A$75)","v":1},{"$f":"+GETPIVOTDATA(\" BAS012\",TABLAS!$A$75)","v":0},null,null,null,null,null,null,null,null,null,null,{"$f":"+U34+1","v":7},{"$f":"+S42+1","v":8},{"$f":"+T42+1","v":9},{"$f":"+U42+1","v":10},11,{"$f":"+W42+1","v":12},null,null,{"$f":"IF(LEN(S42)=1,CONCATENATE(\"00\",S42),IF(LEN(S42)=2,CONCATENATE(\"0\",S42),S42))","v":"007"},"008","009","010","011","012",null,null,null,null,{"$f":"+$AK$20&AA42&$AL$19","v":"=+IMPORTARDATOSDINAMICOS(\" BAS007\",TABLAS!$A$75)"},"=+IMPORTARDATOSDINAMICOS(\" BAS008\",TABLAS!$A$75)","=+IMPORTARDATOSDINAMICOS(\" BAS009\",TABLAS!$A$75)","=+IMPORTARDATOSDINAMICOS(\" BAS010\",TABLAS!$A$75)","=+IMPORTARDATOSDINAMICOS(\" BAS011\",TABLAS!$A$75)","=+IMPORTARDATOSDINAMICOS(\" BAS012\",TABLAS!$A$75)"]
[]
[null,"1.4. CUANDO LA SESION DEMOSTRATIVA SEA PROMOVIDA POR EL GOBIERNO LOCAL "]
[]
[null,null,1,2,3,4,5,6]
[null,null,"Familias con niñas y niños de 6 a 11 meses ",null,null,"Gestante"]
[null,"TIPOS DE ACTIVIDAD/ EDADES","6 - 8 meses","9 - 11 meses","S/D","I Trim","II Trim","III Trim"]
[1,"Preparacion de alimentos (ALI)",{"$f":"+GETPIVOTDATA(\" BAS013\",TABLAS!$A$75)","v":33},{"$f":"+GETPIVOTDATA(\" BAS014\",TABLAS!$A$75)","v":29},{"$f":"+GETPIVOTDATA(\" BAS015\",TABLAS!$A$75)","v":0},{"$f":"+GETPIVOTDATA(\" BAS016\",TABLAS!$A$75)","v":0},{"$f":"+GETPIVOTDATA(\" BAS017\",TABLAS!$A$75)","v":6},{"$f":"+GETPIVOTDATA(\" BAS018\",TABLAS!$A$75)","v":10},null,null,null,null,null,null,null,null,null,null,{"$f":"+X42+1","v":13},{"$f":"+S49+1","v":14},{"$f":"+T49+1","v":15},{"$f":"+U49+1","v":16},17,{"$f":"+W49+1","v":18},null,null,{"$f":"IF(LEN(S49)=1,CONCATENATE(\"00\",S49),IF(LEN(S49)=2,CONCATENATE(\"0\",S49),S49))","v":"013"},"014","015","016","017","018",null,null,null,null,{"$f":"+$AK$20&AA49&$AL$19","v":"=+IMPORTARDATOSDINAMICOS(\" BAS013\",TABLAS!$A$75)"},"=+IMPORTARDATOSDINAMICOS(\" BAS014\",TABLAS!$A$75)","=+IMPORTARDATOSDINAMICOS(\" BAS015\",TABLAS!$A$75)","=+IMPORTARDATOSDINAMICOS(\" BAS016\",TABLAS!$A$75)","=+IMPORTARDATOSDINAMICOS(\" BAS017\",TABLAS!$A$75)","=+IMPORTARDATOSDINAMICOS(\" BAS018\",TABLAS!$A$75)"]
[]
[]
[null,"SUB PRODUCTO 3325107: FAMILIAS CON NIÑOS MENORES DE 12 MESES RECIBEN ACOMPAÑAMIENTO A TRAVÉS DE LA CONSEJERÍA EN LA VISITA DOMICILIARIA. (Subproducto trazador de la Actividad 1 y del Producto)"]
[]
[null,"Visita domiciliaria al Recién Nacido (dentro de los 28 días de nacido):"]
[]
[null,null,null,1,2]
[null,"TIPOS DE ACTIVIDAD DE VD/ EDADES",null,"Oportuno\n>=1 dia y   <=7 dias","Inoportuno\n>=1 dia y <=28 dias"]
[1,"Consejeria en lactancia Materna exclusiva",null,{"$f":"+GETPIVOTDATA(\" BAS019\",TABLAS!$A$75)","v":139},{"$f":"+GETPIVOTDATA(\" BAS020\",TABLAS!$A$75)","v":171},null,null,null,null,null,null,null,null,null,null,null,null,null,{"$f":"+X49+1","v":19},{"$f":"+S58+1","v":20},null,null,null,null,null,null,{"$f":"IF(LEN(S58)=1,CONCATENATE(\"00\",S58),IF(LEN(S58)=2,CONCATENATE(\"0\",S58),S58))","v":"019"},"020",null,null,null,null,null,null,null,null,{"$f":"+$AK$20&AA58&$AL$19","v":"=+IMPORTARDATOSDINAMICOS(\" BAS019\",TABLAS!$A$75)"},"=+IMPORTARDATOSDINAMICOS(\" BAS020\",TABLAS!$A$75)"]
[2,"Consejería en Corte y cuidado del cordón umbilical",null,{"$f":"+GETPIVOTDATA(\" BAS021\",TABLAS!$A$75)","v":126},{"$f":"+GETPIVOTDATA(\" BAS022\",TABLAS!$A$75)","v":155},null,null,null,null,null,null,null,null,null,null,null,null,null,{"$f":"+T58+1","v":21},{"$f":"+S59+1","v":22},null,null,null,null,null,null,"021","022",null,null,null,null,null,null,null,null,"=+IMPORTARDATOSDINAMICOS(\" BAS021\",TABLAS!$A$75)","=+IMPORTARDATOSDINAMICOS(\" BAS022\",TABLAS!$A$75)"]
[3,"Consejería en Higiene del recién nacido y cuidado en el hogar",null,{"$f":"+GETPIVOTDATA(\" BAS023\",TABLAS!$A$75)","v":4},{"$f":"+GETPIVOTDATA(\" BAS024\",TABLAS!$A$75)","v":9},null,null,null,null,null,null,null,null,null,null,null,null,null,{"$f":"+T59+1","v":23},24,null,null,null,null,null,null,"023","024",null,null,null,null,null,null,null,null,"=+IMPORTARDATOSDINAMICOS(\" BAS023\",TABLAS!$A$75)","=+IMPORTARDATOSDINAMICOS(\" BAS024\",TABLAS!$A$75)"]
[4,"Consejería en Identificación de signos de alarma",null,{"$f":"+GETPIVOTDATA(\" BAS025\",TABLAS!$A$75)","v":20},{"$f":"+GETPIVOTDATA(\" BAS026\",TABLAS!$A$75)","v":24},null,null,null,null,null,null,null,null,null,null,null,null,null,25,26,null,null,null,null,null,null,"025","026",null,null,null,null,null,null,null,null,"=+IMPORTARDATOSDINAMICOS(\" BAS025\",TABLAS!$A$75)","=+IMPORTARDATOSDINAMICOS(\" BAS026\",TABLAS!$A$75)"]
[]
[null,"Visita domiciliaria a Niñas (os) de 2 a 5 meses de edad:"]
[]
[null,null,1,2,3,4]
[null,"TIPOS DE ACTIVIDAD DE VD/ EDADES","2 meses","3 meses","4 meses","5 meses"]
[1,"Consejeria integral",{"$f":"+GETPIVOTDATA(\" BAS027\",TABLAS!$A$75)","v":65},{"$f":"+GETPIVOTDATA(\" BAS028\",TABLAS!$A$75)","v":60},{"$f":"+GETPIVOTDATA(\" BAS029\",TABLAS!$A$75)","v":211},{"$f":"+GETPIVOTDATA(\" BAS030\",TABLAS!$A$75)","v":137},null,null,null,null,null,null,null,null,null,null,null,null,{"$f":"+T61+1","v":27},{"$f":"+S67+1","v":28},29,30,null,null,null,null,{"$f":"IF(LEN(S67)=1,CONCATENATE(\"00\",S67),IF(LEN(S67)=2,CONCATENATE(\"0\",S67),S67))","v":"027"},"028","029","030",null,null,null,null,null,null,{"$f":"+$AK$20&AA67&$AL$19","v":"=+IMPORTARDATOSDINAMICOS(\" BAS027\",TABLAS!$A$75)"},"=+IMPORTARDATOSDINAMICOS(\" BAS028\",TABLAS!$A$75)","=+IMPORTARDATOSDINAMICOS(\" BAS029\",TABLAS!$A$75)","=+IMPORTARDATOSDINAMICOS(\" BAS030\",TABLAS!$A$75)"]
[]
[null,"Visita domiciliaria a Niñas (os) de 6 a 8 meses de edad sin Dx. Anemia:"]
[]
[null,null,1,2,3]
[null,"TIPOS DE ACTIVIDAD DE VD/ EDADES","6 meses","7 meses","8 meses"]
[1,"Consejeria integral",{"$f":"+GETPIVOTDATA(\" BAS031\",TABLAS!$A$75)","v":135},{"$f":"+GETPIVOTDATA(\" BAS032\",TABLAS!$A$75)","v":97},{"$f":"+GETPIVOTDATA(\" BAS033\",TABLAS!$A$75)","v":107},null,null,null,null,null,null,null,null,null,null,null,null,null,{"$f":"+V67+1","v":31},{"$f":"+S73+1","v":32},33,null,null,null,null,null,{"$f":"IF(LEN(S73)=1,CONCATENATE(\"00\",S73),IF(LEN(S73)=2,CONCATENATE(\"0\",S73),S73))","v":"031"},"032","033",0,null,null,null,null,null,null,{"$f":"+$AK$20&AA73&$AL$19","v":"=+IMPORTARDATOSDINAMICOS(\" BAS031\",TABLAS!$A$75)"},"=+IMPORTARDATOSDINAMICOS(\" BAS032\",TABLAS!$A$75)","=+IMPORTARDATOSDINAMICOS(\" BAS033\",TABLAS!$A$75)","=+IMPORTARDATOSDINAMICOS(\" BAS0\",TABLAS!$A$75)"]
[]
[]
[null,"Visita domiciliaria a Niñas (os) de 9 a 11 meses de edad sin Dx. Anemia:"]
[]
[null,null,1,2,3]
[null,"TIPOS DE ACTIVIDAD DE VD/ EDADES","9 meses","10 meses","11 meses"]
[1,"Consejeria integral",{"$f":"+GETPIVOTDATA(\" BAS034\",TABLAS!$A$75)","v":105},{"$f":"+GETPIVOTDATA(\" BAS035\",TABLAS!$A$75)","v":85},{"$f":"+GETPIVOTDATA(\" BAS036\",TABLAS!$A$75)","v":69},null,null,null,null,null,null,null,null,null,null,null,null,null,{"$f":"+U73+1","v":34},{"$f":"+S80+1","v":35},36,null,null,null,null,null,{"$f":"IF(LEN(S80)=1,CONCATENATE(\"00\",S80),IF(LEN(S80)=2,CONCATENATE(\"0\",S80),S80))","v":"034"},"035","036",null,null,null,null,null,null,null,{"$f":"+$AK$20&AA80&$AL$19","v":"=+IMPORTARDATOSDINAMICOS(\" BAS034\",TABLAS!$A$75)"},"=+IMPORTARDATOSDINAMICOS(\" BAS035\",TABLAS!$A$75)","=+IMPORTARDATOSDINAMICOS(\" BAS036\",TABLAS!$A$75)"]
[]
[null,"Visita domiciliaria a Niñas (os) de 6 a 8 meses de edad con Dx. Anemia:"]
[]
[null,null,1,2,3]
[null,"TIPOS DE ACTIVIDAD DE VD/ EDADES","6 meses","7 meses","8 meses"]
[1,"Consejeria integral",{"$f":"+GETPIVOTDATA(\" BAS037\",TABLAS!$A$75)","v":16},{"$f":"+GETPIVOTDATA(\" BAS038\",TABLAS!$A$75)","v":5},{"$f":"+GETPIVOTDATA(\" BAS039\",TABLAS!$A$75)","v":5},null,null,null,null,null,null,null,null,null,null,null,null,null,{"$f":"+U80+1","v":37},{"$f":"+S86+1","v":38},39,null,null,null,null,null,{"$f":"IF(LEN(S86)=1,CONCATENATE(\"00\",S86),IF(LEN(S86)=2,CONCATENATE(\"0\",S86),S86))","v":"037"},"038","039",null,null,null,null,null,null,null,{"$f":"+$AK$20&AA86&$AL$19","v":"=+IMPORTARDATOSDINAMICOS(\" BAS037\",TABLAS!$A$75)"},"=+IMPORTARDATOSDINAMICOS(\" BAS038\",TABLAS!$A$75)","=+IMPORTARDATOSDINAMICOS(\" BAS039\",TABLAS!$A$75)"]
[]
[null,"Visita domiciliaria a Niñas (os) de 9 a 11 meses de edad con Dx. Anemia:"]
[]
[null,null,1,2,3]
[null,"TIPOS DE ACTIVIDAD DE VD/ EDADES","9 meses","10 meses","11 meses"]
[1,"Consejeria integral",{"$f":"+GETPIVOTDATA(\" BAS040\",TABLAS!$A$75)","v":8},{"$f":"+GETPIVOTDATA(\" BAS041\",TABLAS!$A$75)","v":8},{"$f":"+GETPIVOTDATA(\" BAS042\",TABLAS!$A$75)","v":8},null,null,null,null,null,null,null,null,null,null,null,null,null,{"$f":"+U86+1","v":40},{"$f":"+S92+1","v":41},42,null,null,null,null,null,{"$f":"IF(LEN(S92)=1,CONCATENATE(\"00\",S92),IF(LEN(S92)=2,CONCATENATE(\"0\",S92),S92))","v":"040"},"041","042",null,null,null,null,null,null,null,{"$f":"+$AK$20&AA92&$AL$19","v":"=+IMPORTARDATOSDINAMICOS(\" BAS040\",TABLAS!$A$75)"},"=+IMPORTARDATOSDINAMICOS(\" BAS041\",TABLAS!$A$75)","=+IMPORTARDATOSDINAMICOS(\" BAS042\",TABLAS!$A$75)"]
[]
[]
[null,"SUB PRODUCTO 3325112 - FAMILIAS CON NIÑOS (AS) MENORES DE 12 MESES Y GESTANTES QUE RECIBEN ACOMPAÑAMIENTO A TRAVES DE LAS SESIONES DE GRUPOS DE APOYO COMUNAL"]
[null,"Reunión de coordinación entre el personal de salud encargado y actores claves de la comunidad para promover la implementación/reactivación (continuidad) de los grupos de apoyo."]
[]
[null,null,1,2]
[null,"TIPOS DE ACTIVIDAD ","Nº","Participantes",null,null,null,null,null,null,null,null,81251157]
[1,"Reunión de Coordinación -implementación",{"$f":"+GETPIVOTDATA(\" BAS043\",TABLAS!$A$75)","v":5},{"$f":"+GETPIVOTDATA(\" BAS044\",TABLAS!$A$75)","v":33},null,null,null,null,null,null,null,null,null,null,null,null,null,null,{"$f":"+U92+1","v":43},{"$f":"+S100+1","v":44},null,null,null,null,null,null,{"$f":"IF(LEN(S100)=1,CONCATENATE(\"00\",S100),IF(LEN(S100)=2,CONCATENATE(\"0\",S100),S100))","v":"043"},"044",null,null,null,null,null,null,null,null,{"$f":"+$AK$20&AA100&$AL$19","v":"=+IMPORTARDATOSDINAMICOS(\" BAS043\",TABLAS!$A$75)"},"=+IMPORTARDATOSDINAMICOS(\" BAS044\",TABLAS!$A$75)"]
[2,"Reunión de Coordinación - Reactivación",{"$f":"+GETPIVOTDATA(\" BAS045\",TABLAS!$A$75)","v":14},{"$f":"+GETPIVOTDATA(\" BAS046\",TABLAS!$A$75)","v":52},null,null,null,null,null,null,null,null,null,null,null,null,null,null,{"$f":"+T100+1","v":45},{"$f":"+S101+1","v":46},null,null,null,null,null,null,"045","046",null,null,null,null,null,null,null,null,"=+IMPORTARDATOSDINAMICOS(\" BAS045\",TABLAS!$A$75)","=+IMPORTARDATOSDINAMICOS(\" BAS046\",TABLAS!$A$75)"]
[]
[null,"Taller de capacitación en prácticas saludables para el cuidado infantil con énfasis en lactancia materna, alimentación y nutrición infantil."]
[]
[null,null,1,2,null,null,null,3,4]
[null,"TIPOS DE ACTIVIDAD ","LME",null,"TIPOS DE ACTIVIDAD ",null,null,"ALI"]
[null,null,"N°  DE ASISTENCIA TÉCNICA","N° PARTICIPANTES",null,null,null,"N°  DE ASISTENCIA TÉCNICA","N° PARTICIPANTES"]
[1,"Sesión 1: Habilidades comunicacionales y conducción de grupos de apoyo",{"$f":"+GETPIVOTDATA(\" BAS047\",TABLAS!$A$75)","v":2},{"$f":"+GETPIVOTDATA(\" BAS048\",TABLAS!$A$75)","v":21},"Sesión 5: Alimentación complementaria",null,null,{"$f":"+GETPIVOTDATA(\" BAS055\",TABLAS!$A$75)","v":0},{"$f":"+GETPIVOTDATA(\" BAS056\",TABLAS!$A$75)","v":0},null,null,null,null,null,null,null,null,null,{"$f":"+T101+1","v":47},{"$f":"+S108+1","v":48},null,{"$f":"+T111+1","v":55},{"$f":"+V108+1","v":56},null,null,null,{"$f":"IF(LEN(S108)=1,CONCATENATE(\"00\",S108),IF(LEN(S108)=2,CONCATENATE(\"0\",S108),S108))","v":"047"},"048",null,{"$f":"IF(LEN(V108)=1,CONCATENATE(\"00\",V108),IF(LEN(V108)=2,CONCATENATE(\"0\",V108),V108))","v":"055"},"056",null,null,null,null,null,{"$f":"+$AK$20&AA108&$AL$19","v":"=+IMPORTARDATOSDINAMICOS(\" BAS047\",TABLAS!$A$75)"},"=+IMPORTARDATOSDINAMICOS(\" BAS048\",TABLAS!$A$75)",null,{"$f":"+$AK$20&AD108&$AL$19","v":"=+IMPORTARDATOSDINAMICOS(\" BAS055\",TABLAS!$A$75)"},"=+IMPORTARDATOSDINAMICOS(\" BAS056\",TABLAS!$A$75)"]
[2,"Sesión 2: Lactancia materna y embarazo",{"$f":"+GETPIVOTDATA(\" BAS049\",TABLAS!$A$75)","v":1},{"$f":"+GETPIVOTDATA(\" BAS050\",TABLAS!$A$75)","v":20},"Sesión 6: Anemia y suplementación con hierro",null,null,{"$f":"+GETPIVOTDATA(\" BAS057\",TABLAS!$A$75)","v":0},{"$f":"+GETPIVOTDATA(\" BAS058\",TABLAS!$A$75)","v":0},null,null,null,null,null,null,null,null,null,{"$f":"+T108+1","v":49},{"$f":"+S109+1","v":50},null,{"$f":"+W108+1","v":57},{"$f":"+V109+1","v":58},null,null,null,"049","050",null,"057","058",null,null,null,null,null,"=+IMPORTARDATOSDINAMICOS(\" BAS049\",TABLAS!$A$75)","=+IMPORTARDATOSDINAMICOS(\" BAS050\",TABLAS!$A$75)",null,"=+IMPORTARDATOSDINAMICOS(\" BAS057\",TABLAS!$A$75)","=+IMPORTARDATOSDINAMICOS(\" BAS058\",TABLAS!$A$75)"]
[3,"Sesión 3: Lactancia materna y el niño o niña menor de seis mes",{"$f":"+GETPIVOTDATA(\" BAS051\",TABLAS!$A$75)","v":1},{"$f":"+GETPIVOTDATA(\" BAS052\",TABLAS!$A$75)","v":20},"Sesión 7: Desnutrición crónica, cuidado infantil, entre otros temas de prioridad",null,null,{"$f":"+GETPIVOTDATA(\" BAS059\",TABLAS!$A$75)","v":0},{"$f":"+GETPIVOTDATA(\" BAS060\",TABLAS!$A$75)","v":0},null,null,null,null,null,null,null,null,null,{"$f":"+T109+1","v":51},{"$f":"+S110+1","v":52},null,{"$f":"+W109+1","v":59},{"$f":"+V110+1","v":60},null,null,null,"051","052",null,"059","060",null,null,null,null,null,"=+IMPORTARDATOSDINAMICOS(\" BAS051\",TABLAS!$A$75)","=+IMPORTARDATOSDINAMICOS(\" BAS052\",TABLAS!$A$75)",null,"=+IMPORTARDATOSDINAMICOS(\" BAS059\",TABLAS!$A$75)","=+IMPORTARDATOSDINAMICOS(\" BAS060\",TABLAS!$A$75)"]
[4,"Sesión 4: Lactancia materna y el niño o niña de seis (6) a veinticuatro (24) meses.",{"$f":"+GETPIVOTDATA(\" BAS053\",TABLAS!$A$75)","v":1},{"$f":"+GETPIVOTDATA(\" BAS054\",TABLAS!$A$75)","v":20},null,null,null,null,null,null,null,null,null,null,null,null,null,null,53,54,null,null,null,null,null,null,"053","054",null,null,null,null,null,null,null,null,"=+IMPORTARDATOSDINAMICOS(\" BAS053\",TABLAS!$A$75)","=+IMPORTARDATOSDINAMICOS(\" BAS054\",TABLAS!$A$75)"]
[]
[null,"Asistencia técnica"]
[null,null,1,2,3,4]
[null,"TIPOS DE ACTIVIDAD ","LME",null,"ALI"]
[null,null,"N°  DE ASISTENCIA TÉCNICA","N° PARTICIPANTES","N°  DE ASISTENCIA TÉCNICA","N° PARTICIPANTES"]
[1,"Asistencia técnica",{"$f":"+GETPIVOTDATA(\" BAS061\",TABLAS!$A$75)","v":0},{"$f":"+GETPIVOTDATA(\" BAS062\",TABLAS!$A$75)","v":0},{"$f":"+GETPIVOTDATA(\" BAS063\",TABLAS!$A$75)","v":0},{"$f":"+GETPIVOTDATA(\" BAS064\",TABLAS!$A$75)","v":0},null,null,null,null,null,null,null,null,null,null,null,null,{"$f":"+W110+1","v":61},{"$f":"+S117+1","v":62},{"$f":"+T117+1","v":63},{"$f":"+U117+1","v":64},null,null,null,null,{"$f":"IF(LEN(S117)=1,CONCATENATE(\"00\",S117),IF(LEN(S117)=2,CONCATENATE(\"0\",S117),S117))","v":"061"},"062","063","064",null,null,null,null,null,null,{"$f":"+$AK$20&AA117&$AL$19","v":"=+IMPORTARDATOSDINAMICOS(\" BAS061\",TABLAS!$A$75)"},"=+IMPORTARDATOSDINAMICOS(\" BAS062\",TABLAS!$A$75)","=+IMPORTARDATOSDINAMICOS(\" BAS063\",TABLAS!$A$75)","=+IMPORTARDATOSDINAMICOS(\" BAS064\",TABLAS!$A$75)"]
[]
[null,"Funcionamiento de los Grupos de apoyo"]
[]
[null,null,1,2,3,4]
[null,"TIPOS DE ACTIVIDAD ","LME",null,"ALI"]
[null,null,"N° DE SESIÓN","N° DE PARTICIPANTES","N° DE SESIÓN","N°  PARTICIPANTES"]
[1,"1ra sesion",{"$f":"+GETPIVOTDATA(\" BAS065\",TABLAS!$A$75)","v":0},{"$f":"+GETPIVOTDATA(\" BAS066\",TABLAS!$A$75)","v":0},{"$f":"+GETPIVOTDATA(\" BAS073\",TABLAS!$A$75)","v":0},{"$f":"+GETPIVOTDATA(\" BAS074\",TABLAS!$A$75)","v":0},null,null,null,null,null,null,null,null,null,null,null,null,{"$f":"+V117+1","v":65},{"$f":"+S124+1","v":66},null,{"$f":"+T127+1","v":73},{"$f":"+V124+1","v":74},null,null,null,{"$f":"IF(LEN(S124)=1,CONCATENATE(\"00\",S124),IF(LEN(S124)=2,CONCATENATE(\"0\",S124),S124))","v":"065"},"066",null,{"$f":"IF(LEN(V124)=1,CONCATENATE(\"00\",V124),IF(LEN(V124)=2,CONCATENATE(\"0\",V124),V124))","v":"073"},"074",null,null,null,null,null,{"$f":"+$AK$20&AA124&$AL$19","v":"=+IMPORTARDATOSDINAMICOS(\" BAS065\",TABLAS!$A$75)"},"=+IMPORTARDATOSDINAMICOS(\" BAS066\",TABLAS!$A$75)",null,{"$f":"+$AK$20&AD124&$AL$19","v":"=+IMPORTARDATOSDINAMICOS(\" BAS073\",TABLAS!$A$75)"},"=+IMPORTARDATOSDINAMICOS(\" BAS074\",TABLAS!$A$75)"]
[2,"2da sesion",{"$f":"+GETPIVOTDATA(\" BAS067\",TABLAS!$A$75)","v":0},{"$f":"+GETPIVOTDATA(\" BAS068\",TABLAS!$A$75)","v":0},{"$f":"+GETPIVOTDATA(\" BAS075\",TABLAS!$A$75)","v":0},{"$f":"+GETPIVOTDATA(\" BAS076\",TABLAS!$A$75)","v":0},null,null,null,null,null,null,null,null,null,null,null,null,{"$f":"+T124+1","v":67},{"$f":"+S125+1","v":68},null,{"$f":"+W124+1","v":75},{"$f":"+V125+1","v":76},null,null,null,"067","068",null,"075","076",null,null,null,null,null,"=+IMPORTARDATOSDINAMICOS(\" BAS067\",TABLAS!$A$75)","=+IMPORTARDATOSDINAMICOS(\" BAS068\",TABLAS!$A$75)",null,"=+IMPORTARDATOSDINAMICOS(\" BAS075\",TABLAS!$A$75)","=+IMPORTARDATOSDINAMICOS(\" BAS076\",TABLAS!$A$75)"]
[3,"3ra sesion",{"$f":"+GETPIVOTDATA(\" BAS069\",TABLAS!$A$75)","v":0},{"$f":"+GETPIVOTDATA(\" BAS070\",TABLAS!$A$75)","v":0},{"$f":"+GETPIVOTDATA(\" BAS077\",TABLAS!$A$75)","v":0},{"$f":"+GETPIVOTDATA(\" BAS078\",TABLAS!$A$75)","v":0},null,null,null,null,null,null,null,null,null,null,null,null,{"$f":"+T125+1","v":69},{"$f":"+S126+1","v":70},null,{"$f":"+W125+1","v":77},{"$f":"+V126+1","v":78},null,null,null,"069","070",null,"077","078",null,null,null,null,null,"=+IMPORTARDATOSDINAMICOS(\" BAS069\",TABLAS!$A$75)","=+IMPORTARDATOSDINAMICOS(\" BAS070\",TABLAS!$A$75)",null,"=+IMPORTARDATOSDINAMICOS(\" BAS077\",TABLAS!$A$75)","=+IMPORTARDATOSDINAMICOS(\" BAS078\",TABLAS!$A$75)"]
[4,"4ta sesion",{"$f":"+GETPIVOTDATA(\" BAS071\",TABLAS!$A$75)","v":0},{"$f":"+GETPIVOTDATA(\" BAS072\",TABLAS!$A$75)","v":0},null,null,null,null,null,null,null,null,null,null,null,null,null,null,71,72,null,null,null,null,null,null,"071","072",null,null,null,null,null,null,null,null,"=+IMPORTARDATOSDINAMICOS(\" BAS071\",TABLAS!$A$75)","=+IMPORTARDATOSDINAMICOS(\" BAS072\",TABLAS!$A$75)"]
[]
[null,"Monitoreo"]
[null,null,1,2]
[null,"TIPOS DE ACTIVIDAD ","N° DE SESIÓN","N° DE PARTICIPANTES"]
[1,"1er Monitoreo",{"$f":"+GETPIVOTDATA(\" BAS079\",TABLAS!$A$75)","v":0},{"$f":"+GETPIVOTDATA(\" BAS080\",TABLAS!$A$75)","v":0},null,null,null,null,null,null,null,null,null,null,null,null,null,null,{"$f":"+W126+1","v":79},{"$f":"+S132+1","v":80},null,null,null,null,null,null,{"$f":"IF(LEN(S132)=1,CONCATENATE(\"00\",S132),IF(LEN(S132)=2,CONCATENATE(\"0\",S132),S132))","v":"079"},"080",null,null,null,null,null,null,null,null,{"$f":"+$AK$20&AA132&$AL$19","v":"=+IMPORTARDATOSDINAMICOS(\" BAS079\",TABLAS!$A$75)"},"=+IMPORTARDATOSDINAMICOS(\" BAS080\",TABLAS!$A$75)"]
[2,"2do Monitoreo",{"$f":"+GETPIVOTDATA(\" BAS081\",TABLAS!$A$75)","v":0},{"$f":"+GETPIVOTDATA(\" BAS082\",TABLAS!$A$75)","v":0},null,null,null,null,null,null,null,null,null,null,null,null,null,null,{"$f":"+T132+1","v":81},{"$f":"+S133+1","v":82},null,null,null,null,null,null,"081","082",null,null,null,null,null,null,null,null,"=+IMPORTARDATOSDINAMICOS(\" BAS081\",TABLAS!$A$75)","=+IMPORTARDATOSDINAMICOS(\" BAS082\",TABLAS!$A$75)"]
[]
[null,"ACTIVIDAD: CAPACITACION A ACTORES SOCIALES QUE PROMUEVEN EL CUIDADO INFANTIL, LACTANCIA MATERNA EXCLUSIVA Y LA ADECUADA ALIMENTACION Y PROTECCION DEL MENOR DE 36 MESES"]
[null,"SUB PRODUCTO: COMITES MULTISECTORIALES CAPACITADOS PARA LA PROMOCIÓN DEL CUIDADO INFANTIL, LACTANCIA MATERNA EXCLUSIVA Y LA ADECUADA ALIMENTACIÓN Y PROTECCIÓN DEL MENOR DE 36 MESES EN SU DISTRITO."]
[]
[null,"Reunión de coordinación con la Municipalidad"]
[null,null,null,null,1,2]
[null,"Reuniones",null,null,"Reuniones","Participantes",null,null,null,null,null,null,null,null,null,null,null,null,{"$f":"+T133+1","v":83},{"$f":"+S140+1","v":84},null,null,null,null,null,null,{"$f":"IF(LEN(S140)=1,CONCATENATE(\"00\",S140),IF(LEN(S140)=2,CONCATENATE(\"0\",S140),S140))","v":"083"},"084",null,null,null,null,null,null,null,null,{"$f":"+$AK$20&AA140&$AL$19","v":"=+IMPORTARDATOSDINAMICOS(\" BAS083\",TABLAS!$A$75)"},"=+IMPORTARDATOSDINAMICOS(\" BAS084\",TABLAS!$A$75)"]
[1,"Reunión de coordinación con la Municipalidad",null,null,{"$f":"+GETPIVOTDATA(\" BAS083\",TABLAS!$A$75)","v":3},{"$f":"+GETPIVOTDATA(\" BAS084\",TABLAS!$A$75)","v":24},null,null,null,null,null,null,null,null,null,null,null,null,{"$f":"+T140+1","v":85},{"$f":"+S141+1","v":86},null,null,null,null,null,null,"085","086",null,null,null,null,null,null,null,null,"=+IMPORTARDATOSDINAMICOS(\" BAS085\",TABLAS!$A$75)","=+IMPORTARDATOSDINAMICOS(\" BAS086\",TABLAS!$A$75)"]
[2,"Reunión tecnica con la Municipalidad para conformación del Comité Multisectorial",null,null,{"$f":"+GETPIVOTDATA(\" BAS085\",TABLAS!$A$75)","v":7},{"$f":"+GETPIVOTDATA(\" BAS086\",TABLAS!$A$75)","v":68},null,null,null,null,null,null,null,null,null,null,null,null,{"$f":"+T141+1","v":87},{"$f":"+S142+1","v":88},null,null,null,null,null,null,"087","088",null,null,null,null,null,null,null,null,"=+IMPORTARDATOSDINAMICOS(\" BAS087\",TABLAS!$A$75)","=+IMPORTARDATOSDINAMICOS(\" BAS088\",TABLAS!$A$75)"]
[3,"Reunión de socialización de la informacion para el analisis de anemia y DCI.",null,null,{"$f":"+GETPIVOTDATA(\" BAS087\",TABLAS!$A$75)","v":5},{"$f":"+GETPIVOTDATA(\" BAS088\",TABLAS!$A$75)","v":53},null,null,null,null,null,null,null,null,null,null,null,null,89,90,null,null,null,null,null,null,"089","090",null,null,null,null,null,null,null,null,"=+IMPORTARDATOSDINAMICOS(\" BAS089\",TABLAS!$A$75)","=+IMPORTARDATOSDINAMICOS(\" BAS090\",TABLAS!$A$75)"]
[4,"Taller de planificación para la elaboración del plan de trabajo multisectorial para\ncontribuir en la reducción de la Anemia y DCI en el distrito.",null,null,{"$f":"+GETPIVOTDATA(\" BAS089\",TABLAS!$A$75)","v":0},{"$f":"+GETPIVOTDATA(\" BAS090\",TABLAS!$A$75)","v":0}]
[]
[null,"Reunión técnica con la Municipalidad para la conformación o reactivación del Comité Multisectorial"]
[]
[null,null,1,2]
[null,"Actividad","Reuniones","Participantes"]
[1,"Reunión técnica ",{"$f":"+GETPIVOTDATA(\" BAS091\",TABLAS!$A$75)","v":7},{"$f":"+GETPIVOTDATA(\" BAS092\",TABLAS!$A$75)","v":68},null,null,null,null,null,null,null,null,null,null,null,null,null,null,{"$f":"+T143+1","v":91},{"$f":"+S150+1","v":92},null,null,null,null,null,null,{"$f":"IF(LEN(S150)=1,CONCATENATE(\"00\",S150),IF(LEN(S150)=2,CONCATENATE(\"0\",S150),S150))","v":"091"},"092",null,null,null,null,null,null,null,null,{"$f":"+$AK$20&AA150&$AL$19","v":"=+IMPORTARDATOSDINAMICOS(\" BAS091\",TABLAS!$A$75)"},"=+IMPORTARDATOSDINAMICOS(\" BAS092\",TABLAS!$A$75)"]
[]
[null,"Reunión de socialización de la información para el análisis de la situación de Anemia y DCI en el distrito."]
[]
[null,null,1,2]
[null,"Actividad","Reuniones","Participantes"]
[1,"Reunión de socialización",{"$f":"+GETPIVOTDATA(\" BAS093\",TABLAS!$A$75)","v":5},{"$f":"+GETPIVOTDATA(\" BAS094\",TABLAS!$A$75)","v":53},null,null,null,null,null,null,null,null,null,null,null,null,null,null,{"$f":"+T150+1","v":93},{"$f":"+S156+1","v":94},null,null,null,null,null,null,{"$f":"IF(LEN(S156)=1,CONCATENATE(\"00\",S156),IF(LEN(S156)=2,CONCATENATE(\"0\",S156),S156))","v":"093"},"094",null,null,null,null,null,null,null,null,{"$f":"+$AK$20&AA156&$AL$19","v":"=+IMPORTARDATOSDINAMICOS(\" BAS093\",TABLAS!$A$75)"},"=+IMPORTARDATOSDINAMICOS(\" BAS094\",TABLAS!$A$75)"]
[]
[null,"Taller de planificación para la elaboración del plan de trabajo multisectorial para contribuir en la reducción de la Anemia y DCI en el distrito."]
[]
[null,null,1,2]
[null,"Actividad","Reuniones","Participantes"]
[1,"Taller de planificación",{"$f":"+GETPIVOTDATA(\" BAS095\",TABLAS!$A$75)","v":0},{"$f":"+GETPIVOTDATA(\" BAS096\",TABLAS!$A$75)","v":0},null,null,null,null,null,null,null,null,null,null,null,null,null,null,{"$f":"+T156+1","v":95},{"$f":"+S162+1","v":96},null,null,null,null,null,null,{"$f":"IF(LEN(S162)=1,CONCATENATE(\"00\",S162),IF(LEN(S162)=2,CONCATENATE(\"0\",S162),S162))","v":"095"},"096",null,null,null,null,null,null,null,null,{"$f":"+$AK$20&AA162&$AL$19","v":"=+IMPORTARDATOSDINAMICOS(\" BAS095\",TABLAS!$A$75)"},"=+IMPORTARDATOSDINAMICOS(\" BAS096\",TABLAS!$A$75)"]
[]
[null,"Asistencia técnica para la implementación de la sala situacional municipal, políticas públicas o planes de intervención"]
[]
[null,null,null,null,1,2]
[null,"Asistencia Técnica",null,null,"Asistencia tecnica","Participantes"]
[1,"Tema 1: Implementación de la sala situacional municipal.",null,null,{"$f":"+GETPIVOTDATA(\" BAS097\",TABLAS!$A$75)","v":0},{"$f":"+GETPIVOTDATA(\" BAS098\",TABLAS!$A$75)","v":0},null,null,null,null,null,null,null,null,null,null,null,null,{"$f":"+T162+1","v":97},{"$f":"+S168+1","v":98},null,null,null,null,null,null,{"$f":"IF(LEN(S168)=1,CONCATENATE(\"00\",S168),IF(LEN(S168)=2,CONCATENATE(\"0\",S168),S168))","v":"097"},"098",null,null,null,null,null,null,null,null,{"$f":"+$AK$20&AA168&$AL$19","v":"=+IMPORTARDATOSDINAMICOS(\" BAS097\",TABLAS!$A$75)"},"=+IMPORTARDATOSDINAMICOS(\" BAS098\",TABLAS!$A$75)"]
[2,"Tema 2: Implementación de políticas públicas o planes",null,null,{"$f":"+GETPIVOTDATA(\" BAS099\",TABLAS!$A$75)","v":0},{"$f":"+GETPIVOTDATA(\" BAS100\",TABLAS!$A$75)","v":0},null,null,null,null,null,null,null,null,null,null,null,null,{"$f":"+T168+1","v":99},{"$f":"+S169+1","v":100},null,null,null,null,null,null,"099",100,null,null,null,null,null,null,null,null,"=+IMPORTARDATOSDINAMICOS(\" BAS099\",TABLAS!$A$75)","=+IMPORTARDATOSDINAMICOS(\" BAS100\",TABLAS!$A$75)"]
[3,"Tema 3: Implementación de visitas domiciliarias por actor social",null,null,{"$f":"+GETPIVOTDATA(\" BAS101\",TABLAS!$A$75)","v":0},{"$f":"+GETPIVOTDATA(\" BAS102\",TABLAS!$A$75)","v":0},null,null,null,null,null,null,null,null,null,null,null,null,{"$f":"+T169+1","v":101},{"$f":"+S170+1","v":102},null,null,null,null,null,null,101,102,null,null,null,null,null,null,null,null,"=+IMPORTARDATOSDINAMICOS(\" BAS101\",TABLAS!$A$75)","=+IMPORTARDATOSDINAMICOS(\" BAS102\",TABLAS!$A$75)"]
[4,"Tema 4: Programación multianual y formulación anual del\npresupuesto",null,null,{"$f":"+GETPIVOTDATA(\" BAS103\",TABLAS!$A$75)","v":0},{"$f":"+GETPIVOTDATA(\" BAS104\",TABLAS!$A$75)","v":0},null,null,null,null,null,null,null,null,null,null,null,null,103,104,null,null,null,null,null,null,103,104,null,null,null,null,null,null,null,null,"=+IMPORTARDATOSDINAMICOS(\" BAS103\",TABLAS!$A$75)","=+IMPORTARDATOSDINAMICOS(\" BAS104\",TABLAS!$A$75)"]
[5,"Tema 5: Actualización y homologación del padrón nominal del menor de 6 años",null,null,{"$f":"+GETPIVOTDATA(\" BAS105\",TABLAS!$A$75)","v":0},{"$f":"+GETPIVOTDATA(\" BAS106\",TABLAS!$A$75)","v":0},null,null,null,null,null,null,null,null,null,null,null,null,105,106,null,null,null,null,null,null,105,106,null,null,null,null,null,null,null,null,"=+IMPORTARDATOSDINAMICOS(\" BAS105\",TABLAS!$A$75)","=+IMPORTARDATOSDINAMICOS(\" BAS106\",TABLAS!$A$75)"]
[6,"Tema 6: Implementación y funcionamiento de los CPVC",null,null,{"$f":"+GETPIVOTDATA(\" BAS107\",TABLAS!$A$75)","v":0},{"$f":"+GETPIVOTDATA(\" BAS108\",TABLAS!$A$75)","v":0},null,null,null,null,null,null,null,null,null,null,null,null,107,108,null,null,null,null,null,null,107,108,null,null,null,null,null,null,null,null,"=+IMPORTARDATOSDINAMICOS(\" BAS107\",TABLAS!$A$75)","=+IMPORTARDATOSDINAMICOS(\" BAS108\",TABLAS!$A$75)"]
[7,"Tema 7: Implementación y funcionamiento de los EPSJ",null,null,{"$f":"+GETPIVOTDATA(\" BAS109\",TABLAS!$A$75)","v":0},{"$f":"+GETPIVOTDATA(\" BAS110\",TABLAS!$A$75)","v":0},null,null,null,null,null,null,null,null,null,null,null,null,109,110,null,null,null,null,null,null,109,110,null,null,null,null,null,null,null,null,"=+IMPORTARDATOSDINAMICOS(\" BAS109\",TABLAS!$A$75)","=+IMPORTARDATOSDINAMICOS(\" BAS110\",TABLAS!$A$75)"]
[]
[null,"Reunión de Monitoreo"]
[null,null,1]
[null,"TIPOS DE ACTIVIDAD ","N° "]
[1,"1er Monitoreo",{"$f":"+GETPIVOTDATA(\" BAS111\",TABLAS!$A$75)","v":0},null,null,null,null,null,null,null,null,null,null,null,null,null,null,null,{"$f":"+T174+1","v":111},null,null,null,null,null,null,null,{"$f":"IF(LEN(S179)=1,CONCATENATE(\"00\",S179),IF(LEN(S179)=2,CONCATENATE(\"0\",S179),S179))","v":111},0,null,null,null,null,null,null,null,null,{"$f":"+$AK$20&AA179&$AL$19","v":"=+IMPORTARDATOSDINAMICOS(\" BAS111\",TABLAS!$A$75)"},"=+IMPORTARDATOSDINAMICOS(\" BAS0\",TABLAS!$A$75)"]
[2,"2do Monitoreo",{"$f":"+GETPIVOTDATA(\" BAS112\",TABLAS!$A$75)","v":0},null,null,null,null,null,null,null,null,null,null,null,null,null,null,null,{"$f":"+S179+1","v":112},null,null,null,null,null,null,null,112,0,null,null,null,null,null,null,null,null,"=+IMPORTARDATOSDINAMICOS(\" BAS112\",TABLAS!$A$75)","=+IMPORTARDATOSDINAMICOS(\" BAS0\",TABLAS!$A$75)"]
[]
[null,"Reunión de Evaluación "]
[null,null,1,2]
[null,"TIPOS DE ACTIVIDAD ","N° de participantes","N° "]
[1,"Evaluación",{"$f":"+GETPIVOTDATA(\" BAS113\",TABLAS!$A$75)","v":0},{"$f":"+GETPIVOTDATA(\" BAS114\",TABLAS!$A$75)","v":0},null,null,null,null,null,null,null,null,null,null,null,null,null,null,{"$f":"+S180+1","v":113},{"$f":"+S185+1","v":114},null,null,null,null,null,null,{"$f":"IF(LEN(S185)=1,CONCATENATE(\"00\",S185),IF(LEN(S185)=2,CONCATENATE(\"0\",S185),S185))","v":113},114,null,null,null,null,null,null,null,null,{"$f":"+$AK$20&AA185&$AL$19","v":"=+IMPORTARDATOSDINAMICOS(\" BAS113\",TABLAS!$A$75)"},"=+IMPORTARDATOSDINAMICOS(\" BAS114\",TABLAS!$A$75)"]
[]
[]
[null,"SUB PRODUCTO: ACTORES SOCIALES CAPACITADOS PARA LA PROMOCIÓN DEL CUIDADO INFANTIL, LACTANCIA MATERNA EXCLUSIVA Y LA ADECUADA ALIMENTACIÓN Y PROTECCIÓN DEL MENOR DE 36 MESES DEL DISTRITO. (Subproducto trazador de la Actividad 2)"]
[null,"Reunión de coordinación con la Comunidad para la identificación y selección del actor social de su jurisdicción"]
[]
[null,null,null,1,2]
[null,"TIPOS DE ACTIVIDAD ",null,"Reuniones","Participantes"]
[1,"Cuando se realice la selección de Actores\nSociales del Compromiso 1",null,{"$f":"+GETPIVOTDATA(\" BAS115\",TABLAS!$A$75)","v":8},{"$f":"+GETPIVOTDATA(\" BAS116\",TABLAS!$A$75)","v":105},null,null,null,null,null,null,null,null,null,null,null,null,null,{"$f":"+T185+1","v":115},{"$f":"+S193+1","v":116},null,null,null,null,null,null,{"$f":"IF(LEN(S193)=1,CONCATENATE(\"00\",S193),IF(LEN(S193)=2,CONCATENATE(\"0\",S193),S193))","v":115},116,null,null,null,null,null,null,null,null,{"$f":"+$AK$20&AA193&$AL$19","v":"=+IMPORTARDATOSDINAMICOS(\" BAS115\",TABLAS!$A$75)"},"=+IMPORTARDATOSDINAMICOS(\" BAS116\",TABLAS!$A$75)"]
[2,"Cuando se realice la selección de Agentes\nComunitarios de Salud u otros lideres de la comunidad",null,{"$f":"+GETPIVOTDATA(\" BAS117\",TABLAS!$A$75)","v":54},{"$f":"+GETPIVOTDATA(\" BAS118\",TABLAS!$A$75)","v":342},null,null,null,null,null,null,null,null,null,null,null,null,null,{"$f":"+T193+1","v":117},{"$f":"+S194+1","v":118},null,null,null,null,null,null,117,118,null,null,null,null,null,null,null,null,"=+IMPORTARDATOSDINAMICOS(\" BAS117\",TABLAS!$A$75)","=+IMPORTARDATOSDINAMICOS(\" BAS118\",TABLAS!$A$75)"]
[]
[null,"Taller de capacitación través de sesiones educativas para Agentes Comunitarios de Salud, autoridades y lideres comunales sobre Vigilancia Comunitaria"]
[]
[null,"Sesión educativa y demostrativa "]
[null,null,null,1,2]
[null,"Taller de capacitación",null,"Taller de Capacitación","Participantes"]
[1,"Sesiones educativas en vigilancia Comunitaria",null,{"$f":"+GETPIVOTDATA(\" BAS119\",TABLAS!$A$75)","v":10},{"$f":"+GETPIVOTDATA(\" BAS120\",TABLAS!$A$75)","v":132},null,null,null,null,null,null,null,null,null,null,null,null,null,{"$f":"+T194+1","v":119},{"$f":"+S201+1","v":120},null,null,null,null,null,null,{"$f":"IF(LEN(S201)=1,CONCATENATE(\"00\",S201),IF(LEN(S201)=2,CONCATENATE(\"0\",S201),S201))","v":119},120,null,null,null,null,null,null,null,null,{"$f":"+$AK$20&AA201&$AL$19","v":"=+IMPORTARDATOSDINAMICOS(\" BAS119\",TABLAS!$A$75)"},"=+IMPORTARDATOSDINAMICOS(\" BAS120\",TABLAS!$A$75)"]
[2,"Sesiones demostrativas de preparación de alimentos",null,{"$f":"+GETPIVOTDATA(\" BAS121\",TABLAS!$A$75)","v":5},{"$f":"+GETPIVOTDATA(\" BAS122\",TABLAS!$A$75)","v":52},null,null,null,null,null,null,null,null,null,null,null,null,null,{"$f":"+T201+1","v":121},{"$f":"+S202+1","v":122},null,null,null,null,null,null,121,122,null,null,null,null,null,null,null,null,"=+IMPORTARDATOSDINAMICOS(\" BAS121\",TABLAS!$A$75)","=+IMPORTARDATOSDINAMICOS(\" BAS122\",TABLAS!$A$75)"]
[]
[null,"Taller de capacitación a los actores sociales en protocolo de visitas domiciliarias en la promoción de prácticas saludables para el cuidado materno infantil, prevención y control de la anemia."]
[]
[null,null,null,1,2]
[null,"Temas ",null,"N° de talleres ","N° de AS participantes "]
[1,"Protocolo de la Visita domiciliaria",null,{"$f":"+GETPIVOTDATA(\" BAS123\",TABLAS!$A$75)","v":1},{"$f":"+GETPIVOTDATA(\" BAS124\",TABLAS!$A$75)","v":5},null,null,null,null,null,null,null,null,null,null,null,null,null,{"$f":"+T202+1","v":123},{"$f":"+S208+1","v":124},null,null,null,null,null,null,{"$f":"IF(LEN(S208)=1,CONCATENATE(\"00\",S208),IF(LEN(S208)=2,CONCATENATE(\"0\",S208),S208))","v":123},124,null,null,null,null,null,null,null,null,{"$f":"+$AK$20&AA208&$AL$19","v":"=+IMPORTARDATOSDINAMICOS(\" BAS123\",TABLAS!$A$75)"},"=+IMPORTARDATOSDINAMICOS(\" BAS124\",TABLAS!$A$75)"]
[2,"Anemia prevención y tratamiento",null,{"$f":"+GETPIVOTDATA(\" BAS125\",TABLAS!$A$75)","v":7},{"$f":"+GETPIVOTDATA(\" BAS126\",TABLAS!$A$75)","v":59},null,null,null,null,null,null,null,null,null,null,null,null,null,{"$f":"+T208+1","v":125},{"$f":"+S209+1","v":126},null,null,null,null,null,null,125,126,null,null,null,null,null,null,null,null,"=+IMPORTARDATOSDINAMICOS(\" BAS125\",TABLAS!$A$75)","=+IMPORTARDATOSDINAMICOS(\" BAS126\",TABLAS!$A$75)"]
[3,"Lactancia Materna",null,{"$f":"+GETPIVOTDATA(\" BAS127\",TABLAS!$A$75)","v":6},{"$f":"+GETPIVOTDATA(\" BAS128\",TABLAS!$A$75)","v":52},null,null,null,null,null,null,null,null,null,null,null,null,null,{"$f":"+T209+1","v":127},{"$f":"+S210+1","v":128},null,null,null,null,null,null,127,128,null,null,null,null,null,null,null,null,"=+IMPORTARDATOSDINAMICOS(\" BAS127\",TABLAS!$A$75)","=+IMPORTARDATOSDINAMICOS(\" BAS128\",TABLAS!$A$75)"]
[4,"Lavado de manos y consumo de agua segura",null,{"$f":"+GETPIVOTDATA(\" BAS129\",TABLAS!$A$75)","v":3},{"$f":"+GETPIVOTDATA(\" BAS130\",TABLAS!$A$75)","v":27},null,null,null,null,null,null,null,null,null,null,null,null,null,129,130,null,null,null,null,null,null,129,130,null,null,null,null,null,null,null,null,"=+IMPORTARDATOSDINAMICOS(\" BAS129\",TABLAS!$A$75)","=+IMPORTARDATOSDINAMICOS(\" BAS130\",TABLAS!$A$75)"]
[5,"Alimentación complementaria en el niño de 6-11 meses",null,{"$f":"+GETPIVOTDATA(\" BAS131\",TABLAS!$A$75)","v":2},{"$f":"+GETPIVOTDATA(\" BAS132\",TABLAS!$A$75)","v":42},null,null,null,null,null,null,null,null,null,null,null,null,null,131,132,null,null,null,null,null,null,131,132,null,null,null,null,null,null,null,null,"=+IMPORTARDATOSDINAMICOS(\" BAS131\",TABLAS!$A$75)","=+IMPORTARDATOSDINAMICOS(\" BAS132\",TABLAS!$A$75)"]
[6,"Apego seguro",null,{"$f":"+GETPIVOTDATA(\" BAS133\",TABLAS!$A$75)","v":7},{"$f":"+GETPIVOTDATA(\" BAS134\",TABLAS!$A$75)","v":65},null,null,null,null,null,null,null,null,null,null,null,null,null,133,134,null,null,null,null,null,null,133,134,null,null,null,null,null,null,null,null,"=+IMPORTARDATOSDINAMICOS(\" BAS133\",TABLAS!$A$75)","=+IMPORTARDATOSDINAMICOS(\" BAS134\",TABLAS!$A$75)"]
[7,"Importancia de las vacunas y calendario del menor de un año",null,{"$f":"+GETPIVOTDATA(\" BAS135\",TABLAS!$A$75)","v":2},{"$f":"+GETPIVOTDATA(\" BAS136\",TABLAS!$A$75)","v":14},null,null,null,null,null,null,null,null,null,null,null,null,null,135,136,null,null,null,null,null,null,135,136,null,null,null,null,null,null,null,null,"=+IMPORTARDATOSDINAMICOS(\" BAS135\",TABLAS!$A$75)","=+IMPORTARDATOSDINAMICOS(\" BAS136\",TABLAS!$A$75)"]
[8,"Control del Crecimiento y Desarrollo",null,{"$f":"+GETPIVOTDATA(\" BAS137\",TABLAS!$A$75)","v":2},{"$f":"+GETPIVOTDATA(\" BAS138\",TABLAS!$A$75)","v":14},null,null,null,null,null,null,null,null,null,null,null,null,null,137,138,null,null,null,null,null,null,137,138,null,null,null,null,null,null,null,null,"=+IMPORTARDATOSDINAMICOS(\" BAS137\",TABLAS!$A$75)","=+IMPORTARDATOSDINAMICOS(\" BAS138\",TABLAS!$A$75)"]
[9,"Aprendizaje a través del juego",null,{"$f":"+GETPIVOTDATA(\" BAS139\",TABLAS!$A$75)","v":1},{"$f":"+GETPIVOTDATA(\" BAS140\",TABLAS!$A$75)","v":12},null,null,null,null,null,null,null,null,null,null,null,null,null,139,140,null,null,null,null,null,null,139,140,null,null,null,null,null,null,null,null,"=+IMPORTARDATOSDINAMICOS(\" BAS139\",TABLAS!$A$75)","=+IMPORTARDATOSDINAMICOS(\" BAS140\",TABLAS!$A$75)"]
[10,"Control prenatal",null,{"$f":"+GETPIVOTDATA(\" BAS141\",TABLAS!$A$75)","v":4},{"$f":"+GETPIVOTDATA(\" BAS142\",TABLAS!$A$75)","v":21},null,null,null,null,null,null,null,null,null,null,null,null,null,141,142,null,null,null,null,null,null,141,142,null,null,null,null,null,null,null,null,"=+IMPORTARDATOSDINAMICOS(\" BAS141\",TABLAS!$A$75)","=+IMPORTARDATOSDINAMICOS(\" BAS142\",TABLAS!$A$75)"]
[11,"Señales de peligro durante el embarazo",null,{"$f":"+GETPIVOTDATA(\" BAS143\",TABLAS!$A$75)","v":5},{"$f":"+GETPIVOTDATA(\" BAS144\",TABLAS!$A$75)","v":22},null,null,null,null,null,null,null,null,null,null,null,null,null,143,144,null,null,null,null,null,null,143,144,null,null,null,null,null,null,null,null,"=+IMPORTARDATOSDINAMICOS(\" BAS143\",TABLAS!$A$75)","=+IMPORTARDATOSDINAMICOS(\" BAS144\",TABLAS!$A$75)"]
[12,"Suplementación con hierro durante el embarazo",null,{"$f":"+GETPIVOTDATA(\" BAS145\",TABLAS!$A$75)","v":4},{"$f":"+GETPIVOTDATA(\" BAS146\",TABLAS!$A$75)","v":17},null,null,null,null,null,null,null,null,null,null,null,null,null,145,146,null,null,null,null,null,null,145,146,null,null,null,null,null,null,null,null,"=+IMPORTARDATOSDINAMICOS(\" BAS145\",TABLAS!$A$75)","=+IMPORTARDATOSDINAMICOS(\" BAS146\",TABLAS!$A$75)"]
[13,"Alimentación saludable ",null,{"$f":"+GETPIVOTDATA(\" BAS147\",TABLAS!$A$75)","v":0},{"$f":"+GETPIVOTDATA(\" BAS148\",TABLAS!$A$75)","v":0},null,null,null,null,null,null,null,null,null,null,null,null,null,147,148,null,null,null,null,null,null,147,148,null,null,null,null,null,null,null,null,"=+IMPORTARDATOSDINAMICOS(\" BAS147\",TABLAS!$A$75)","=+IMPORTARDATOSDINAMICOS(\" BAS148\",TABLAS!$A$75)"]
[14,"Plan de parto",null,{"$f":"+GETPIVOTDATA(\" BAS149\",TABLAS!$A$75)","v":1},{"$f":"+GETPIVOTDATA(\" BAS150\",TABLAS!$A$75)","v":6},null,null,null,null,null,null,null,null,null,null,null,null,null,149,150,null,null,null,null,null,null,149,150,null,null,null,null,null,null,null,null,"=+IMPORTARDATOSDINAMICOS(\" BAS149\",TABLAS!$A$75)","=+IMPORTARDATOSDINAMICOS(\" BAS150\",TABLAS!$A$75)"]
[15,"Parto institucional",null,{"$f":"+GETPIVOTDATA(\" BAS151\",TABLAS!$A$75)","v":1},{"$f":"+GETPIVOTDATA(\" BAS152\",TABLAS!$A$75)","v":6},null,null,null,null,null,null,null,null,null,null,null,null,null,151,152,null,null,null,null,null,null,151,152,null,null,null,null,null,null,null,null,"=+IMPORTARDATOSDINAMICOS(\" BAS151\",TABLAS!$A$75)","=+IMPORTARDATOSDINAMICOS(\" BAS152\",TABLAS!$A$75)"]
[16,"Señales de peligro durante el puerperio",null,{"$f":"+GETPIVOTDATA(\" BAS153\",TABLAS!$A$75)","v":0},{"$f":"+GETPIVOTDATA(\" BAS154\",TABLAS!$A$75)","v":0},null,null,null,null,null,null,null,null,null,null,null,null,null,153,154,null,null,null,null,null,null,153,154,null,null,null,null,null,null,null,null,"=+IMPORTARDATOSDINAMICOS(\" BAS153\",TABLAS!$A$75)","=+IMPORTARDATOSDINAMICOS(\" BAS154\",TABLAS!$A$75)"]
[17,"El derecho a la identidad en el niño",null,{"$f":"+GETPIVOTDATA(\" BAS155\",TABLAS!$A$75)","v":0},{"$f":"+GETPIVOTDATA(\" BAS156\",TABLAS!$A$75)","v":0},null,null,null,null,null,null,null,null,null,null,null,null,null,155,156,null,null,null,null,null,null,155,156,null,null,null,null,null,null,null,null,"=+IMPORTARDATOSDINAMICOS(\" BAS155\",TABLAS!$A$75)","=+IMPORTARDATOSDINAMICOS(\" BAS156\",TABLAS!$A$75)"]
[]
[null,"Revisión y validación de formatos de visitas domiciliarias realizadas por el actor social"]
[]
[null,null,1,2,3]
[null,"Actividad","N° ","N° de fichas validadas ","N° de fichas revisadas "]
[1,"Revisión y validación ",{"$f":"+GETPIVOTDATA(\" BAS157\",TABLAS!$A$75)","v":3},{"$f":"+GETPIVOTDATA(\" BAS158\",TABLAS!$A$75)","v":56},{"$f":"+GETPIVOTDATA(\" BAS159\",TABLAS!$A$75)","v":54}]
[null,null,null,null,null,null,null,null,null,null,null,null,null,null,null,null,null,null,{"$f":"+T224+1","v":157},{"$f":"+S231+1","v":158},{"$f":"+T231+1","v":159},null,null,null,null,null,{"$f":"IF(LEN(S231)=1,CONCATENATE(\"00\",S231),IF(LEN(S231)=2,CONCATENATE(\"0\",S231),S231))","v":157},158,159,null,null,null,null,null,null,null,{"$f":"+$AK$20&AA231&$AL$19","v":"=+IMPORTARDATOSDINAMICOS(\" BAS157\",TABLAS!$A$75)"},"=+IMPORTARDATOSDINAMICOS(\" BAS158\",TABLAS!$A$75)","=+IMPORTARDATOSDINAMICOS(\" BAS159\",TABLAS!$A$75)"]
[null,"Verificación de visitas domiciliarias realizadas por los actores sociales"]
[]
[null,null,1,2,3]
[null,"Actividad","N° ","N° de VD por AS verificadas ","N° de VD por AS con verificación positiva "]
[1,"Verificación de VD por AS",{"$f":"+GETPIVOTDATA(\" BAS160\",TABLAS!$A$75)","v":5},{"$f":"+GETPIVOTDATA(\" BAS161\",TABLAS!$A$75)","v":33},{"$f":"+GETPIVOTDATA(\" BAS162\",TABLAS!$A$75)","v":31}]
[null,null,null,null,null,null,null,null,null,null,null,null,null,null,null,null,null,null,{"$f":"+U231+1","v":160},{"$f":"+S237+1","v":161},{"$f":"+T237+1","v":162},null,null,null,null,null,{"$f":"IF(LEN(S237)=1,CONCATENATE(\"00\",S237),IF(LEN(S237)=2,CONCATENATE(\"0\",S237),S237))","v":160},161,162,null,null,null,null,null,null,null,{"$f":"+$AK$20&AA237&$AL$19","v":"=+IMPORTARDATOSDINAMICOS(\" BAS160\",TABLAS!$A$75)"},"=+IMPORTARDATOSDINAMICOS(\" BAS161\",TABLAS!$A$75)","=+IMPORTARDATOSDINAMICOS(\" BAS162\",TABLAS!$A$75)"]
[null,"Acompañamiento por parte del personal de salud al actor social durante el desarrollo de la visita domiciliaria"]
[]
[null,null,1]
[null,"TIPOS DE ACTIVIDAD ","N° ","N°  de AS "]
[1,"1er Acompañamiento ",{"$f":"+GETPIVOTDATA(\" BAS163\",TABLAS!$A$75)","v":1},{"$f":"+GETPIVOTDATA(\" BAS164\",TABLAS!$A$75)","v":3},null,null,null,null,null,null,null,null,null,null,null,null,null,null,{"$f":"+U237+1","v":163},{"$f":"+S242+1","v":164},null,null,null,null,null,null,{"$f":"IF(LEN(S242)=1,CONCATENATE(\"00\",S242),IF(LEN(S242)=2,CONCATENATE(\"0\",S242),S242))","v":163},164,null,null,null,null,null,null,null,null,{"$f":"+$AK$20&AA242&$AL$19","v":"=+IMPORTARDATOSDINAMICOS(\" BAS163\",TABLAS!$A$75)"},"=+IMPORTARDATOSDINAMICOS(\" BAS164\",TABLAS!$A$75)"]
[2,"2do Acompañamiento",{"$f":"+GETPIVOTDATA(\" BAS165\",TABLAS!$A$75)","v":1},{"$f":"+GETPIVOTDATA(\" BAS166\",TABLAS!$A$75)","v":1},null,null,null,null,null,null,null,null,null,null,null,null,null,null,{"$f":"+T242+1","v":165},{"$f":"+S243+1","v":166},null,null,null,null,null,null,165,166,null,null,null,null,null,null,null,null,"=+IMPORTARDATOSDINAMICOS(\" BAS165\",TABLAS!$A$75)","=+IMPORTARDATOSDINAMICOS(\" BAS166\",TABLAS!$A$75)"]
[]
[null,"SUB PRODUCTO: PROMOTORES EDUCATIVOS CAPACITADOS PARA LA PROMOCIÓN DEL CUIDADO INFANTIL, LACTANCIA MATERNA EXCLUSIVA Y LA ADECUADA ALIMENTACIÓN Y PROTECCIÓN DEL MENOR DE 36 MESES DEL DISTRITO"]
[null,"Reunión de coordinación/concertación con la Red Educativa/Institución Educativa"]
[]
[null,null,null,null,1,2]
[null,"Reuniones",null,null,"Reuniones","Participantes"]
[1,"Reunión de coordinación con la Red Educativa/Coordinación Educativa (COE) de la UGEL",null,null,{"$f":"+GETPIVOTDATA(\" BAS167\",TABLAS!$A$75)","v":16},{"$f":"+GETPIVOTDATA(\" BAS168\",TABLAS!$A$75)","v":109},null,null,null,null,null,null,null,null,null,null,null,null,{"$f":"+T243+1","v":167},{"$f":"+S250+1","v":168},null,null,null,null,null,null,{"$f":"IF(LEN(S250)=1,CONCATENATE(\"00\",S250),IF(LEN(S250)=2,CONCATENATE(\"0\",S250),S250))","v":167},168,null,null,null,null,null,null,null,null,{"$f":"+$AK$20&AA250&$AL$19","v":"=+IMPORTARDATOSDINAMICOS(\" BAS167\",TABLAS!$A$75)"},"=+IMPORTARDATOSDINAMICOS(\" BAS168\",TABLAS!$A$75)"]
[2,"Reunión de concertación con Red Educativa/COE (UGEL), para socializar la situación de anemia y DCI y establecer la capacitación",null,null,{"$f":"+GETPIVOTDATA(\" BAS169\",TABLAS!$A$75)","v":7},{"$f":"+GETPIVOTDATA(\" BAS170\",TABLAS!$A$75)","v":55},null,null,null,null,null,null,null,null,null,null,null,null,{"$f":"+T250+1","v":169},{"$f":"+S251+1","v":170},null,null,null,null,null,null,169,170,null,null,null,null,null,null,null,null,"=+IMPORTARDATOSDINAMICOS(\" BAS169\",TABLAS!$A$75)","=+IMPORTARDATOSDINAMICOS(\" BAS170\",TABLAS!$A$75)"]
[]
[null,"Talleres de capacitación a los promotores educativos"]
[]
[null,null,null,null,1,2]
[null,"Sesiones educativas",null,null,"Asistencia tecnica","Participantes"]
[1,"SBS: Importancia de la entrega del paquete integral del niño",null,null,{"$f":"+GETPIVOTDATA(\" BAS171\",TABLAS!$A$75)","v":1},{"$f":"+GETPIVOTDATA(\" BAS172\",TABLAS!$A$75)","v":18},null,null,null,null,null,null,null,null,null,null,null,null,{"$f":"+T251+1","v":171},{"$f":"+S257+1","v":172},null,null,null,null,null,null,{"$f":"IF(LEN(S257)=1,CONCATENATE(\"00\",S257),IF(LEN(S257)=2,CONCATENATE(\"0\",S257),S257))","v":171},172,null,null,null,null,null,null,null,null,{"$f":"+$AK$20&AA257&$AL$19","v":"=+IMPORTARDATOSDINAMICOS(\" BAS171\",TABLAS!$A$75)"},"=+IMPORTARDATOSDINAMICOS(\" BAS172\",TABLAS!$A$75)"]
[2,"ALI: Alimentación responsiva con énfasis en la alimentación complementaria\ne incorporación de alimentos de origen animal ricos en hierro.",null,null,{"$f":"+GETPIVOTDATA(\" BAS173\",TABLAS!$A$75)","v":0},{"$f":"+GETPIVOTDATA(\" BAS174\",TABLAS!$A$75)","v":0},null,null,null,null,null,null,null,null,null,null,null,null,{"$f":"+T257+1","v":173},{"$f":"+S258+1","v":174},null,null,null,null,null,null,173,174,null,null,null,null,null,null,null,null,"=+IMPORTARDATOSDINAMICOS(\" BAS173\",TABLAS!$A$75)","=+IMPORTARDATOSDINAMICOS(\" BAS174\",TABLAS!$A$75)"]
[3,"AA: Importancia del juego en el desarrollo infantil temprano",null,null,{"$f":"+GETPIVOTDATA(\" BAS175\",TABLAS!$A$75)","v":1},{"$f":"+GETPIVOTDATA(\" BAS176\",TABLAS!$A$75)","v":3},null,null,null,null,null,null,null,null,null,null,null,null,{"$f":"+T258+1","v":175},{"$f":"+S259+1","v":176},null,null,null,null,null,null,175,176,null,null,null,null,null,null,null,null,"=+IMPORTARDATOSDINAMICOS(\" BAS175\",TABLAS!$A$75)","=+IMPORTARDATOSDINAMICOS(\" BAS176\",TABLAS!$A$75)"]
[]
[null,"TRAZADORES"]
[null,"--SUB PRODUCTO: FAMILIAS CON NIÑOS (AS) MENORES DE 12 MESES Y GESTANTES RECIBEN ACOMPAÑAMIENTO A TRAVES DE SESIONES DEMOSTRATIVAS EN PREPARACIÓN DE ALIMENTOS."]
[null,"--CONTAR DNI (EDAD 6M a 11 M)/ ( DX1=C0010 + LAB=ALI "]
[null,"Trazador",{"$f":"+GETPIVOTDATA(\" BAS177\",TABLAS!$A$75)","v":111}]
[]
[null,"--SUB PRODUCTO 3325107: FAMILIAS CON NIÑOS MENORES DE 12 MESES RECIBEN ACOMPAÑAMIENTO A TRAVÉS DE LA CONSEJERÍA EN LA VISITA DOMICILIARIA. (Subproducto trazador de la Actividad 1 y del Producto)"]
[null,"SUMAR LAB1 DE APP151/(DX1=C12 + LAB1+ LAB2=LME+ LAB3=2)"]
[null,"SUMAR LAB1 DE APP151/(DX1=C12 + LAB1+ LAB2=LME+ LAB3=3)"]
[null,"SUMAR LAB1 DE APP151/(DX1=C12 + LAB1+ LAB2=LME+ LAB3=4)"]
[null,"Trazador",{"$f":"+GETPIVOTDATA(\" BAS178\",TABLAS!$A$75)","v":0}]
[]
[null,"--SUB PRODUCTO: COMITES MULTISECTORIALES CAPACITADOS PARA LA PROMOCIÓN DEL CUIDADO INFANTIL, LACTANCIA MATERNA EXCLUSIVA Y LA ADECUADA ALIMENTACIÓN Y PROTECCIÓN DEL MENOR DE 36 MESES EN SU DISTRITO."]
[null,"CONTAR APP96/(DX1=C7003 + LAB2=1)"]
[null,"Trazador",{"$f":"+GETPIVOTDATA(\" BAS179\",TABLAS!$A$75)","v":0}]
[]
[null,"--SUB PRODUCTO: ACTORES SOCIALES CAPACITADOS PARA LA PROMOCIÓN DEL CUIDADO INFANTIL, LACTANCIA MATERNA EXCLUSIVA Y LA ADECUADA ALIMENTACIÓN Y PROTECCIÓN DEL MENOR DE 36 MESES DEL DISTRITO. (Subproducto trazador de la Actividad 2)"]
[null,"CONTAR APP138/ (DX1=C9+ LAB1+ LAB2=VCO+LAB3=1)"]
[null,"Trazador",{"$f":"+GETPIVOTDATA(\" BAS180\",TABLAS!$A$75)","v":132}]
[]
[null,"--SUB PRODUCTO: PROMOTORES EDUCATIVOS CAPACITADOS PARA LA PROMOCIÓN DEL CUIDADO INFANTIL, LACTANCIA MATERNA EXCLUSIVA Y LA ADECUADA ALIMENTACIÓN Y PROTECCIÓN DEL MENOR DE 36 MESES DEL DISTRITO"]
[null,"CONTAR APP144 / (DX1=C9 + LAB1+ LAB2=AA+ LAB3=1)"]
[null,"Trazador",{"$f":"+GETPIVOTDATA(\" BAS181\",TABLAS!$A$75)","v":3}]
[]
[null,"Funcionamiento de los Grupos de apoyo"]
[null,"2da sesion"]
[null,"LME"]
[null,"N° de Participantes"]
[null,"Trazador",{"$f":"+GETPIVOTDATA(\" BAS182\",TABLAS!$A$75)","v":0}]
[]
[null,"ALI"]
[null,"1ra sesion"]
[null,"N° PARTICIPANTES"]
[null,"Trazador",{"$f":"+GETPIVOTDATA(\" BAS183\",TABLAS!$A$75)","v":0}]

{"sheet":"PP002","index":4,"n_rows":177,"n_cols":30,"rows_kept":177,"cut":false,"hidden":false,"merged":[[59,1,59,6],[4,1,4,6],[17,1,17,6],[18,1,18,6],[19,1,19,6],[23,1,23,2],[24,1,24,2],[8,3,8,4],[25,1,25,2],[29,1,29,2],[30,1,30,2],[31,1,31,2],[33,1,33,6],[83,1,83,2],[63,1,63,2],[64,1,64,2],[65,1,65,2],[66,1,66,2],[67,1,67,2],[68,1,68,2],[69,1,69,2],[70,1,70,2],[72,1,72,6],[73,1,73,6],[77,1,77,2],[103,1,103,2],[89,3,89,4],[89,5,89,6],[90,1,90,2],[91,1,91,2],[92,1,92,2],[93,1,93,2],[94,1,94,2],[95,1,95,2],[96,1,96,2],[97,1,97,2],[102,3,102,4],[123,1,123,2],[104,1,104,2],[105,1,105,2],[106,1,106,2],[107,1,107,2],[108,1,108,2],[109,1,109,2],[110,1,110,2],[116,1,116,2],[117,1,117,2],[118,1,118,2],[119,1,119,2],[136,1,137,2],[136,3,136,4],[138,1,138,2],[139,1,139,2],[124,1,124,2],[125,1,125,2],[126,1,126,2],[130,1,130,2],[131,1,131,2],[132,1,132,2]]}
[]
[]
[]
[]
[null,"\"REPORTE MENSUAL DE ACTIVIDADES - PROMOCIÓN DE LA SALUD\" 2021-2024"]
[]
[]
[null,"DIRESA/DISA/GERESA ",null,"EJECUTORA",null,null,"MES"]
[null,"CUSCO",null,{"$f":"+TABLAS!O14","v":""},null,null,{"$f":"+TABLAS!N26","v":"ENE - MAR"}]
[null,"RED "]
[null,{"$f":"+TABLAS!O9","v":"03 - LA CONVENCION"},null,null,null,null,"AÑO "]
[null,"MICRO RED",null,"PROVINCIA",null,null,{"$f":"+TABLAS!J16","v":"2025"}]
[null,{"$f":"+TABLAS!O10","v":""},null,{"$f":"+TABLAS!O12","v":""},null,null,{"$f":"+TABLAS!M20","v":0}]
[null,"IPRESS",null,"DISTRITO"]
[null,{"$f":"+TABLAS!O11","v":""},null,{"$f":"+TABLAS!O13","v":""},null,null,{"$f":"IF(G13=1,MID(A16,1,9)&\"_\"&MID(A16,13,20)&\"_\"&MID(G9,1,3)&\"_\"&G12,MID(A16,1,9)&\"_\"&MID(A16,13,20)&\"_\"&MID(G9,1,3)&\"_\"&MID(G9,7,3)&\"_\"&G12)","v":"__ENE_MAR_2025"}]
[]
[]
[null,"PRODUCTO: FAMILIAS SALUDABLES INFORMADAS RESPECTO DE SU\nSALUD SEXUAL Y REPRODUCTIVA"]
[null,"ACTIVIDAD: PROMOCIÓN DE PRÁCTICAS SALUDABLES PARA EL CUIDADO DE LA SALUD SEXUAL Y REPRODUCTIVA EN FAMILIAS"]
[null,"SUB PRODUCTO - FAMILIAS DE LA GESTANTE Y PUÉRPERA QUE RECIBEN CONSEJERÍA EN EL HOGAR ATRAVÉS DE LA VISITA DOMICILIARIA PARA PROMOVER PRÁCTICAS SALUDABLES EN SALUD SEXUAL Y REPRODUCTIVA DURANTE LA VISITA DOMICILIARIA"]
[]
[null,"Consejería durante el periodo gestacional:"]
[null,null,null,1,2,3,null,null,null,null,null,null,null,null,null,null,null,null,null,null,null,null,null,null,null,null,null,null,null,"\",TABLAS!$A$108)"]
[null,"TIPO DE ACTIVIDAD ",null,"I Trimestre","II Trimestre - 1° consejeria","III Trimestre- 2° consejeria",null,null,null,null,null,null,null,null,null,null,null,null,null,null,null,null,null,null,null,null,null,null,"=+IMPORTARDATOSDINAMICOS(\" BAS"]
[1,"Consejeria a traves de visita familiar integral ",null,{"$f":"+GETPIVOTDATA(\" BAS001\",TABLAS!$A$108)","v":10},{"$f":"+GETPIVOTDATA(\" BAS002\",TABLAS!$A$108)","v":161},{"$f":"+GETPIVOTDATA(\" BAS003\",TABLAS!$A$108)","v":180},null,null,null,null,null,null,null,null,null,null,1,{"$f":"+Q25+1","v":2},{"$f":"+R25+1","v":3},null,null,{"$f":"IF(LEN(Q25)=1,CONCATENATE(\"00\",Q25),IF(LEN(Q25)=2,CONCATENATE(\"0\",Q25),Q25))","v":"001"},{"$f":"IF(LEN(R25)=1,CONCATENATE(\"00\",R25),IF(LEN(R25)=2,CONCATENATE(\"0\",R25),R25))","v":"002"},{"$f":"IF(LEN(S25)=1,CONCATENATE(\"00\",S25),IF(LEN(S25)=2,CONCATENATE(\"0\",S25),S25))","v":"003"},null,null,{"$f":"$AC$24&V25&$AD$23","v":"=+IMPORTARDATOSDINAMICOS(\" BAS001\",TABLAS!$A$108)"},{"$f":"$AC$24&W25&$AD$23","v":"=+IMPORTARDATOSDINAMICOS(\" BAS002\",TABLAS!$A$108)"},"=+IMPORTARDATOSDINAMICOS(\" BAS003\",TABLAS!$A$108)"]
[2,"Consejeria a traves de Teleorientación sincrona ",null,{"$f":"+GETPIVOTDATA(\" BAS004\",TABLAS!$A$108)","v":4},{"$f":"+GETPIVOTDATA(\" BAS005\",TABLAS!$A$108)","v":3},{"$f":"+GETPIVOTDATA(\" BAS006\",TABLAS!$A$108)","v":6},null,null,null,null,null,null,null,null,null,null,{"$f":"+S25+1","v":4},{"$f":"+Q26+1","v":5},{"$f":"+R26+1","v":6},null,null,{"$f":"IF(LEN(Q26)=1,CONCATENATE(\"00\",Q26),IF(LEN(Q26)=2,CONCATENATE(\"0\",Q26),Q26))","v":"004"},"005","006",null,null,{"$f":"$AC$24&V26&$AD$23","v":"=+IMPORTARDATOSDINAMICOS(\" BAS004\",TABLAS!$A$108)"},"=+IMPORTARDATOSDINAMICOS(\" BAS005\",TABLAS!$A$108)","=+IMPORTARDATOSDINAMICOS(\" BAS006\",TABLAS!$A$108)"]
[]
[null,"Consejería durante el periodo post natal a través de visita familiar integral:"]
[null,null,null,1,2,3]
[null,"TIPO DE ACTIVIDAD ",null," otro momento diferente ","7 días de producido el parto","Entre los 28 y 30 días de producido el parto"]
[1,"Consejeria a traves de visita familiar integral ",null,{"$f":"+GETPIVOTDATA(\" BAS007\",TABLAS!$A$108)","v":0},{"$f":"+GETPIVOTDATA(\" BAS008\",TABLAS!$A$108)","v":145},{"$f":"+GETPIVOTDATA(\" BAS009\",TABLAS!$A$108)","v":139},null,null,null,null,null,null,null,null,null,null,{"$f":"+S26+1","v":7},{"$f":"+Q31+1","v":8},{"$f":"+R31+1","v":9},null,null,{"$f":"IF(LEN(Q31)=1,CONCATENATE(\"00\",Q31),IF(LEN(Q31)=2,CONCATENATE(\"0\",Q31),Q31))","v":"007"},"008","009",null,null,{"$f":"$AC$24&V31&$AD$23","v":"=+IMPORTARDATOSDINAMICOS(\" BAS007\",TABLAS!$A$108)"},"=+IMPORTARDATOSDINAMICOS(\" BAS008\",TABLAS!$A$108)","=+IMPORTARDATOSDINAMICOS(\" BAS009\",TABLAS!$A$108)"]
[2,"Consejeria a traves de Teleorientación sincrona ",null,{"$f":"+GETPIVOTDATA(\" BAS010\",TABLAS!$A$108)","v":0},{"$f":"+GETPIVOTDATA(\" BAS011\",TABLAS!$A$108)","v":3},{"$f":"+GETPIVOTDATA(\" BAS012\",TABLAS!$A$108)","v":4},null,null,null,null,null,null,null,null,null,null,{"$f":"+S31+1","v":10},{"$f":"+Q32+1","v":11},{"$f":"+R32+1","v":12},null,null,"010","011","012",null,null,"=+IMPORTARDATOSDINAMICOS(\" BAS010\",TABLAS!$A$108)","=+IMPORTARDATOSDINAMICOS(\" BAS011\",TABLAS!$A$108)","=+IMPORTARDATOSDINAMICOS(\" BAS012\",TABLAS!$A$108)"]
[]
[null,"SUB PRODUCTO: AGENTES COMUNITARIOS DE SALUD CAPACITADOS REALIZAN ORIENTACIÓN A FAMILIAS DE GESTANTES Y PUÉRPERAS EN PRÁCTICAS SALUDABLES EN SALUD SEXUAL Y REPRODUCTIVA"]
[]
[null,"1° orientación: entre la 28 y 40 semana (tercer trimestre) de gestación "]
[null,null,1]
[null,"TIPO DE ACTIVIDAD ","Orientación"]
[1,"1º Orientación",{"$f":"+GETPIVOTDATA(\" BAS013\",TABLAS!$A$108)","v":0},null,null,null,null,null,null,null,null,null,null,null,null,null,{"$f":"+S32+1","v":13},null,null,null,null,{"$f":"IF(LEN(Q39)=1,CONCATENATE(\"00\",Q39),IF(LEN(Q39)=2,CONCATENATE(\"0\",Q39),Q39))","v":"013"},null,null,null,null,{"$f":"$AC$24&V39&$AD$23","v":"=+IMPORTARDATOSDINAMICOS(\" BAS013\",TABLAS!$A$108)"}]
[2,"2º Orientación",{"$f":"+GETPIVOTDATA(\" BAS014\",TABLAS!$A$108)","v":0},null,null,null,null,null,null,null,null,null,null,null,null,null,{"$f":"+Q39+1","v":14},null,null,null,null,"014",null,null,null,null,"=+IMPORTARDATOSDINAMICOS(\" BAS014\",TABLAS!$A$108)"]
[]
[null,"2° orientación: en los 7 primeros días de producido el parto."]
[null,null,1]
[null,"TIPO DE ACTIVIDAD ","Orientación"]
[1,"1º Orientación",{"$f":"+GETPIVOTDATA(\" BAS015\",TABLAS!$A$108)","v":0},null,null,null,null,null,null,null,null,null,null,null,null,null,{"$f":"+Q40+1","v":15},null,null,null,null,{"$f":"IF(LEN(Q45)=1,CONCATENATE(\"00\",Q45),IF(LEN(Q45)=2,CONCATENATE(\"0\",Q45),Q45))","v":"015"},null,null,null,null,{"$f":"$AC$24&V45&$AD$23","v":"=+IMPORTARDATOSDINAMICOS(\" BAS015\",TABLAS!$A$108)"}]
[2,"2º Orientación",{"$f":"+GETPIVOTDATA(\" BAS016\",TABLAS!$A$108)","v":0},null,null,null,null,null,null,null,null,null,null,null,null,null,{"$f":"+Q45+1","v":16},null,null,null,null,"016",null,null,null,null,"=+IMPORTARDATOSDINAMICOS(\" BAS016\",TABLAS!$A$108)"]
[]
[null,"Capacitación a agentes comunitarios de Salud en Salud Sexual y Reproductiva."]
[null,null,1,2]
[null,"Tematica","N°","Participantes"]
[1,"Para indicar Vigilancia Comunitaria",{"$f":"+GETPIVOTDATA(\" BAS017\",TABLAS!$A$108)","v":0},{"$f":"+GETPIVOTDATA(\" BAS018\",TABLAS!$A$108)","v":0},null,null,null,null,null,null,null,null,null,null,null,null,{"$f":"+Q46+1","v":17},{"$f":"+Q51+1","v":18},null,null,null,{"$f":"IF(LEN(Q51)=1,CONCATENATE(\"00\",Q51),IF(LEN(Q51)=2,CONCATENATE(\"0\",Q51),Q51))","v":"017"},"018",null,null,null,{"$f":"$AC$24&V51&$AD$23","v":"=+IMPORTARDATOSDINAMICOS(\" BAS017\",TABLAS!$A$108)"},"=+IMPORTARDATOSDINAMICOS(\" BAS018\",TABLAS!$A$108)"]
[2,"Para prácticas saludables",{"$f":"+GETPIVOTDATA(\" BAS019\",TABLAS!$A$108)","v":5},{"$f":"+GETPIVOTDATA(\" BAS020\",TABLAS!$A$108)","v":26},null,null,null,null,null,null,null,null,null,null,null,null,{"$f":"+R51+1","v":19},{"$f":"+Q52+1","v":20},null,null,null,"019","020",null,null,null,"=+IMPORTARDATOSDINAMICOS(\" BAS019\",TABLAS!$A$108)","=+IMPORTARDATOSDINAMICOS(\" BAS020\",TABLAS!$A$108)"]
[3,"Referencia Comunal",{"$f":"+GETPIVOTDATA(\" BAS021\",TABLAS!$A$108)","v":3},{"$f":"+GETPIVOTDATA(\" BAS022\",TABLAS!$A$108)","v":10},null,null,null,null,null,null,null,null,null,null,null,null,{"$f":"+R52+1","v":21},{"$f":"+Q53+1","v":22},null,null,null,{"$f":"IF(LEN(Q53)=1,CONCATENATE(\"00\",Q53),IF(LEN(Q53)=2,CONCATENATE(\"0\",Q53),Q53))","v":"021"},{"$f":"IF(LEN(R53)=1,CONCATENATE(\"00\",R53),IF(LEN(R53)=2,CONCATENATE(\"0\",R53),R53))","v":"022"},null,null,null,{"$f":"$AC$24&V53&$AD$23","v":"=+IMPORTARDATOSDINAMICOS(\" BAS021\",TABLAS!$A$108)"},{"$f":"$AC$24&W53&$AD$23","v":"=+IMPORTARDATOSDINAMICOS(\" BAS022\",TABLAS!$A$108)"}]
[]
[null,"Referencia comunitaria realizadas por Agente Comunitario de Salud:"]
[null,1,2]
[null,"Nº DE REGISTROS","Nº DE REFERENCIAS COMUNITARIAS"]
[1,{"$f":"+GETPIVOTDATA(\" BAS023\",TABLAS!$A$108)","v":1},{"$f":"+GETPIVOTDATA(\" BAS024\",TABLAS!$A$108)","v":1},null,null,null,null,null,null,null,null,null,null,null,null,null,{"$f":"+R53+1","v":23},{"$f":"+Q58+1","v":24},null,null,null,{"$f":"IF(LEN(Q58)=1,CONCATENATE(\"00\",Q58),IF(LEN(Q58)=2,CONCATENATE(\"0\",Q58),Q58))","v":"023"},"024",null,null,null,{"$f":"$AC$24&V58&$AD$23","v":"=+IMPORTARDATOSDINAMICOS(\" BAS023\",TABLAS!$A$108)"},"=+IMPORTARDATOSDINAMICOS(\" BAS024\",TABLAS!$A$108)"]
[]
[null,"SUB PRODUCTO: FAMILIA DE ADOLESCENTES QUE RECIBEN SESIONES EDUCATIVAS Y DEMOSTRATIVA PARA PROMOVER PRÁCTICAS SALUDABLES EN SALUD SEXUAL INTEGRAL."]
[]
[null,"Sesiones educativas y demostrativas a familias de adolescentes"]
[null,null,null,1,2]
[null,"Tematica",null,"Nº","Participantes"]
[1,"1er eje temático: Sexualidad.",null,{"$f":"+GETPIVOTDATA(\" BAS025\",TABLAS!$A$108)","v":263},{"$f":"+GETPIVOTDATA(\" BAS026\",TABLAS!$A$108)","v":488},null,null,null,null,null,null,null,null,null,null,null,{"$f":"+R58+1","v":25},{"$f":"+Q65+1","v":26},null,null,null,{"$f":"IF(LEN(Q65)=1,CONCATENATE(\"00\",Q65),IF(LEN(Q65)=2,CONCATENATE(\"0\",Q65),Q65))","v":"025"},"026",null,null,null,{"$f":"$AC$24&V65&$AD$23","v":"=+IMPORTARDATOSDINAMICOS(\" BAS025\",TABLAS!$A$108)"},"=+IMPORTARDATOSDINAMICOS(\" BAS026\",TABLAS!$A$108)"]
[2,"2do eje temático: Identidad.",null,{"$f":"+GETPIVOTDATA(\" BAS027\",TABLAS!$A$108)","v":232},{"$f":"+GETPIVOTDATA(\" BAS028\",TABLAS!$A$108)","v":412},null,null,null,null,null,null,null,null,null,null,null,{"$f":"+R65+1","v":27},{"$f":"+Q66+1","v":28},null,null,null,"027","028",null,null,null,"=+IMPORTARDATOSDINAMICOS(\" BAS027\",TABLAS!$A$108)","=+IMPORTARDATOSDINAMICOS(\" BAS028\",TABLAS!$A$108)"]
[3,"3er eje temático: Cambios en la Pubertad y Adolescencia.",null,{"$f":"+GETPIVOTDATA(\" BAS029\",TABLAS!$A$108)","v":82},{"$f":"+GETPIVOTDATA(\" BAS030\",TABLAS!$A$108)","v":178},null,null,null,null,null,null,null,null,null,null,null,{"$f":"+R66+1","v":29},30,null,null,null,"029","030",null,null,null,"=+IMPORTARDATOSDINAMICOS(\" BAS029\",TABLAS!$A$108)","=+IMPORTARDATOSDINAMICOS(\" BAS030\",TABLAS!$A$108)"]
[4,"4to eje temático: Igualdad de género.",null,{"$f":"+GETPIVOTDATA(\" BAS031\",TABLAS!$A$108)","v":76},{"$f":"+GETPIVOTDATA(\" BAS032\",TABLAS!$A$108)","v":169},null,null,null,null,null,null,null,null,null,null,null,31,32,null,null,null,"031","032",null,null,null,"=+IMPORTARDATOSDINAMICOS(\" BAS031\",TABLAS!$A$108)","=+IMPORTARDATOSDINAMICOS(\" BAS032\",TABLAS!$A$108)"]
[5,"5to eje temático: Relaciones afectivas y libres de violencia.",null,{"$f":"+GETPIVOTDATA(\" BAS033\",TABLAS!$A$108)","v":18},{"$f":"+GETPIVOTDATA(\" BAS034\",TABLAS!$A$108)","v":90},null,null,null,null,null,null,null,null,null,null,null,33,34,null,null,null,"033","034",null,null,null,"=+IMPORTARDATOSDINAMICOS(\" BAS033\",TABLAS!$A$108)","=+IMPORTARDATOSDINAMICOS(\" BAS034\",TABLAS!$A$108)"]
[6,"6to eje temático: Previniendo el abuso sexual y maltrato.",null,{"$f":"+GETPIVOTDATA(\" BAS035\",TABLAS!$A$108)","v":18},{"$f":"+GETPIVOTDATA(\" BAS036\",TABLAS!$A$108)","v":87},null,null,null,null,null,null,null,null,null,null,null,35,36,null,null,null,"035","036",null,null,null,"=+IMPORTARDATOSDINAMICOS(\" BAS035\",TABLAS!$A$108)","=+IMPORTARDATOSDINAMICOS(\" BAS036\",TABLAS!$A$108)"]
[7,"7to eje temático: Planificando el futuro.",null,{"$f":"+GETPIVOTDATA(\" BAS037\",TABLAS!$A$108)","v":11},{"$f":"+GETPIVOTDATA(\" BAS038\",TABLAS!$A$108)","v":67},null,null,null,null,null,null,null,null,null,null,null,37,38,null,null,null,"037","038",null,null,null,"=+IMPORTARDATOSDINAMICOS(\" BAS037\",TABLAS!$A$108)","=+IMPORTARDATOSDINAMICOS(\" BAS038\",TABLAS!$A$108)"]
[]
[null,"ACTIVIDAD : CAPACITACIÓN ACTORES SOCIALES QUE PROMUEVEN LA SALUD SEXUAL Y REPRODUCTIVA"]
[null,"SUB PRODUCTO: DOCENTES CAPACITADOS REALIZAN EDUCACIÓN SEXUAL INTEGRAL DESDE LA INSTITUCIÓN EDUCATIVA (Subproducto trazador de la Actividad 2)"]
[]
[null,"Incidencia ante la Unidad de Gestión Educativa Local–UGEL"]
[null,1,2]
[null,"UGL "]
[null,"Nº","Participantes"]
[1,{"$f":"+GETPIVOTDATA(\" BAS039\",TABLAS!$A$108)","v":0},{"$f":"+GETPIVOTDATA(\" BAS040\",TABLAS!$A$108)","v":0},null,null,null,null,null,null,null,null,null,null,null,null,null,{"$f":"+R71+1","v":39},{"$f":"+Q80+1","v":40},null,null,null,{"$f":"IF(LEN(Q80)=1,CONCATENATE(\"00\",Q80),IF(LEN(Q80)=2,CONCATENATE(\"0\",Q80),Q80))","v":"039"},"040",null,null,null,{"$f":"$AC$24&V80&$AD$23","v":"=+IMPORTARDATOSDINAMICOS(\" BAS039\",TABLAS!$A$108)"},"=+IMPORTARDATOSDINAMICOS(\" BAS040\",TABLAS!$A$108)"]
[]
[null,"Incidencia con directivos y docentes de instituciones educativas"]
[null,1,2]
[null,"IE"]
[null,"Nº","Participantes"]
[1,{"$f":"+GETPIVOTDATA(\" BAS041\",TABLAS!$A$108)","v":11},{"$f":"+GETPIVOTDATA(\" BAS042\",TABLAS!$A$108)","v":34},null,null,null,null,null,null,null,null,null,null,null,null,null,{"$f":"+R80+1","v":41},{"$f":"+Q86+1","v":42},null,null,null,{"$f":"IF(LEN(Q86)=1,CONCATENATE(\"00\",Q86),IF(LEN(Q86)=2,CONCATENATE(\"0\",Q86),Q86))","v":"041"},"042",null,null,null,{"$f":"$AC$24&V86&$AD$23","v":"=+IMPORTARDATOSDINAMICOS(\" BAS041\",TABLAS!$A$108)"},"=+IMPORTARDATOSDINAMICOS(\" BAS042\",TABLAS!$A$108)"]
[]
[null,"Capacitación a docentes y directivos de instituciones educativas "]
[null,null,null,1,2,3,4]
[null,null,null,"Docentes de IE del nivel Secuendaria",null,"Docentes de IE del nivel`Primaria"]
[null,"Tematica",null,"Nº","Participantes","Nº","Participantes"]
[1,"1er eje temático: Sexualidad.",null,{"$f":"+GETPIVOTDATA(\" BAS043\",TABLAS!$A$108)","v":4},{"$f":"+GETPIVOTDATA(\" BAS044\",TABLAS!$A$108)","v":14},{"$f":"+GETPIVOTDATA(\" BAS045\",TABLAS!$A$108)","v":2},{"$f":"+GETPIVOTDATA(\" BAS046\",TABLAS!$A$108)","v":2},null,null,null,null,null,null,null,null,null,{"$f":"+R86+1","v":43},{"$f":"+Q92+1","v":44},{"$f":"+R92+1","v":45},{"$f":"+S92+1","v":46},null,{"$f":"IF(LEN(Q92)=1,CONCATENATE(\"00\",Q92),IF(LEN(Q92)=2,CONCATENATE(\"0\",Q92),Q92))","v":"043"},"044","045","046",null,{"$f":"$AC$24&V92&$AD$23","v":"=+IMPORTARDATOSDINAMICOS(\" BAS043\",TABLAS!$A$108)"},"=+IMPORTARDATOSDINAMICOS(\" BAS044\",TABLAS!$A$108)","=+IMPORTARDATOSDINAMICOS(\" BAS045\",TABLAS!$A$108)","=+IMPORTARDATOSDINAMICOS(\" BAS046\",TABLAS!$A$108)"]
[2,"2do eje temático: Identidad.",null,{"$f":"+GETPIVOTDATA(\" BAS047\",TABLAS!$A$108)","v":4},{"$f":"+GETPIVOTDATA(\" BAS048\",TABLAS!$A$108)","v":14},{"$f":"+GETPIVOTDATA(\" BAS049\",TABLAS!$A$108)","v":3},{"$f":"+GETPIVOTDATA(\" BAS050\",TABLAS!$A$108)","v":4},null,null,null,null,null,null,null,null,null,{"$f":"+T92+1","v":47},{"$f":"+Q93+1","v":48},49,50,null,"047","048","049","050",null,"=+IMPORTARDATOSDINAMICOS(\" BAS047\",TABLAS!$A$108)","=+IMPORTARDATOSDINAMICOS(\" BAS048\",TABLAS!$A$108)","=+IMPORTARDATOSDINAMICOS(\" BAS049\",TABLAS!$A$108)","=+IMPORTARDATOSDINAMICOS(\" BAS050\",TABLAS!$A$108)"]
[3,"3er eje temático: Cambios en la Pubertad y Adolescencia.",null,{"$f":"+GETPIVOTDATA(\" BAS051\",TABLAS!$A$108)","v":1},{"$f":"+GETPIVOTDATA(\" BAS052\",TABLAS!$A$108)","v":9},{"$f":"+GETPIVOTDATA(\" BAS053\",TABLAS!$A$108)","v":0},{"$f":"+GETPIVOTDATA(\" BAS054\",TABLAS!$A$108)","v":0},null,null,null,null,null,null,null,null,null,{"$f":"+T93+1","v":51},52,53,54,null,"051","052","053","054",null,"=+IMPORTARDATOSDINAMICOS(\" BAS051\",TABLAS!$A$108)","=+IMPORTARDATOSDINAMICOS(\" BAS052\",TABLAS!$A$108)","=+IMPORTARDATOSDINAMICOS(\" BAS053\",TABLAS!$A$108)","=+IMPORTARDATOSDINAMICOS(\" BAS054\",TABLAS!$A$108)"]
[4,"4to eje temático: Igualdad de género.",null,{"$f":"+GETPIVOTDATA(\" BAS055\",TABLAS!$A$108)","v":1},{"$f":"+GETPIVOTDATA(\" BAS056\",TABLAS!$A$108)","v":9},{"$f":"+GETPIVOTDATA(\" BAS057\",TABLAS!$A$108)","v":0},{"$f":"+GETPIVOTDATA(\" BAS058\",TABLAS!$A$108)","v":0},null,null,null,null,null,null,null,null,null,55,56,57,58,null,"055","056","057","058",null,"=+IMPORTARDATOSDINAMICOS(\" BAS055\",TABLAS!$A$108)","=+IMPORTARDATOSDINAMICOS(\" BAS056\",TABLAS!$A$108)","=+IMPORTARDATOSDINAMICOS(\" BAS057\",TABLAS!$A$108)","=+IMPORTARDATOSDINAMICOS(\" BAS058\",TABLAS!$A$108)"]
[5,"5to eje temático: Relaciones afectivas y libres de violencia.",null,{"$f":"+GETPIVOTDATA(\" BAS059\",TABLAS!$A$108)","v":0},{"$f":"+GETPIVOTDATA(\" BAS060\",TABLAS!$A$108)","v":0},{"$f":"+GETPIVOTDATA(\" BAS061\",TABLAS!$A$108)","v":1},{"$f":"+GETPIVOTDATA(\" BAS062\",TABLAS!$A$108)","v":15},null,null,null,null,null,null,null,null,null,59,60,61,62,null,"059","060","061","062",null,"=+IMPORTARDATOSDINAMICOS(\" BAS059\",TABLAS!$A$108)","=+IMPORTARDATOSDINAMICOS(\" BAS060\",TABLAS!$A$108)","=+IMPORTARDATOSDINAMICOS(\" BAS061\",TABLAS!$A$108)","=+IMPORTARDATOSDINAMICOS(\" BAS062\",TABLAS!$A$108)"]
[6,"6to eje temático: Previniendo el abuso sexual y maltrato.",null,{"$f":"+GETPIVOTDATA(\" BAS063\",TABLAS!$A$108)","v":0},{"$f":"+GETPIVOTDATA(\" BAS064\",TABLAS!$A$108)","v":0},{"$f":"+GETPIVOTDATA(\" BAS065\",TABLAS!$A$108)","v":1},{"$f":"+GETPIVOTDATA(\" BAS066\",TABLAS!$A$108)","v":15},null,null,null,null,null,null,null,null,null,63,64,65,66,null,"063","064","065","066",null,"=+IMPORTARDATOSDINAMICOS(\" BAS063\",TABLAS!$A$108)","=+IMPORTARDATOSDINAMICOS(\" BAS064\",TABLAS!$A$108)","=+IMPORTARDATOSDINAMICOS(\" BAS065\",TABLAS!$A$108)","=+IMPORTARDATOSDINAMICOS(\" BAS066\",TABLAS!$A$108)"]
[7,"7to eje temático: Planificando el futuro.",null,{"$f":"+GETPIVOTDATA(\" BAS067\",TABLAS!$A$108)","v":1},{"$f":"+GETPIVOTDATA(\" BAS068\",TABLAS!$A$108)","v":28},{"$f":"+GETPIVOTDATA(\" BAS069\",TABLAS!$A$108)","v":0},{"$f":"+GETPIVOTDATA(\" BAS070\",TABLAS!$A$108)","v":0},null,null,null,null,null,null,null,null,null,67,68,69,70,null,"067","068","069","070",null,"=+IMPORTARDATOSDINAMICOS(\" BAS067\",TABLAS!$A$108)","=+IMPORTARDATOSDINAMICOS(\" BAS068\",TABLAS!$A$108)","=+IMPORTARDATOSDINAMICOS(\" BAS069\",TABLAS!$A$108)","=+IMPORTARDATOSDINAMICOS(\" BAS070\",TABLAS!$A$108)"]
[]
[]
[null,"Docentes capacitados que realizan sesiones de aprendizaje de salud sexual a los adolescentes"]
[null,null,null,1,2]
[null,null,null,"Docentes de IE del nivel Primaria"]
[null,"Tematica",null,"Nº","Participantes"]
[1,"1er eje temático: Sexualidad.",null,{"$f":"+GETPIVOTDATA(\" BAS071\",TABLAS!$A$108)","v":0},{"$f":"+GETPIVOTDATA(\" BAS072\",TABLAS!$A$108)","v":0},null,null,null,null,null,null,null,null,null,null,null,{"$f":"+T98+1","v":71},{"$f":"+Q105+1","v":72},null,null,null,{"$f":"IF(LEN(Q105)=1,CONCATENATE(\"00\",Q105),IF(LEN(Q105)=2,CONCATENATE(\"0\",Q105),Q105))","v":"071"},"072",null,null,null,{"$f":"$AC$24&V105&$AD$23","v":"=+IMPORTARDATOSDINAMICOS(\" BAS071\",TABLAS!$A$108)"},"=+IMPORTARDATOSDINAMICOS(\" BAS072\",TABLAS!$A$108)"]
[2,"2do eje temático: Identidad.",null,{"$f":"+GETPIVOTDATA(\" BAS073\",TABLAS!$A$108)","v":0},{"$f":"+GETPIVOTDATA(\" BAS074\",TABLAS!$A$108)","v":0},null,null,null,null,null,null,null,null,null,null,null,{"$f":"+R105+1","v":73},{"$f":"+Q106+1","v":74},null,null,null,"073","074",null,null,null,"=+IMPORTARDATOSDINAMICOS(\" BAS073\",TABLAS!$A$108)","=+IMPORTARDATOSDINAMICOS(\" BAS074\",TABLAS!$A$108)"]
[3,"3er eje temático: Cambios en la Pubertad y Adolescencia.",null,{"$f":"+GETPIVOTDATA(\" BAS075\",TABLAS!$A$108)","v":0},{"$f":"+GETPIVOTDATA(\" BAS076\",TABLAS!$A$108)","v":0},null,null,null,null,null,null,null,null,null,null,null,{"$f":"+R106+1","v":75},76,null,null,null,"075","076",null,null,null,"=+IMPORTARDATOSDINAMICOS(\" BAS075\",TABLAS!$A$108)","=+IMPORTARDATOSDINAMICOS(\" BAS076\",TABLAS!$A$108)"]
[4,"4to eje temático: Igualdad de género.",null,{"$f":"+GETPIVOTDATA(\" BAS077\",TABLAS!$A$108)","v":0},{"$f":"+GETPIVOTDATA(\" BAS078\",TABLAS!$A$108)","v":0},null,null,null,null,null,null,null,null,null,null,null,77,78,null,null,null,"077","078",null,null,null,"=+IMPORTARDATOSDINAMICOS(\" BAS077\",TABLAS!$A$108)","=+IMPORTARDATOSDINAMICOS(\" BAS078\",TABLAS!$A$108)"]
[5,"5to eje temático: Relaciones afectivas y libres de violencia.",null,{"$f":"+GETPIVOTDATA(\" BAS079\",TABLAS!$A$108)","v":0},{"$f":"+GETPIVOTDATA(\" BAS080\",TABLAS!$A$108)","v":0},null,null,null,null,null,null,null,null,null,null,null,79,80,null,null,null,"079","080",null,null,null,"=+IMPORTARDATOSDINAMICOS(\" BAS079\",TABLAS!$A$108)","=+IMPORTARDATOSDINAMICOS(\" BAS080\",TABLAS!$A$108)"]
[6,"6to eje temático: Previniendo el abuso sexual y maltrato.",null,{"$f":"+GETPIVOTDATA(\" BAS081\",TABLAS!$A$108)","v":0},{"$f":"+GETPIVOTDATA(\" BAS082\",TABLAS!$A$108)","v":0},null,null,null,null,null,null,null,null,null,null,null,81,82,null,null,null,"081","082",null,null,null,"=+IMPORTARDATOSDINAMICOS(\" BAS081\",TABLAS!$A$108)","=+IMPORTARDATOSDINAMICOS(\" BAS082\",TABLAS!$A$108)"]
[7,"7to eje temático: Planificando el futuro.",null,{"$f":"+GETPIVOTDATA(\" BAS083\",TABLAS!$A$108)","v":0},{"$f":"+GETPIVOTDATA(\" BAS084\",TABLAS!$A$108)","v":0},null,null,null,null,null,null,null,null,null,null,null,83,84,null,null,null,"083","084",null,null,null,"=+IMPORTARDATOSDINAMICOS(\" BAS083\",TABLAS!$A$108)","=+IMPORTARDATOSDINAMICOS(\" BAS084\",TABLAS!$A$108)"]
[]
[null,"SUB PRODUCTO: FUNCIONARIOS MUNICIPALES CAPACITADOS\nGESTIONAN ESPACIOS EDUCATIVOS PARA PROMOVER LA SALUD SEXUAL Y\nREPRODUCTIVA"]
[]
[null,"Acciones de incidencia y asesoramiento"]
[null,null,null,1]
[null,"Tematica",null,"Nº"]
[1,"CM: Implementación y funcionamiento de la Casa Materna",null,{"$f":"+GETPIVOTDATA(\" BAS085\",TABLAS!$A$108)","v":4},null,null,null,null,null,null,null,null,null,null,null,null,{"$f":"+R111+1","v":85},{"$f":"+Q118+1","v":86},null,null,null,{"$f":"IF(LEN(Q118)=1,CONCATENATE(\"00\",Q118),IF(LEN(Q118)=2,CONCATENATE(\"0\",Q118),Q118))","v":"085"},null,null,null,null,{"$f":"$AC$24&V118&$AD$23","v":"=+IMPORTARDATOSDINAMICOS(\" BAS085\",TABLAS!$A$108)"}]
[2,"CDJ: Implementación y funcionamiento de Centros de Desarrollo Juvenil.",null,{"$f":"+GETPIVOTDATA(\" BAS087\",TABLAS!$A$108)","v":2},null,null,null,null,null,null,null,null,null,null,null,null,{"$f":"+R118+1","v":87},{"$f":"+Q119+1","v":88},null,null,null,"087",null,null,null,null,"=+IMPORTARDATOSDINAMICOS(\" BAS087\",TABLAS!$A$108)"]
[3,"PEC: Si la reunión tiene como agenda la implementación de Programas educativos comunicacionales en salud sexual y reproductiva",null,{"$f":"+GETPIVOTDATA(\" BAS089\",TABLAS!$A$108)","v":2},null,null,null,null,null,null,null,null,null,null,null,null,{"$f":"+R119+1","v":89},90,null,null,null,"089",null,null,null,null,"=+IMPORTARDATOSDINAMICOS(\" BAS089\",TABLAS!$A$108)"]
[]
[null,"Capacitación a Funcionarios Municipales/Comité de Gestión Local/Comité Multisectorial de Salud."]
[null,null,null,1,2]
[null,"Tematica",null,"Nº","Nº DE PARTICIPANTES"]
[1,"CM: Implementación y funcionamiento de la Casa Materna",null,{"$f":"+GETPIVOTDATA(\" BAS091\",TABLAS!$A$108)","v":3},{"$f":"+GETPIVOTDATA(\" BAS092\",TABLAS!$A$108)","v":33},null,null,null,null,null,null,null,null,null,null,null,{"$f":"+R120+1","v":91},{"$f":"+Q125+1","v":92},null,null,null,{"$f":"IF(LEN(Q125)=1,CONCATENATE(\"00\",Q125),IF(LEN(Q125)=2,CONCATENATE(\"0\",Q125),Q125))","v":"091"},"092",null,null,null,{"$f":"$AC$24&V125&$AD$23","v":"=+IMPORTARDATOSDINAMICOS(\" BAS091\",TABLAS!$A$108)"},"=+IMPORTARDATOSDINAMICOS(\" BAS092\",TABLAS!$A$108)"]
[2,"CDJ: Implementación y funcionamiento de Centros de Desarrollo Juvenil.",null,{"$f":"+GETPIVOTDATA(\" BAS093\",TABLAS!$A$108)","v":1},{"$f":"+GETPIVOTDATA(\" BAS094\",TABLAS!$A$108)","v":10},null,null,null,null,null,null,null,null,null,null,null,{"$f":"+R125+1","v":93},{"$f":"+Q126+1","v":94},null,null,null,"093","094",null,null,null,"=+IMPORTARDATOSDINAMICOS(\" BAS093\",TABLAS!$A$108)","=+IMPORTARDATOSDINAMICOS(\" BAS094\",TABLAS!$A$108)"]
[3,"PEC: Si la reunión tiene como agenda la implementación de Programas educativos comunicacionales en salud sexual y reproductiva",null,{"$f":"+GETPIVOTDATA(\" BAS095\",TABLAS!$A$108)","v":0},{"$f":"+GETPIVOTDATA(\" BAS096\",TABLAS!$A$108)","v":0},null,null,null,null,null,null,null,null,null,null,null,{"$f":"+R126+1","v":95},96,null,null,null,"095","096",null,null,null,"=+IMPORTARDATOSDINAMICOS(\" BAS095\",TABLAS!$A$108)","=+IMPORTARDATOSDINAMICOS(\" BAS096\",TABLAS!$A$108)"]
[]
[null,"Reunión de Monitoreo con Funcionarios Municipales/Comité de Gestión Local/Comité Multisectorial de Salud para la implementación de espacios educativos para promover la salud sexual y reproductiva  "]
[null,null,null,1]
[null,"Tematica",null,"Nº"]
[1,"CM: Implementación y funcionamiento de la Casa Materna",null,{"$f":"+GETPIVOTDATA(\" BAS097\",TABLAS!$A$108)","v":0},null,null,null,null,null,null,null,null,null,null,null,null,{"$f":"+R127+1","v":97},{"$f":"+Q132+1","v":98},null,null,null,{"$f":"IF(LEN(Q132)=1,CONCATENATE(\"00\",Q132),IF(LEN(Q132)=2,CONCATENATE(\"0\",Q132),Q132))","v":"097"},null,null,null,null,{"$f":"$AC$24&V132&$AD$23","v":"=+IMPORTARDATOSDINAMICOS(\" BAS097\",TABLAS!$A$108)"}]
[2,"CDJ: Implementación y funcionamiento de Centros de Desarrollo Juvenil.",null,{"$f":"+GETPIVOTDATA(\" BAS099\",TABLAS!$A$108)","v":0},null,null,null,null,null,null,null,null,null,null,null,null,{"$f":"+R132+1","v":99},{"$f":"+Q133+1","v":100},null,null,null,"099",null,null,null,null,"=+IMPORTARDATOSDINAMICOS(\" BAS099\",TABLAS!$A$108)"]
[]
[null,"Reunión de Evaluación con Funcionarios Municipales/Comité de Gestión Local/Comité Multisectorial de Salud para el funcionamiento de espacios educativos que promuevan la salud sexual y reproductiva  "]
[null,null,null,1,2,3]
[null,"Tematica",null,"SE ENCUENTRA FUNCIONANDO",null,"NO SE ENCUENTRA FUNCIONANDO"]
[null,null,null,"Reuniones","Participantes","Reuniones"]
[1,"CM: Implementación y funcionamiento de la Casa Materna",null,{"$f":"+GETPIVOTDATA(\" BAS101\",TABLAS!$A$108)","v":0},{"$f":"+GETPIVOTDATA(\" BAS102\",TABLAS!$A$108)","v":0},{"$f":"+GETPIVOTDATA(\" BAS103\",TABLAS!$A$108)","v":0},null,null,null,null,null,null,null,null,null,null,{"$f":"+R133+1","v":101},{"$f":"+Q139+1","v":102},{"$f":"+R139+1","v":103},null,null,{"$f":"IF(LEN(Q139)=1,CONCATENATE(\"00\",Q139),IF(LEN(Q139)=2,CONCATENATE(\"0\",Q139),Q139))","v":101},102,103,null,null,{"$f":"$AC$24&V139&$AD$23","v":"=+IMPORTARDATOSDINAMICOS(\" BAS101\",TABLAS!$A$108)"},"=+IMPORTARDATOSDINAMICOS(\" BAS102\",TABLAS!$A$108)","=+IMPORTARDATOSDINAMICOS(\" BAS103\",TABLAS!$A$108)"]
[2,"CDJ: Implementación y funcionamiento de Centros de Desarrollo Juvenil.",null,{"$f":"+GETPIVOTDATA(\" BAS104\",TABLAS!$A$108)","v":0},{"$f":"+GETPIVOTDATA(\" BAS105\",TABLAS!$A$108)","v":0},{"$f":"+GETPIVOTDATA(\" BAS106\",TABLAS!$A$108)","v":0},null,null,null,null,null,null,null,null,null,null,{"$f":"+S139+1","v":104},{"$f":"+Q140+1","v":105},{"$f":"+R140+1","v":106},null,null,104,105,106,null,null,"=+IMPORTARDATOSDINAMICOS(\" BAS104\",TABLAS!$A$108)","=+IMPORTARDATOSDINAMICOS(\" BAS105\",TABLAS!$A$108)","=+IMPORTARDATOSDINAMICOS(\" BAS106\",TABLAS!$A$108)"]
[]
[]
[null,"TRAZADORES"]
[null,"SUB PRODUCTO - FAMILIAS DE LA GESTANTE Y PUÉRPERA QUE RECIBEN CONSEJERÍA EN EL HOGAR ATRAVÉS DE LA VISITA DOMICILIARIA PARA PROMOVER PRÁCTICAS SALUDABLES EN SALUD SEXUAL Y REPRODUCTIVA DURANTE LA VISITA DOMICILIARIA"]
[]
[null,"CONTAR DNI (CONDICIÓN= GESTANTE) + (FECHA DE ULTIMA REGLA =3º TRIMESTRE DE GESTACIÓN)/ (DX1= 99402.03+ LAB=2)+ (DX2=C0011)"]
[null,"CONTAR DNI (CONDICIÓN= GESTANTE) + (FECHA DE ULTIMA REGLA =3º TRIMESTRE DE GESTACIÓN)/ (DX1= 99402.03+LAB=2)+ (DX2=99499.08)"]
[]
[null,"Trazador",{"$f":"+GETPIVOTDATA(\" BAS107\",TABLAS!$A$108)","v":180}]
[]
[null,"SUB PRODUCTO: AGENTES COMUNITARIOS DE SALUD CAPACITADOS REALIZAN ORIENTACIÓN A FAMILIAS DE GESTANTES Y PUÉRPERAS EN PRÁCTICAS SALUDABLES EN SALUD SEXUAL Y REPRODUCTIVA"]
[null,"CONTAR DNI (CONDICIÓN= GESTANTE) + (FECHA DE ULTIMA REGLA =3º TRIMESTRE DE GESTACIÓN)/ (DX1= C2062+ LAB1=1+ LAB2=PDS+LAB3=\"BLANCO\")+ (DX2=C0011+LAB1=\"BLANCO\"+LAB2=\"BLANCO\"+LAB3=\"BLANCO\")"]
[null,"CONTAR DNI (CONDICIÓN= PUERPERA)/ (DX1= C2062+ LAB1=1+ LAB2=PDS+LAB3=\"BLANCO\")+ (DX2=C0011+LAB1=\"BLANCO\"+LAB2=\"BLANCO\"+LAB3=\"BLANCO\")"]
[]
[null,"Trazador",{"$f":"+GETPIVOTDATA(\" BAS108\",TABLAS!$A$108)","v":0}]
[]
[null,"SUB PRODUCTO: FAMILIA DE ADOLESCENTES QUE RECIBEN SESIONES EDUCATIVAS Y DEMOSTRATIVA PARA PROMOVER PRÁCTICAS SALUDABLES EN SALUD SEXUAL INTEGRAL."]
[null,"CONTAR APP146 / (DX1=C9+LAB1+LAB2=7+LAB3=2)"]
[]
[null,"Trazador",{"$f":"+GETPIVOTDATA(\" BAS109\",TABLAS!$A$108)","v":11}]
[]
[null,"SUB PRODUCTO: DOCENTES CAPACITADOS REALIZAN EDUCACIÓN SEXUAL INTEGRAL DESDE LA INSTITUCIÓN EDUCATIVA (Subproducto trazador de la Actividad 2)"]
[null,"TRAZADOR (PRIMARIA)"]
[null,"SUMAR LAB1 DE  APP144 / (DX1=C2+LAB1+LAB2=6+LAB3=TS) + (DX2=C5+ LAB1=2+LAB2=\"BLANCO\"+LAB3=\"BLANCO\")"]
[]
[null,"Trazador",{"$f":"+GETPIVOTDATA(\" BAS110\",TABLAS!$A$108)","v":0}]
[]
[null,"TRAZADOR (SECUNDARIA)"]
[null,"SUMAR LAB1 DE  APP144 / (DX1=C2+LAB1+LAB2=7+LAB3=TP) + (DX2=C5+ LAB1=2+LAB2=\"BLANCO\"+LAB3=\"BLANCO\")"]
[]
[null,"Trazador",{"$f":"+GETPIVOTDATA(\" BAS111\",TABLAS!$A$108)","v":0}]
[]
[null,"SUB PRODUCTO: FUNCIONARIOS MUNICIPALES CAPACITADOS GESTIONAN ESPACIOS EDUCATIVOS PARA PROMOVER LA SALUD SEXUAL Y REPRODUCTIVA"]
[null,"CONTAR APP96 / (DX1=C0001+ LAB1=CM+ LAB2=2+ LAB3=\"BLANCO\")+ (DX2=C7003+LAB1=\"2\"+LAB2=\"BLANCO\"+LAB3=\"BLANCO\")+"]
[null,"CONTAR APP96 / (DX1=C1+ LAB1=CDJ+ LAB2=2+ LAB3 =\"BLANCO\")+ (DX2=C6999+LAB1=\"2\"+LAB2=\"BLANCO\"+LAB3=\"BLANCO\")"]
[]
[null,"Trazador",{"$f":"+GETPIVOTDATA(\" BAS112\",TABLAS!$A$108)","v":0}]

{"sheet":"PP016","index":5,"n_rows":189,"n_cols":44,"rows_kept":189,"cut":false,"hidden":false,"merged":[[161,1,161,2],[53,2,53,5],[53,6,53,9],[4,1,4,9],[19,1,19,9],[23,1,23,2],[23,3,23,4],[29,1,29,2],[29,3,29,4],[33,1,33,9],[37,2,37,3],[37,4,37,5],[47,1,47,2],[47,3,47,4],[54,2,54,3],[54,4,54,5],[54,6,54,7],[54,8,54,9],[60,1,60,4],[60,5,60,8],[76,4,76,5],[76,6,76,7],[61,1,61,2],[61,3,61,4],[61,5,61,6],[61,7,61,8],[67,1,67,4],[67,5,67,8],[68,1,68,2],[68,3,68,4],[68,5,68,6],[68,7,68,8],[72,1,72,9],[94,1,94,4],[94,5,94,8],[77,1,77,3],[78,1,78,3],[79,1,79,3],[80,1,80,3],[81,1,81,3],[87,1,87,4],[87,5,87,8],[88,1,88,2],[88,3,88,4],[88,5,88,6],[88,7,88,8],[95,1,95,2],[95,3,95,4],[95,5,95,6],[95,7,95,8],[103,2,103,3],[103,4,103,5],[132,1,132,5],[111,1,112,1],[111,2,111,3],[111,4,111,5],[119,1,120,1],[119,2,119,3],[119,4,119,5],[157,1,157,2],[157,3,157,4],[157,5,157,6],[157,7,157,8],[8,3,8,4],[137,2,137,3],[137,4,137,5],[148,2,148,3],[148,4,148,5],[156,1,156,4],[156,5,156,8],[123,1,123,9],[128,1,128,5],[129,1,129,5],[130,1,130,5],[131,1,131,5]]}
[]
[]
[]
[]
[null,"\"REPORTE MENSUAL DE ACTIVIDADES - PROMOCIÓN DE LA SALUD\" 2021-2024"]
[]
[]
[null,"DIRESA/DISA/GERESA ",null,"EJECUTORA",null,null,"MES"]
[null,"CUSCO",null,{"$f":"+TABLAS!O14","v":""},null,null,{"$f":"+TABLAS!N26","v":"ENE - MAR"}]
[null,"RED "]
[null,{"$f":"+TABLAS!O9","v":"03 - LA CONVENCION"},null,null,null,null,"AÑO "]
[null,"MICRO RED",null,"PROVINCIA",null,null,{"$f":"+TABLAS!J16","v":"2025"}]
[null,{"$f":"+TABLAS!O10","v":""},null,{"$f":"+TABLAS!O12","v":""},null,null,{"$f":"+TABLAS!M20","v":0}]
[null,"IPRESS",null,"DISTRITO"]
[null,{"$f":"+TABLAS!O11","v":""},null,{"$f":"+TABLAS!O13","v":""},null,null,{"$f":"IF(G13=1,MID(A16,1,9)&\"_\"&MID(A16,13,20)&\"_\"&MID(G9,1,3)&\"_\"&G12,MID(A16,1,9)&\"_\"&MID(A16,13,20)&\"_\"&MID(G9,1,3)&\"_\"&MID(G9,7,3)&\"_\"&G12)","v":"__ENE_MAR_2025"}]
[]
[]
[null,"PRODUCTO: FAMILIAS CON PRÁCTICAS SALUDABLES PARA LA\nPREVENCION DE VIH/SIDA Y TUBERCULOSIS"]
[null,"ACTIVIDAD: PROMOVER EN LAS FAMILIA PRÁCTICAS SALUDABLES\nPARA LA PREVENCION DE VIH/SIDA Y TUBERCULOSIS"]
[null,"SUB PRODUCTO: FAMILIAS QUE RECIBEN CONSEJERÍA A TRAVÉS DE VISITA DOMICILIARIA PARA PROMOVER PRÁCTICAS Y ENTORNOS SALUDABLES PARA CONTRIBUIR A LA DISMINUCION DE LA TUBERCULOSIS Y VIH/SIDA (Subproducto trazador de la Actividad 1 y del Producto) "]
[]
[null,"Consejería integral a través de visitas domiciliarias en prácticas saludables y medidas preventivas (TBC)"]
[null,1,2,3,4]
[null,"Visita Familiar integral",null,"Teleorientación Sincrona",null,null,null,null,null,null,null,null,null,null,null,null,null,null,null,null,null,null,null,null,null,null,null,null,null,null,null,null,null,null,null,null,null,null,"\",TABLAS!$A$142)"]
[null,"1° Consejería","2° Consejería","1° Consejería","2° Consejería",null,null,null,null,null,null,null,null,null,null,null,null,null,null,null,null,null,null,null,null,null,null,null,null,null,null,null,null,null,null,null,null,"=+IMPORTARDATOSDINAMICOS(\" BAS"]
[1,{"$f":"+GETPIVOTDATA(\" BAS001\",TABLAS!$A$142)","v":3572},{"$f":"+GETPIVOTDATA(\" BAS002\",TABLAS!$A$142)","v":974},{"$f":"+GETPIVOTDATA(\" BAS003\",TABLAS!$A$142)","v":0},{"$f":"+GETPIVOTDATA(\" BAS004\",TABLAS!$A$142)","v":0},null,null,null,null,null,null,null,null,null,null,null,null,null,1,{"$f":"+S26+1","v":2},{"$f":"+T26+1","v":3},4,null,null,null,null,null,{"$f":"IF(LEN(S26)=1,CONCATENATE(\"00\",S26),IF(LEN(S26)=2,CONCATENATE(\"0\",S26),S26))","v":"001"},{"$f":"IF(LEN(T26)=1,CONCATENATE(\"00\",T26),IF(LEN(T26)=2,CONCATENATE(\"0\",T26),T26))","v":"002"},{"$f":"IF(LEN(U26)=1,CONCATENATE(\"00\",U26),IF(LEN(U26)=2,CONCATENATE(\"0\",U26),U26))","v":"003"},"004",null,null,null,null,null,{"$f":"+$AL$25&AB26&$AM$24","v":"=+IMPORTARDATOSDINAMICOS(\" BAS001\",TABLAS!$A$142)"},{"$f":"+$AL$25&AC26&$AM$24","v":"=+IMPORTARDATOSDINAMICOS(\" BAS002\",TABLAS!$A$142)"},"=+IMPORTARDATOSDINAMICOS(\" BAS003\",TABLAS!$A$142)","=+IMPORTARDATOSDINAMICOS(\" BAS004\",TABLAS!$A$142)"]
[]
[null,"Consejería en orientación para el ejercicio de una sexualidad saludable y segura, el auto cuidado del cuerpo y medidas preventivas (VIH/SIDA)"]
[null,1,2,3,4]
[null,"VISITA DOMICILIARIA",null,"TELESALUD"]
[null,"1° Consejería","2° Consejería","1° Consejería","2° Consejería"]
[2,{"$f":"+GETPIVOTDATA(\" BAS005\",TABLAS!$A$142)","v":3983},{"$f":"+GETPIVOTDATA(\" BAS006\",TABLAS!$A$142)","v":916},{"$f":"+GETPIVOTDATA(\" BAS007\",TABLAS!$A$142)","v":0},{"$f":"+GETPIVOTDATA(\" BAS008\",TABLAS!$A$142)","v":1},null,null,null,null,null,null,null,null,null,null,null,null,null,{"$f":"+V26+1","v":5},{"$f":"+S32+1","v":6},{"$f":"+T32+1","v":7},8,null,null,null,null,null,{"$f":"IF(LEN(S32)=1,CONCATENATE(\"00\",S32),IF(LEN(S32)=2,CONCATENATE(\"0\",S32),S32))","v":"005"},"006","007","008",null,null,null,null,null,{"$f":"+$AL$25&AB32&$AM$24","v":"=+IMPORTARDATOSDINAMICOS(\" BAS005\",TABLAS!$A$142)"},"=+IMPORTARDATOSDINAMICOS(\" BAS006\",TABLAS!$A$142)","=+IMPORTARDATOSDINAMICOS(\" BAS007\",TABLAS!$A$142)","=+IMPORTARDATOSDINAMICOS(\" BAS008\",TABLAS!$A$142)"]
[]
[null,"SUB PRODUCTO: FAMILIAS QUE RECIBEN SESIÓN EDUCATIVA Y DEMOSTRATIVA PARA PROMOVER PRÁCTICAS Y ENTORNOS SALUDABLES PARA CONTRIBUIR A LA DISMINUCION DE LA TUBERCULOSIS Y VIH/SIDA"]
[]
[null,"Sesiones Educativas y demostrativas"]
[null,null,1,2,3,4]
[null,null,"TBC",null,"VIH/SIDA"]
[null,"Sesiones educativas y demostrativas","Nº","Participantes","Nº","Participantes"]
[1,"1º sesión educativa y demostrativa",{"$f":"+GETPIVOTDATA(\" BAS009\",TABLAS!$A$142)","v":666},{"$f":"+GETPIVOTDATA(\" BAS010\",TABLAS!$A$142)","v":2413},{"$f":"+GETPIVOTDATA(\" BAS011\",TABLAS!$A$142)","v":632},{"$f":"+GETPIVOTDATA(\" BAS012\",TABLAS!$A$142)","v":2165},null,null,null,null,null,null,null,null,null,null,null,null,{"$f":"+V32+1","v":9},{"$f":"+S40+1","v":10},{"$f":"+T40+1","v":11},12,null,null,null,null,null,{"$f":"IF(LEN(S40)=1,CONCATENATE(\"00\",S40),IF(LEN(S40)=2,CONCATENATE(\"0\",S40),S40))","v":"009"},"010","011","012",null,null,null,null,null,{"$f":"+$AL$25&AB40&$AM$24","v":"=+IMPORTARDATOSDINAMICOS(\" BAS009\",TABLAS!$A$142)"},"=+IMPORTARDATOSDINAMICOS(\" BAS010\",TABLAS!$A$142)","=+IMPORTARDATOSDINAMICOS(\" BAS011\",TABLAS!$A$142)","=+IMPORTARDATOSDINAMICOS(\" BAS012\",TABLAS!$A$142)"]
[2,"2º sesión educativa y demostrativa",{"$f":"+GETPIVOTDATA(\" BAS013\",TABLAS!$A$142)","v":209},{"$f":"+GETPIVOTDATA(\" BAS014\",TABLAS!$A$142)","v":652},{"$f":"+GETPIVOTDATA(\" BAS015\",TABLAS!$A$142)","v":199},{"$f":"+GETPIVOTDATA(\" BAS016\",TABLAS!$A$142)","v":646},null,null,null,null,null,null,null,null,null,null,null,null,{"$f":"+V40+1","v":13},{"$f":"+S41+1","v":14},15,16,null,null,null,null,null,"013","014","015","016",null,null,null,null,null,"=+IMPORTARDATOSDINAMICOS(\" BAS013\",TABLAS!$A$142)","=+IMPORTARDATOSDINAMICOS(\" BAS014\",TABLAS!$A$142)","=+IMPORTARDATOSDINAMICOS(\" BAS015\",TABLAS!$A$142)","=+IMPORTARDATOSDINAMICOS(\" BAS016\",TABLAS!$A$142)"]
[]
[null,"ACTIVIDAD: CAPACITACIÓN A ACTORES SOCIALES QUE PROMOVEN PRACTICAS SALUDABLES PARA PREVENCION DE PRÁCTICAS SALUDABLES Y LA PREVENCIÓN DE LA TUBERCULOSIS, VIH/SIDA"]
[null,"SUBPRODUCTO: DOCENTES DE INSTITUCIONES EDUCATIVAS DESARROLLAN ACCIONES PARA LA PROMOCIÓN DE PRÁCTICAS SALUDABLES Y LA PREVENCIÓN DE LA TUBERCULOSIS, VIH/SIDA"]
[]
[null,"Incidencia con directivos y docentes de instituciones educativas:"]
[null,1,2,3,4]
[null,"TBC",null,"VIH/SIDA"]
[null,"Reunion","Participantes","Reunion","Participantes"]
[1,{"$f":"+GETPIVOTDATA(\" BAS017\",TABLAS!$A$142)","v":45},{"$f":"+GETPIVOTDATA(\" BAS018\",TABLAS!$A$142)","v":98},{"$f":"+GETPIVOTDATA(\" BAS019\",TABLAS!$A$142)","v":20},{"$f":"+GETPIVOTDATA(\" BAS020\",TABLAS!$A$142)","v":61},null,null,null,null,null,null,null,null,null,null,null,null,null,{"$f":"+V41+1","v":17},{"$f":"+S50+1","v":18},{"$f":"+T50+1","v":19},20,null,null,null,null,null,{"$f":"IF(LEN(S50)=1,CONCATENATE(\"00\",S50),IF(LEN(S50)=2,CONCATENATE(\"0\",S50),S50))","v":"017"},"018","019","020",null,null,null,null,null,{"$f":"+$AL$25&AB50&$AM$24","v":"=+IMPORTARDATOSDINAMICOS(\" BAS017\",TABLAS!$A$142)"},"=+IMPORTARDATOSDINAMICOS(\" BAS018\",TABLAS!$A$142)","=+IMPORTARDATOSDINAMICOS(\" BAS019\",TABLAS!$A$142)","=+IMPORTARDATOSDINAMICOS(\" BAS020\",TABLAS!$A$142)"]
[]
[null,"Capacitación a docentes y directivos de instituciones educativas "]
[null,null,1,2,3,4,5,6,7,8]
[null,null,"TBC",null,null,null,"VIH/SIDA"]
[null,null,"NIVEL PRIMARIO",null,"NIVEL SECUNDARIO",null,"NIVEL PRIMARIO",null,"NIVEL SECUNDARIO"]
[null,"Nº Asistencias Técnicas","Nº","Participantes","Nº","Participantes","Nº","Participantes","Nº","Participantes"]
[1,"1º AT",{"$f":"+GETPIVOTDATA(\" BAS021\",TABLAS!$A$142)","v":3},{"$f":"+GETPIVOTDATA(\" BAS022\",TABLAS!$A$142)","v":27},{"$f":"+GETPIVOTDATA(\" BAS023\",TABLAS!$A$142)","v":3},{"$f":"+GETPIVOTDATA(\" BAS024\",TABLAS!$A$142)","v":17},{"$f":"+GETPIVOTDATA(\" BAS025\",TABLAS!$A$142)","v":3},{"$f":"+GETPIVOTDATA(\" BAS026\",TABLAS!$A$142)","v":14},{"$f":"+GETPIVOTDATA(\" BAS027\",TABLAS!$A$142)","v":3},{"$f":"+GETPIVOTDATA(\" BAS028\",TABLAS!$A$142)","v":17},null,null,null,null,null,null,null,null,{"$f":"+V50+1","v":21},{"$f":"+S57+1","v":22},{"$f":"+T57+1","v":23},24,25,26,27,28,null,{"$f":"IF(LEN(S57)=1,CONCATENATE(\"00\",S57),IF(LEN(S57)=2,CONCATENATE(\"0\",S57),S57))","v":"021"},"022","023","024","025","026","027","028",null,{"$f":"+$AL$25&AB57&$AM$24","v":"=+IMPORTARDATOSDINAMICOS(\" BAS021\",TABLAS!$A$142)"},"=+IMPORTARDATOSDINAMICOS(\" BAS022\",TABLAS!$A$142)","=+IMPORTARDATOSDINAMICOS(\" BAS023\",TABLAS!$A$142)","=+IMPORTARDATOSDINAMICOS(\" BAS024\",TABLAS!$A$142)","=+IMPORTARDATOSDINAMICOS(\" BAS025\",TABLAS!$A$142)","=+IMPORTARDATOSDINAMICOS(\" BAS026\",TABLAS!$A$142)","=+IMPORTARDATOSDINAMICOS(\" BAS027\",TABLAS!$A$142)","=+IMPORTARDATOSDINAMICOS(\" BAS028\",TABLAS!$A$142)"]
[]
[null,"Acompañamiento al docente en la implementación de proyectos y/o sesiones de aprendizaje"]
[null,1,2,3,4,5,6,7,8]
[null,"TBC",null,null,null,"VIH/SIDA"]
[null,"NIVEL PRIMARIO",null,"NIVEL SECUNDARIO",null,"NIVEL PRIMARIO",null,"NIVEL SECUNDARIO"]
[null,"Reunion","Participantes","Reunion","Participantes","Reunion","Participantes","Reunion","Participantes"]
[1,{"$f":"+GETPIVOTDATA(\" BAS029\",TABLAS!$A$142)","v":1},{"$f":"+GETPIVOTDATA(\" BAS030\",TABLAS!$A$142)","v":2},{"$f":"+GETPIVOTDATA(\" BAS031\",TABLAS!$A$142)","v":0},{"$f":"+GETPIVOTDATA(\" BAS032\",TABLAS!$A$142)","v":0},{"$f":"+GETPIVOTDATA(\" BAS033\",TABLAS!$A$142)","v":0},{"$f":"+GETPIVOTDATA(\" BAS034\",TABLAS!$A$142)","v":0},{"$f":"+GETPIVOTDATA(\" BAS035\",TABLAS!$A$142)","v":0},{"$f":"+GETPIVOTDATA(\" BAS036\",TABLAS!$A$142)","v":0},null,null,null,null,null,null,null,null,null,{"$f":"+Z57+1","v":29},{"$f":"+S64+1","v":30},{"$f":"+T64+1","v":31},32,33,34,35,36,null,{"$f":"IF(LEN(S64)=1,CONCATENATE(\"00\",S64),IF(LEN(S64)=2,CONCATENATE(\"0\",S64),S64))","v":"029"},"030","031","032","033","034","035","036",null,{"$f":"+$AL$25&AB64&$AM$24","v":"=+IMPORTARDATOSDINAMICOS(\" BAS029\",TABLAS!$A$142)"},"=+IMPORTARDATOSDINAMICOS(\" BAS030\",TABLAS!$A$142)","=+IMPORTARDATOSDINAMICOS(\" BAS031\",TABLAS!$A$142)","=+IMPORTARDATOSDINAMICOS(\" BAS032\",TABLAS!$A$142)","=+IMPORTARDATOSDINAMICOS(\" BAS033\",TABLAS!$A$142)","=+IMPORTARDATOSDINAMICOS(\" BAS034\",TABLAS!$A$142)","=+IMPORTARDATOSDINAMICOS(\" BAS035\",TABLAS!$A$142)","=+IMPORTARDATOSDINAMICOS(\" BAS036\",TABLAS!$A$142)"]
[]
[null,"Acompañamiento al personal directivo en las acciones de monitoreo pedagógico de los proyectos de  y/o sesiones de aprendizaje "]
[null,1,2,3,4,5,6,7,8]
[null,"TBC",null,null,null,"VIH/SIDA"]
[null,"NIVEL PRIMARIO",null,"NIVEL SECUNDARIO",null,"NIVEL PRIMARIO",null,"NIVEL SECUNDARIO"]
[null,"Reunion","Participantes","Reunion","Participantes","Reunion","Participantes","Reunion","Participantes"]
[1,{"$f":"+GETPIVOTDATA(\" BAS037\",TABLAS!$A$142)","v":0},{"$f":"+GETPIVOTDATA(\" BAS038\",TABLAS!$A$142)","v":0},{"$f":"+GETPIVOTDATA(\" BAS039\",TABLAS!$A$142)","v":0},{"$f":"+GETPIVOTDATA(\" BAS040\",TABLAS!$A$142)","v":0},{"$f":"+GETPIVOTDATA(\" BAS041\",TABLAS!$A$142)","v":0},{"$f":"+GETPIVOTDATA(\" BAS042\",TABLAS!$A$142)","v":0},{"$f":"+GETPIVOTDATA(\" BAS043\",TABLAS!$A$142)","v":0},{"$f":"+GETPIVOTDATA(\" BAS044\",TABLAS!$A$142)","v":0},null,null,null,null,null,null,null,null,null,{"$f":"+Z64+1","v":37},{"$f":"+S71+1","v":38},{"$f":"+T71+1","v":39},40,41,42,43,44,null,{"$f":"IF(LEN(S71)=1,CONCATENATE(\"00\",S71),IF(LEN(S71)=2,CONCATENATE(\"0\",S71),S71))","v":"037"},"038","039","040","041","042","043","044",null,{"$f":"+$AL$25&AB71&$AM$24","v":"=+IMPORTARDATOSDINAMICOS(\" BAS037\",TABLAS!$A$142)"},"=+IMPORTARDATOSDINAMICOS(\" BAS038\",TABLAS!$A$142)","=+IMPORTARDATOSDINAMICOS(\" BAS039\",TABLAS!$A$142)","=+IMPORTARDATOSDINAMICOS(\" BAS040\",TABLAS!$A$142)","=+IMPORTARDATOSDINAMICOS(\" BAS041\",TABLAS!$A$142)","=+IMPORTARDATOSDINAMICOS(\" BAS042\",TABLAS!$A$142)","=+IMPORTARDATOSDINAMICOS(\" BAS043\",TABLAS!$A$142)","=+IMPORTARDATOSDINAMICOS(\" BAS044\",TABLAS!$A$142)"]
[]
[null,"SUBPRODUCTO: COMUNIDADES CON LIDERES CAPACITADOS DESARROLLAN VIGILANCIA COMUNITARIA EN FAVOR DE ENTORNOS Y PRACTICAS SALUDABLES Y LA PREVENCIÓN DE LA TUBERCULOSIS, VIH/SIDA. (Trazador de actividad 2)"]
[]
[null,"FASE 1: PLANIFICACIÓN"]
[null,null,null,null,1,2,3,4]
[null,null,null,null,"TBC",null,"VIH SIDA"]
[null,"Tema",null,null,"Nº","Nº COMUNIDADES","Nº","Nº COMUNIDADES"]
[1,"Conformación del equipo para la implementación de la vigilancia comunitaria",null,null,{"$f":"+GETPIVOTDATA(\" BAS045\",TABLAS!$A$142)","v":103},{"$f":"+GETPIVOTDATA(\" BAS046\",TABLAS!$A$142)","v":0},{"$f":"+GETPIVOTDATA(\" BAS047\",TABLAS!$A$142)","v":93},{"$f":"+GETPIVOTDATA(\" BAS048\",TABLAS!$A$142)","v":0},null,null,null,null,null,null,null,null,null,null,{"$f":"+Z71+1","v":45},{"$f":"+S79+1","v":46},{"$f":"+T79+1","v":47},48,null,null,null,null,null,{"$f":"IF(LEN(S79)=1,CONCATENATE(\"00\",S79),IF(LEN(S79)=2,CONCATENATE(\"0\",S79),S79))","v":"045"},"046","047","048",null,null,null,null,null,{"$f":"+$AL$25&AB79&$AM$24","v":"=+IMPORTARDATOSDINAMICOS(\" BAS045\",TABLAS!$A$142)"},"=+IMPORTARDATOSDINAMICOS(\" BAS046\",TABLAS!$A$142)","=+IMPORTARDATOSDINAMICOS(\" BAS047\",TABLAS!$A$142)","=+IMPORTARDATOSDINAMICOS(\" BAS048\",TABLAS!$A$142)"]
[2,"Identificación y selección de comunidades en riesgo para el desarrollo de la vigilancia comunitaria",null,null,{"$f":"+GETPIVOTDATA(\" BAS049\",TABLAS!$A$142)","v":45},{"$f":"+GETPIVOTDATA(\" BAS050\",TABLAS!$A$142)","v":91},{"$f":"+GETPIVOTDATA(\" BAS051\",TABLAS!$A$142)","v":45},{"$f":"+GETPIVOTDATA(\" BAS052\",TABLAS!$A$142)","v":274},null,null,null,null,null,null,null,null,null,null,{"$f":"+V79+1","v":49},{"$f":"+S80+1","v":50},51,52,null,null,null,null,null,"049","050","051","052",null,null,null,null,null,"=+IMPORTARDATOSDINAMICOS(\" BAS049\",TABLAS!$A$142)","=+IMPORTARDATOSDINAMICOS(\" BAS050\",TABLAS!$A$142)","=+IMPORTARDATOSDINAMICOS(\" BAS051\",TABLAS!$A$142)","=+IMPORTARDATOSDINAMICOS(\" BAS052\",TABLAS!$A$142)"]
[3,"Identificación de organizaciones comunitarias con base en el padrón del gobierno local, incluyendo a\nlos Agentes Comunitarios de Salud.",null,null,{"$f":"+GETPIVOTDATA(\" BAS053\",TABLAS!$A$142)","v":6},{"$f":"+GETPIVOTDATA(\" BAS054\",TABLAS!$A$142)","v":0},{"$f":"+GETPIVOTDATA(\" BAS055\",TABLAS!$A$142)","v":4},{"$f":"+GETPIVOTDATA(\" BAS056\",TABLAS!$A$142)","v":0},null,null,null,null,null,null,null,null,null,null,{"$f":"+V80+1","v":53},54,55,56,null,null,null,null,null,"053","054","055","056",null,null,null,null,null,"=+IMPORTARDATOSDINAMICOS(\" BAS053\",TABLAS!$A$142)","=+IMPORTARDATOSDINAMICOS(\" BAS054\",TABLAS!$A$142)","=+IMPORTARDATOSDINAMICOS(\" BAS055\",TABLAS!$A$142)","=+IMPORTARDATOSDINAMICOS(\" BAS056\",TABLAS!$A$142)"]
[4,"Selección de contenidos claves, instrumentos y metodología para vigilar",null,null,{"$f":"+GETPIVOTDATA(\" BAS057\",TABLAS!$A$142)","v":5},{"$f":"+GETPIVOTDATA(\" BAS058\",TABLAS!$A$142)","v":0},{"$f":"+GETPIVOTDATA(\" BAS059\",TABLAS!$A$142)","v":7},{"$f":"+GETPIVOTDATA(\" BAS060\",TABLAS!$A$142)","v":0},null,null,null,null,null,null,null,null,null,null,57,58,59,60,null,null,null,null,null,"057","058","059","060",null,null,null,null,null,"=+IMPORTARDATOSDINAMICOS(\" BAS057\",TABLAS!$A$142)","=+IMPORTARDATOSDINAMICOS(\" BAS058\",TABLAS!$A$142)","=+IMPORTARDATOSDINAMICOS(\" BAS059\",TABLAS!$A$142)","=+IMPORTARDATOSDINAMICOS(\" BAS060\",TABLAS!$A$142)"]
[]
[null,"Capacitación en vigilancia comunitaria y prácticas y entornos saludables a agentes comunitarios y organizaciones comunitarias"]
[]
[null,"Para agentes comunitarios de salud (ACS):"]
[null,1,2,3,4,5,6,7,8]
[null,"TBC",null,null,null,"VIH"]
[null,"Para indicar Vigilancia Comunitaria",null,"Para prácticas saludables",null,"Para indicar Vigilancia Comunitaria",null,"Para prácticas saludables"]
[null,"Nº","Nº Participantes","Nº","Nº Participantes","Nº","Nº Participantes","Nº","Nº Participantes"]
[1,{"$f":"+GETPIVOTDATA(\" BAS061\",TABLAS!$A$142)","v":30},{"$f":"+GETPIVOTDATA(\" BAS062\",TABLAS!$A$142)","v":159},{"$f":"+GETPIVOTDATA(\" BAS063\",TABLAS!$A$142)","v":24},{"$f":"+GETPIVOTDATA(\" BAS064\",TABLAS!$A$142)","v":90},{"$f":"+GETPIVOTDATA(\" BAS065\",TABLAS!$A$142)","v":30},{"$f":"+GETPIVOTDATA(\" BAS066\",TABLAS!$A$142)","v":151},{"$f":"+GETPIVOTDATA(\" BAS067\",TABLAS!$A$142)","v":22},{"$f":"+GETPIVOTDATA(\" BAS068\",TABLAS!$A$142)","v":95},null,null,null,null,null,null,null,null,null,{"$f":"+V82+1","v":61},{"$f":"+S91+1","v":62},{"$f":"+T91+1","v":63},64,65,66,67,68,null,{"$f":"IF(LEN(S91)=1,CONCATENATE(\"00\",S91),IF(LEN(S91)=2,CONCATENATE(\"0\",S91),S91))","v":"061"},"062","063","064","065","066","067","068",null,{"$f":"+$AL$25&AB91&$AM$24","v":"=+IMPORTARDATOSDINAMICOS(\" BAS061\",TABLAS!$A$142)"},"=+IMPORTARDATOSDINAMICOS(\" BAS062\",TABLAS!$A$142)","=+IMPORTARDATOSDINAMICOS(\" BAS063\",TABLAS!$A$142)","=+IMPORTARDATOSDINAMICOS(\" BAS064\",TABLAS!$A$142)","=+IMPORTARDATOSDINAMICOS(\" BAS065\",TABLAS!$A$142)","=+IMPORTARDATOSDINAMICOS(\" BAS066\",TABLAS!$A$142)","=+IMPORTARDATOSDINAMICOS(\" BAS067\",TABLAS!$A$142)","=+IMPORTARDATOSDINAMICOS(\" BAS068\",TABLAS!$A$142)"]
[]
[null,"Para organizaciones comunitarias"]
[null,1,2,3,4,5,6,7,8]
[null,"TBC",null,null,null,"VIH"]
[null,"Para indicar Vigilancia Comunitaria",null,"Para prácticas saludables",null,"Para indicar Vigilancia Comunitaria",null,"Para prácticas saludables"]
[null,"Nº","Nº Participantes","Nº","Nº Participantes","Nº","Nº Participantes","Nº","Nº Participantes"]
[1,{"$f":"+GETPIVOTDATA(\" BAS069\",TABLAS!$A$142)","v":1},{"$f":"+GETPIVOTDATA(\" BAS070\",TABLAS!$A$142)","v":6},{"$f":"+GETPIVOTDATA(\" BAS071\",TABLAS!$A$142)","v":2},{"$f":"+GETPIVOTDATA(\" BAS072\",TABLAS!$A$142)","v":68},{"$f":"+GETPIVOTDATA(\" BAS073\",TABLAS!$A$142)","v":0},{"$f":"+GETPIVOTDATA(\" BAS074\",TABLAS!$A$142)","v":0},{"$f":"+GETPIVOTDATA(\" BAS075\",TABLAS!$A$142)","v":0},{"$f":"+GETPIVOTDATA(\" BAS076\",TABLAS!$A$142)","v":0},null,null,null,null,null,null,null,null,null,{"$f":"+Z91+1","v":69},{"$f":"+S98+1","v":70},{"$f":"+T98+1","v":71},72,73,74,75,76,null,{"$f":"IF(LEN(S98)=1,CONCATENATE(\"00\",S98),IF(LEN(S98)=2,CONCATENATE(\"0\",S98),S98))","v":"069"},"070","071","072","073","074","075","076",null,{"$f":"+$AL$25&AB98&$AM$24","v":"=+IMPORTARDATOSDINAMICOS(\" BAS069\",TABLAS!$A$142)"},"=+IMPORTARDATOSDINAMICOS(\" BAS070\",TABLAS!$A$142)","=+IMPORTARDATOSDINAMICOS(\" BAS071\",TABLAS!$A$142)","=+IMPORTARDATOSDINAMICOS(\" BAS072\",TABLAS!$A$142)","=+IMPORTARDATOSDINAMICOS(\" BAS073\",TABLAS!$A$142)","=+IMPORTARDATOSDINAMICOS(\" BAS074\",TABLAS!$A$142)","=+IMPORTARDATOSDINAMICOS(\" BAS075\",TABLAS!$A$142)","=+IMPORTARDATOSDINAMICOS(\" BAS076\",TABLAS!$A$142)"]
[]
[null,"FASE 2: EJECUCIÓN"]
[]
[null,"Aplicación de la vigilancia comunitaria "]
[null,null,1,2,3,4]
[null,"Tema","TBC",null,"VIH-SIDA"]
[null,"Nº vigilancia ","Nº","Nº Participantes","Nº","Nº Participantes"]
[1," Nº intervenciones ",{"$f":"+GETPIVOTDATA(\" BAS077\",TABLAS!$A$142)","v":119},{"$f":"+GETPIVOTDATA(\" BAS078\",TABLAS!$A$142)","v":277},{"$f":"+GETPIVOTDATA(\" BAS079\",TABLAS!$A$142)","v":112},{"$f":"+GETPIVOTDATA(\" BAS080\",TABLAS!$A$142)","v":275},null,null,null,null,null,null,null,null,null,null,null,null,{"$f":"+Z98+1","v":77},{"$f":"+S106+1","v":78},{"$f":"+T106+1","v":79},80,null,null,null,null,null,{"$f":"IF(LEN(S106)=1,CONCATENATE(\"00\",S106),IF(LEN(S106)=2,CONCATENATE(\"0\",S106),S106))","v":"077"},"078","079","080",null,null,null,null,null,{"$f":"+$AL$25&AB106&$AM$24","v":"=+IMPORTARDATOSDINAMICOS(\" BAS077\",TABLAS!$A$142)"},"=+IMPORTARDATOSDINAMICOS(\" BAS078\",TABLAS!$A$142)","=+IMPORTARDATOSDINAMICOS(\" BAS079\",TABLAS!$A$142)","=+IMPORTARDATOSDINAMICOS(\" BAS080\",TABLAS!$A$142)"]
[2,"4º intervención ",{"$f":"+GETPIVOTDATA(\" BAS081\",TABLAS!$A$142)","v":1},{"$f":"+GETPIVOTDATA(\" BAS082\",TABLAS!$A$142)","v":4},{"$f":"+GETPIVOTDATA(\" BAS083\",TABLAS!$A$142)","v":1},{"$f":"+GETPIVOTDATA(\" BAS084\",TABLAS!$A$142)","v":4},null,null,null,null,null,null,null,null,null,null,null,null,{"$f":"+V106+1","v":81},{"$f":"+S107+1","v":82},83,84,null,null,null,null,null,"081","082","083","084",null,null,null,null,null,"=+IMPORTARDATOSDINAMICOS(\" BAS081\",TABLAS!$A$142)","=+IMPORTARDATOSDINAMICOS(\" BAS082\",TABLAS!$A$142)","=+IMPORTARDATOSDINAMICOS(\" BAS083\",TABLAS!$A$142)","=+IMPORTARDATOSDINAMICOS(\" BAS084\",TABLAS!$A$142)"]
[]
[null,"FASE 3: ACOMPAÑAMIENTO O ASISTENCIA TÉCNICA"]
[]
[null,null,1,2,3,4]
[null,"Tema","TBC",null,"VIH SIDA"]
[null,null,"Reunion","Participantes","Reunion","Participantes"]
[1,"1° Asistencia Tecnica",{"$f":"+GETPIVOTDATA(\" BAS085\",TABLAS!$A$142)","v":0},{"$f":"+GETPIVOTDATA(\" BAS086\",TABLAS!$A$142)","v":0},{"$f":"+GETPIVOTDATA(\" BAS087\",TABLAS!$A$142)","v":0},{"$f":"+GETPIVOTDATA(\" BAS088\",TABLAS!$A$142)","v":0},null,null,null,null,null,null,null,null,null,null,null,null,{"$f":"+V107+1","v":85},{"$f":"+S114+1","v":86},{"$f":"+T114+1","v":87},88,null,null,null,null,null,{"$f":"IF(LEN(S114)=1,CONCATENATE(\"00\",S114),IF(LEN(S114)=2,CONCATENATE(\"0\",S114),S114))","v":"085"},"086","087","088",null,null,null,null,null,{"$f":"+$AL$25&AB114&$AM$24","v":"=+IMPORTARDATOSDINAMICOS(\" BAS085\",TABLAS!$A$142)"},"=+IMPORTARDATOSDINAMICOS(\" BAS086\",TABLAS!$A$142)","=+IMPORTARDATOSDINAMICOS(\" BAS087\",TABLAS!$A$142)","=+IMPORTARDATOSDINAMICOS(\" BAS088\",TABLAS!$A$142)"]
[2,"2° Asistencia Tecnica",{"$f":"+GETPIVOTDATA(\" BAS089\",TABLAS!$A$142)","v":0},{"$f":"+GETPIVOTDATA(\" BAS090\",TABLAS!$A$142)","v":0},{"$f":"+GETPIVOTDATA(\" BAS091\",TABLAS!$A$142)","v":0},{"$f":"+GETPIVOTDATA(\" BAS092\",TABLAS!$A$142)","v":0},null,null,null,null,null,null,null,null,null,null,null,null,{"$f":"+V114+1","v":89},{"$f":"+S115+1","v":90},91,92,null,null,null,null,null,"089","090","091","092",null,null,null,null,null,"=+IMPORTARDATOSDINAMICOS(\" BAS089\",TABLAS!$A$142)","=+IMPORTARDATOSDINAMICOS(\" BAS090\",TABLAS!$A$142)","=+IMPORTARDATOSDINAMICOS(\" BAS091\",TABLAS!$A$142)","=+IMPORTARDATOSDINAMICOS(\" BAS092\",TABLAS!$A$142)"]
[]
[null,"FASE 4: EVALUACIÓN"]
[]
[null,null,1,2,3,4]
[null,"Tema","TBC",null,"VIH SIDA"]
[null,null,"Reunion","Participantes","Reunion","Participantes"]
[1,"Evaluación",{"$f":"+GETPIVOTDATA(\" BAS093\",TABLAS!$A$142)","v":0},{"$f":"+GETPIVOTDATA(\" BAS094\",TABLAS!$A$142)","v":0},{"$f":"+GETPIVOTDATA(\" BAS095\",TABLAS!$A$142)","v":0},{"$f":"+GETPIVOTDATA(\" BAS096\",TABLAS!$A$142)","v":0},null,null,null,null,null,null,null,null,null,null,null,null,{"$f":"+V115+1","v":93},{"$f":"+S122+1","v":94},{"$f":"+T122+1","v":95},96,null,null,null,null,null,{"$f":"IF(LEN(S122)=1,CONCATENATE(\"00\",S122),IF(LEN(S122)=2,CONCATENATE(\"0\",S122),S122))","v":"093"},"094","095","096",null,null,null,null,null,{"$f":"+$AL$25&AB122&$AM$24","v":"=+IMPORTARDATOSDINAMICOS(\" BAS093\",TABLAS!$A$142)"},"=+IMPORTARDATOSDINAMICOS(\" BAS094\",TABLAS!$A$142)","=+IMPORTARDATOSDINAMICOS(\" BAS095\",TABLAS!$A$142)","=+IMPORTARDATOSDINAMICOS(\" BAS096\",TABLAS!$A$142)"]
[]
[null,"SUBPRODUCTO 4395205: MUNICIPIOS IMPLEMENTAN ACCIONES PARA MEJORAR O MITIGAR LAS CONDICIONES QUE GENERAN RIESGO PARA ENFERMAR DE TUBERCULOSIS Y VIH/SIDA SEGÚN DISTRITOS/ PROVINCIAS PRIORIZADOS"]
[]
[null,"FASE 1: PLANIFICACIÓN"]
[]
[null,null,null,null,null,null,1,2]
[null,null,null,null,null,null,"TBC","VIH/SIDA"]
[1,"Reunión con el gobierno local, actores sociales públicos y privados en el comité multisectorial\no la que hagan sus veces para integrar la información relacionada a la situación de la\ntuberculosis y el VIH/SIDA –Sala Municipal de Salud.",null,null,null,null,{"$f":"+GETPIVOTDATA(\" BAS097\",TABLAS!$A$142)","v":4},{"$f":"+GETPIVOTDATA(\" BAS098\",TABLAS!$A$142)","v":3},null,null,null,null,null,null,null,null,null,null,{"$f":"+V122+1","v":97},{"$f":"+S130+1","v":98},null,null,null,null,null,null,null,{"$f":"IF(LEN(S130)=1,CONCATENATE(\"00\",S130),IF(LEN(S130)=2,CONCATENATE(\"0\",S130),S130))","v":"097"},"098",null,null,null,null,null,null,null,{"$f":"+$AL$25&AB130&$AM$24","v":"=+IMPORTARDATOSDINAMICOS(\" BAS097\",TABLAS!$A$142)"},"=+IMPORTARDATOSDINAMICOS(\" BAS098\",TABLAS!$A$142)"]
[2,"Reunión para sectorización y priorización territorial homologada entre Salud y el gobierno local,\ntomando como referencia el catastro municipal. ",null,null,null,null,{"$f":"+GETPIVOTDATA(\" BAS099\",TABLAS!$A$142)","v":1},{"$f":"+GETPIVOTDATA(\" BAS100\",TABLAS!$A$142)","v":1},null,null,null,null,null,null,null,null,null,null,{"$f":"+T130+1","v":99},{"$f":"+S131+1","v":100},null,null,null,null,null,null,null,"099",100,null,null,null,null,null,null,null,"=+IMPORTARDATOSDINAMICOS(\" BAS099\",TABLAS!$A$142)","=+IMPORTARDATOSDINAMICOS(\" BAS100\",TABLAS!$A$142)"]
[3,"Reunión para mapeo de actores sociales (actividades y recursos según actor social).",null,null,null,null,{"$f":"+GETPIVOTDATA(\" BAS101\",TABLAS!$A$142)","v":0},{"$f":"+GETPIVOTDATA(\" BAS102\",TABLAS!$A$142)","v":0},null,null,null,null,null,null,null,null,null,null,{"$f":"+T131+1","v":101},102,null,null,null,null,null,null,null,101,102,null,null,null,null,null,null,null,"=+IMPORTARDATOSDINAMICOS(\" BAS101\",TABLAS!$A$142)","=+IMPORTARDATOSDINAMICOS(\" BAS102\",TABLAS!$A$142)"]
[4,"Reunión de socialización periódica de información integrada, con el gobierno local, actores\nsociales públicos y privados en el comité multisectorial o la que hagan sus veces (trimestral)",null,null,null,null,{"$f":"+GETPIVOTDATA(\" BAS103\",TABLAS!$A$142)","v":0},{"$f":"+GETPIVOTDATA(\" BAS104\",TABLAS!$A$142)","v":0},null,null,null,null,null,null,null,null,null,null,103,104,null,null,null,null,null,null,null,103,104,null,null,null,null,null,null,null,"=+IMPORTARDATOSDINAMICOS(\" BAS103\",TABLAS!$A$142)","=+IMPORTARDATOSDINAMICOS(\" BAS104\",TABLAS!$A$142)"]
[]
[null,"FASE 2: ASISTENCIA TÉCNICA"]
[]
[null,null,1,2,3,4]
[null,null,"TBC",null,"VIH SIDA"]
[null,null,"Reunion","Participantes","Reunion","Participantes"]
[1,"(1) Plan de acción",{"$f":"+GETPIVOTDATA(\" BAS105\",TABLAS!$A$142)","v":0},{"$f":"+GETPIVOTDATA(\" BAS106\",TABLAS!$A$142)","v":0},{"$f":"+GETPIVOTDATA(\" BAS107\",TABLAS!$A$142)","v":0},{"$f":"+GETPIVOTDATA(\" BAS108\",TABLAS!$A$142)","v":0},null,null,null,null,null,null,null,null,null,null,null,null,{"$f":"+T133+1","v":105},{"$f":"+S140+1","v":106},{"$f":"+T140+1","v":107},108,null,null,null,null,null,{"$f":"IF(LEN(S140)=1,CONCATENATE(\"00\",S140),IF(LEN(S140)=2,CONCATENATE(\"0\",S140),S140))","v":105},106,107,108,null,null,null,null,null,{"$f":"+$AL$25&AB140&$AM$24","v":"=+IMPORTARDATOSDINAMICOS(\" BAS105\",TABLAS!$A$142)"},"=+IMPORTARDATOSDINAMICOS(\" BAS106\",TABLAS!$A$142)","=+IMPORTARDATOSDINAMICOS(\" BAS107\",TABLAS!$A$142)","=+IMPORTARDATOSDINAMICOS(\" BAS108\",TABLAS!$A$142)"]
[2,"(2) Programación presupuestal",{"$f":"+GETPIVOTDATA(\" BAS109\",TABLAS!$A$142)","v":0},{"$f":"+GETPIVOTDATA(\" BAS110\",TABLAS!$A$142)","v":0},{"$f":"+GETPIVOTDATA(\" BAS111\",TABLAS!$A$142)","v":0},{"$f":"+GETPIVOTDATA(\" BAS112\",TABLAS!$A$142)","v":0},null,null,null,null,null,null,null,null,null,null,null,null,{"$f":"+V140+1","v":109},{"$f":"+S141+1","v":110},111,112,null,null,null,null,null,109,110,111,112,null,null,null,null,null,"=+IMPORTARDATOSDINAMICOS(\" BAS109\",TABLAS!$A$142)","=+IMPORTARDATOSDINAMICOS(\" BAS110\",TABLAS!$A$142)","=+IMPORTARDATOSDINAMICOS(\" BAS111\",TABLAS!$A$142)","=+IMPORTARDATOSDINAMICOS(\" BAS112\",TABLAS!$A$142)"]
[3,"(3) Para los casos que se haya elaborado el Plan de acción y la Programación",{"$f":"+GETPIVOTDATA(\" BAS113\",TABLAS!$A$142)","v":0},{"$f":"+GETPIVOTDATA(\" BAS114\",TABLAS!$A$142)","v":0},{"$f":"+GETPIVOTDATA(\" BAS115\",TABLAS!$A$142)","v":0},{"$f":"+GETPIVOTDATA(\" BAS116\",TABLAS!$A$142)","v":0},null,null,null,null,null,null,null,null,null,null,null,null,{"$f":"+V141+1","v":113},114,115,116,null,null,null,null,null,113,114,115,116,null,null,null,null,null,"=+IMPORTARDATOSDINAMICOS(\" BAS113\",TABLAS!$A$142)","=+IMPORTARDATOSDINAMICOS(\" BAS114\",TABLAS!$A$142)","=+IMPORTARDATOSDINAMICOS(\" BAS115\",TABLAS!$A$142)","=+IMPORTARDATOSDINAMICOS(\" BAS116\",TABLAS!$A$142)"]
[]
[null,"FASE 3: MONITOREO Y EVALUACIÓN"]
[]
[null,"MONITOREO"]
[]
[null,null,1,2,3,4]
[null,null,"TBC",null,"VIH-SIDA"]
[null,"Nº Monitoreo","Número ","Participantes","Número ","Participantes"]
[1,"1º Monitoreo ",{"$f":"+GETPIVOTDATA(\" BAS117\",TABLAS!$A$142)","v":0},{"$f":"+GETPIVOTDATA(\" BAS118\",TABLAS!$A$142)","v":0},{"$f":"+GETPIVOTDATA(\" BAS119\",TABLAS!$A$142)","v":0},{"$f":"+GETPIVOTDATA(\" BAS120\",TABLAS!$A$142)","v":0},null,null,null,null,null,null,null,null,null,null,null,null,{"$f":"+V142+1","v":117},{"$f":"+S151+1","v":118},{"$f":"+T151+1","v":119},120,null,null,null,null,null,{"$f":"IF(LEN(S151)=1,CONCATENATE(\"00\",S151),IF(LEN(S151)=2,CONCATENATE(\"0\",S151),S151))","v":117},118,119,120,null,null,null,null,null,{"$f":"+$AL$25&AB151&$AM$24","v":"=+IMPORTARDATOSDINAMICOS(\" BAS117\",TABLAS!$A$142)"},"=+IMPORTARDATOSDINAMICOS(\" BAS118\",TABLAS!$A$142)","=+IMPORTARDATOSDINAMICOS(\" BAS119\",TABLAS!$A$142)","=+IMPORTARDATOSDINAMICOS(\" BAS120\",TABLAS!$A$142)"]
[2,"2º Monitoreo ",{"$f":"+GETPIVOTDATA(\" BAS121\",TABLAS!$A$142)","v":0},{"$f":"+GETPIVOTDATA(\" BAS122\",TABLAS!$A$142)","v":0},{"$f":"+GETPIVOTDATA(\" BAS123\",TABLAS!$A$142)","v":0},{"$f":"+GETPIVOTDATA(\" BAS124\",TABLAS!$A$142)","v":0},null,null,null,null,null,null,null,null,null,null,null,null,{"$f":"+V151+1","v":121},{"$f":"+S152+1","v":122},123,124,null,null,null,null,null,121,122,123,124,null,null,null,null,null,"=+IMPORTARDATOSDINAMICOS(\" BAS121\",TABLAS!$A$142)","=+IMPORTARDATOSDINAMICOS(\" BAS122\",TABLAS!$A$142)","=+IMPORTARDATOSDINAMICOS(\" BAS123\",TABLAS!$A$142)","=+IMPORTARDATOSDINAMICOS(\" BAS124\",TABLAS!$A$142)"]
[]
[null,"EVALUACIÓN"]
[]
[null,1,2,3,4,5,6,7,8]
[null,"TBC",null,null,null,"VIH-SIDA"]
[null,"Si cumplió más del 50% de actividades programadas",null,"Si cumplió menos del 50% de actividades programadas",null,"Si cumplió más del 50% de actividades programadas",null,"Si cumplió menos del 50% de actividades programadas"]
[null,"Número ","Participantes","Número ","Participantes","Número ","Participantes","Número ","Participantes"]
[1,{"$f":"+GETPIVOTDATA(\" BAS125\",TABLAS!$A$142)","v":0},{"$f":"+GETPIVOTDATA(\" BAS126\",TABLAS!$A$142)","v":0},{"$f":"+GETPIVOTDATA(\" BAS127\",TABLAS!$A$142)","v":0},{"$f":"+GETPIVOTDATA(\" BAS128\",TABLAS!$A$142)","v":0},{"$f":"+GETPIVOTDATA(\" BAS129\",TABLAS!$A$142)","v":0},{"$f":"+GETPIVOTDATA(\" BAS130\",TABLAS!$A$142)","v":0},{"$f":"+GETPIVOTDATA(\" BAS131\",TABLAS!$A$142)","v":0},{"$f":"+GETPIVOTDATA(\" BAS132\",TABLAS!$A$142)","v":0},null,null,null,null,null,null,null,null,null,{"$f":"+V152+1","v":125},{"$f":"+S160+1","v":126},{"$f":"+T160+1","v":127},128,129,130,131,132,null,{"$f":"IF(LEN(S160)=1,CONCATENATE(\"00\",S160),IF(LEN(S160)=2,CONCATENATE(\"0\",S160),S160))","v":125},126,127,128,129,130,131,132,null,{"$f":"+$AL$25&AB160&$AM$24","v":"=+IMPORTARDATOSDINAMICOS(\" BAS125\",TABLAS!$A$142)"},"=+IMPORTARDATOSDINAMICOS(\" BAS126\",TABLAS!$A$142)","=+IMPORTARDATOSDINAMICOS(\" BAS127\",TABLAS!$A$142)","=+IMPORTARDATOSDINAMICOS(\" BAS128\",TABLAS!$A$142)","=+IMPORTARDATOSDINAMICOS(\" BAS129\",TABLAS!$A$142)","=+IMPORTARDATOSDINAMICOS(\" BAS130\",TABLAS!$A$142)","=+IMPORTARDATOSDINAMICOS(\" BAS131\",TABLAS!$A$142)","=+IMPORTARDATOSDINAMICOS(\" BAS132\",TABLAS!$A$142)"]
[]
[null,"TRAZADORES"]
[null,"--SUB PRODUCTO: FAMILIAS QUE RECIBEN CONSEJERÍA A TRAVÉS DE VISITA DOMICILIARIA PARA PROMOVER PRÁCTICAS Y ENTORNOS SALUDABLES PARA CONTRIBUIR A LA DISMINUCION DE LA TUBERCULOSIS Y VIH/SIDA (Subproducto trazador de la Actividad 1 y del Producto)"]
[null,"--TRAZADOR:"]
[null,"--CONTAR DNI/ (DX1= 99401.36+LAB1=2) + (DX2=C0011+ LAB1=161) + "]
[null,"CONTAR DNI/ (DX1= 99401.36+LAB1=2) + (DX2=99499.08+ LAB1=161)"]
[]
[null,"Trazador",{"$f":"+GETPIVOTDATA(\" BAS133\",TABLAS!$A$142)","v":973}]
[]
[null,"SUB PRODUCTO: FAMILIAS QUE RECIBEN SESIÓN EDUCATIVA Y DEMOSTRATIVA PARA PROMOVER PRÁCTICAS Y ENTORNOS SALUDABLES PARA CONTRIBUIR A LA DISMINUCION DE LA TUBERCULOSIS Y VIH/SIDA"]
[null,"--TRAZADOR: "]
[null,"--SUMAR LAB 1 DE APP136/ (DX1=C0009+LAB1+LAB2=2+LAB3=\"BLANCO\") + (DX2=C0010+ LAB1=2+LAB2=161+LAB3=\"BLANCO\")"]
[]
[null,"Trazador",{"$f":"+GETPIVOTDATA(\" BAS134\",TABLAS!$A$142)","v":652}]
[]
[null,"Subproducto: DOCENTES DE INSTITUCIONES EDUCATIVAS DESARROLLAN ACCIONES PARA LA PROMOCIÓN DE PRÁCTICAS SALUDABLES Y LA PREVENCIÓN DE LA TUBERCULOSIS, VIH/SIDA"]
[null,"SUMAR LAB1 DE APP144 /(DX1= C5+LAB1+LAB2=TP+LAB3=161)"]
[]
[null,"Trazador",{"$f":"+GETPIVOTDATA(\" BAS135\",TABLAS!$A$142)","v":44}]
[]
[null,"--SUBPRODUCTO: COMUNIDADES CON LIDERES CAPACITADOS DESARROLLAN VIGILANCIA COMUNITARIA EN FAVOR DE ENTORNOS Y PRACTICAS SALUDABLES Y LA PREVENCIÓN DE LA TUBERCULOSIS, VIH/SIDA. (Trazador de actividad 2)"]
[null,"SUMAR LAB1 DE APP108/ (DX1= C21 + LAB1+LAB2=4+LAB3=161)"]
[]
[null,"Trazador",{"$f":"+GETPIVOTDATA(\" BAS136\",TABLAS!$A$142)","v":0}]
[]
[null,"--SUBPRODUCTO 4395205: MUNICIPIOS IMPLEMENTAN ACCIONES PARA MEJORAR O MITIGAR LAS CONDICIONES QUE GENERAN RIESGO PARA ENFERMAR DE TUBERCULOSIS Y VIH/SIDA SEGÚN DISTRITOS/ PROVINCIAS PRIORIZADOS"]
[null,"SUMAR LAB1 APP104/ (DX1= C7002 + LAB1+ LAB2=1+LAB3=161) + CONTAR APP104/ (DX1= C7002 + LAB1+ LAB2=2+LAB3=161)"]
[]
[null,"Trazador",{"$f":"+GETPIVOTDATA(\" BAS137\",TABLAS!$A$142)","v":0}]

{"sheet":"PP017","index":6,"n_rows":446,"n_cols":74,"rows_kept":446,"cut":false,"hidden":false,"merged":[[4,1,4,20],[17,0,330,0],[17,1,43,1],[21,4,21,7],[22,4,22,7],[23,4,23,7],[35,4,35,5],[36,4,36,5],[45,1,330,1],[49,5,49,8],[124,19,124,20],[62,5,62,8],[74,5,74,6],[74,7,74,8],[87,5,87,6],[87,7,87,8],[124,5,124,6],[124,7,124,8],[124,9,124,10],[124,11,124,12],[124,13,124,14],[124,15,124,16],[124,17,124,18],[189,5,189,8],[135,17,135,18],[135,19,135,20],[145,5,145,6],[145,7,145,8],[145,9,145,10],[145,11,145,12],[145,13,145,14],[135,5,135,6],[135,7,135,8],[135,9,135,10],[135,11,135,12],[135,13,135,14],[135,15,135,16],[155,5,155,6],[155,7,155,8],[155,9,155,10],[155,11,155,12],[155,13,155,14],[341,13,341,14],[203,5,203,8],[308,5,308,6],[308,7,308,8],[308,9,308,10],[308,11,308,12],[322,5,322,6],[322,7,322,8],[322,9,322,10],[322,11,322,12],[334,5,334,6],[334,7,334,8],[334,9,334,10],[334,11,334,12],[341,5,341,6],[348,5,348,7],[348,8,348,10],[357,4,358,4],[357,5,357,6],[357,7,357,8],[357,9,357,10],[394,4,395,4],[394,5,394,6],[394,7,394,8],[394,9,394,10],[370,4,371,4],[370,5,370,6],[370,7,370,8],[370,9,370,10],[381,4,382,4],[381,5,381,6],[381,7,381,8],[381,9,381,10],[8,8,8,10],[12,8,12,9],[14,8,14,9],[8,4,8,5],[10,4,10,5],[12,4,12,5],[14,4,14,5]]}
[]
[]
[]
[]
[null,"REPORTE MENSUAL DE ACTIVIDADES - PROMOCIÓN DE LA SALUD"]
[]
[]
[null,null,null,null,"DIRESA/DISA/GERESA ",null,null,null,"EJECUTORA",null,null,null,"MES"]
[null,null,null,null,"CUSCO",null,null,null,{"$f":"+TABLAS!O14","v":""},null,null,null,{"$f":"+TABLAS!N26","v":"ENE - MAR"}]
[null,null,null,null,"RED "]
[null,null,null,null,{"$f":"+TABLAS!O9","v":"03 - LA CONVENCION"},null,null,null,null,null,null,null,"AÑO "]
[null,null,null,null,"MICRO RED",null,null,null,"PROVINCIA",null,null,null,{"$f":"+TABLAS!J16","v":"2025"}]
[null,null,null,null,{"$f":"+TABLAS!O10","v":""},null,null,null,{"$f":"+TABLAS!O12","v":""},null,null,null,{"$f":"+TABLAS!M20","v":0}]
[null,null,null,null,"IPRESS",null,null,null,"DISTRITO"]
[null,null,null,null,{"$f":"+TABLAS!O11","v":""},null,null,null,{"$f":"+TABLAS!O13","v":""},null,null,null,{"$f":"IF(M13=1,MID(A15,1,9)&\"_\"&MID(A15,13,20)&\"_\"&MID(M9,1,3)&\"_\"&M12,MID(A15,1,9)&\"_\"&MID(A15,13,20)&\"_\"&MID(M9,1,3)&\"_\"&MID(M9,7,3)&\"_\"&M12)","v":"__ENE_MAR_2025"}]
[]
[]
["PROGRAMA PRESUPUESTAL ENFERMEDADES METAXENICAS Y ZOONOTICAS 017","ACTIVIDAD FAMILIAS",null,"1. FAMILIAS QUE DESARROLLAN PRÁCTICAS SALUDABLES PARA LA PREVENCIÓN DE LAS ENFERMEDADES METAXÉNICAS"]
[]
[null,null,null,null,"Consejeria (dengue)",null,null,null,null,null,null,null,null,null,null,null,null,null,null,null,null,null,null,null,null,null,null,null,null,null,null,null,null,null,null,null,null,null,null,null,null,null,null,null,null,null,null,null,null,null,null,null,null,null,null,null,null,null,null,null,"\";TABLAS!$A$176)",null,null,null,null,9]
[null,null,null,null,null,null,null,null,1,null,null,null,null,null,null,null,null,null,null,null,null,null,null,null,null,null,null,null,null,null,null,null,null,null,null,null,null,null,null,null,null,null,null,null,null,null,null,null,null,null,null,null,null,null,null,null,null,null,null,"=+IMPORTARDATOSDINAMICOS(\" BAS"]
[null,null,null,null,"Tematica",null,null,null,"Nº"]
[null,null,null,1,"Sensibilizar a la familia sobre la importancia de\nla apertura de sus casas para intervenciones sanitaria",null,null,null,{"$f":"+GETPIVOTDATA(\" BAS001\",TABLAS!$A$176)","v":11},null,null,null,null,null,null,null,null,null,null,null,null,null,null,null,1,null,null,null,null,null,null,null,null,null,null,null,null,null,null,null,null,{"$f":"IF(LEN(Y23)=1,CONCATENATE(\"00\",Y23),IF(LEN(Y23)=2,CONCATENATE(\"0\",Y23),Y23))","v":"001"},null,null,null,null,null,null,{"$f":"+$AL$24&AN23&$AM$23","v":""},"",null,{"$f":"+$AL$24&AQ23&$AM$23","v":""},null,null,null,null,null,null,{"$f":"+$BH$21&AP23&$BI$20","v":"=+IMPORTARDATOSDINAMICOS(\" BAS001\";TABLAS!$A$176)"}]
[null,null,null,2,"Higiene y ordenamiento de la vivienda\npara eliminación de criaderos\n",null,null,null,{"$f":"+GETPIVOTDATA(\" BAS002\",TABLAS!$A$176)","v":109},null,null,null,null,null,null,null,null,null,null,null,null,null,null,null,{"$f":"+Y23+1","v":2},null,null,null,null,null,null,null,null,null,null,null,null,null,null,null,null,{"$f":"IF(LEN(Y24)=1,CONCATENATE(\"00\",Y24),IF(LEN(Y24)=2,CONCATENATE(\"0\",Y24),Y24))","v":"002"},null,null,null,null,null,null,null,null,null,null,null,null,null,null,null,null,{"$f":"+$BH$21&AP24&$BI$20","v":"=+IMPORTARDATOSDINAMICOS(\" BAS002\";TABLAS!$A$176)"}]
[]
[null,null,null,null,"Sesión demostrativa","usp_TRAMA_BASE_PROMSA_RPT04_PP017_1_1"]
[null,null,null,null,null,1,2,3,4,5,6,7,8]
[null,null,null,null,"Sesión demostrativa","Malaria (01)","Dengue (05)","Chikungunya (02)","Zika (03)","Bartonelosis (06)","Fiebre Amarilla (07)","Chagas (08)","Leishmaniosis (09)"]
[null,null,null,3,"1º Sesión ",{"$f":"+GETPIVOTDATA(\" BAS003\",TABLAS!$A$176)","v":1668},{"$f":"+GETPIVOTDATA(\" BAS004\",TABLAS!$A$176)","v":4845},{"$f":"+GETPIVOTDATA(\" BAS005\",TABLAS!$A$176)","v":359},{"$f":"+GETPIVOTDATA(\" BAS006\",TABLAS!$A$176)","v":63},{"$f":"+GETPIVOTDATA(\" BAS007\",TABLAS!$A$176)","v":832},{"$f":"+GETPIVOTDATA(\" BAS008\",TABLAS!$A$176)","v":349},{"$f":"+GETPIVOTDATA(\" BAS009\",TABLAS!$A$176)","v":31},{"$f":"+GETPIVOTDATA(\" BAS010\",TABLAS!$A$176)","v":1276},null,null,null,null,null,null,null,null,null,null,null,{"$f":"+Y24+1","v":3},{"$f":"+Y29+1","v":4},{"$f":"+Z29+1","v":5},6,7,8,9,10,null,null,null,null,null,null,null,null,null,{"$f":"IF(LEN(Y29)=1,CONCATENATE(\"00\",Y29),IF(LEN(Y29)=2,CONCATENATE(\"0\",Y29),Y29))","v":"003"},"004","005","006","007","008","009","010",null,null,null,null,null,null,null,null,null,{"$f":"+$BH$21&AP29&$BI$20","v":"=+IMPORTARDATOSDINAMICOS(\" BAS003\";TABLAS!$A$176)"},"=+IMPORTARDATOSDINAMICOS(\" BAS004\";TABLAS!$A$176)","=+IMPORTARDATOSDINAMICOS(\" BAS005\";TABLAS!$A$176)","=+IMPORTARDATOSDINAMICOS(\" BAS006\";TABLAS!$A$176)","=+IMPORTARDATOSDINAMICOS(\" BAS007\";TABLAS!$A$176)","=+IMPORTARDATOSDINAMICOS(\" BAS008\";TABLAS!$A$176)","=+IMPORTARDATOSDINAMICOS(\" BAS009\";TABLAS!$A$176)","=+IMPORTARDATOSDINAMICOS(\" BAS010\";TABLAS!$A$176)"]
[null,null,null,4,"2º Sesión ",{"$f":"+GETPIVOTDATA(\" BAS011\",TABLAS!$A$176)","v":426},{"$f":"+GETPIVOTDATA(\" BAS012\",TABLAS!$A$176)","v":1519},{"$f":"+GETPIVOTDATA(\" BAS013\",TABLAS!$A$176)","v":55},{"$f":"+GETPIVOTDATA(\" BAS014\",TABLAS!$A$176)","v":2},{"$f":"+GETPIVOTDATA(\" BAS015\",TABLAS!$A$176)","v":240},{"$f":"+GETPIVOTDATA(\" BAS016\",TABLAS!$A$176)","v":111},{"$f":"+GETPIVOTDATA(\" BAS017\",TABLAS!$A$176)","v":1},{"$f":"+GETPIVOTDATA(\" BAS018\",TABLAS!$A$176)","v":339},null,null,null,null,null,null,null,null,null,null,null,{"$f":"+AF29+1","v":11},{"$f":"+Y30+1","v":12},13,14,15,16,17,18,null,null,null,null,null,null,null,null,null,"011","012","013","014","015","016","017","018",null,null,null,null,null,null,null,null,null,"=+IMPORTARDATOSDINAMICOS(\" BAS011\";TABLAS!$A$176)","=+IMPORTARDATOSDINAMICOS(\" BAS012\";TABLAS!$A$176)","=+IMPORTARDATOSDINAMICOS(\" BAS013\";TABLAS!$A$176)","=+IMPORTARDATOSDINAMICOS(\" BAS014\";TABLAS!$A$176)","=+IMPORTARDATOSDINAMICOS(\" BAS015\";TABLAS!$A$176)","=+IMPORTARDATOSDINAMICOS(\" BAS016\";TABLAS!$A$176)","=+IMPORTARDATOSDINAMICOS(\" BAS017\";TABLAS!$A$176)","=+IMPORTARDATOSDINAMICOS(\" BAS018\";TABLAS!$A$176)"]
[]
[null,null,null,"2. FAMILIAS QUE DESARROLLAN PRÁCTICAS SALUDABLES PARA LA PREVENCIÓN DE LAS ENFERMEDADES ZOONOTICAS"]
[]
[null,null,null,null,"Consejeria (rabia)"]
[null,null,null,null,null,null,1]
[null,null,null,null,"Tematica",null,"Nº"]
[null,null,null,5,"Consejeria triada preventiva de rabia",null,{"$f":"+GETPIVOTDATA(\" BAS019\",TABLAS!$A$176)","v":2711},null,null,null,null,null,null,null,null,null,null,null,null,null,null,null,null,null,{"$f":"+AF30+1","v":19},null,null,null,null,null,null,null,null,null,null,null,null,null,null,null,null,{"$f":"IF(LEN(Y37)=1,CONCATENATE(\"00\",Y37),IF(LEN(Y37)=2,CONCATENATE(\"0\",Y37),Y37))","v":"019"},null,null,null,null,null,null,null,null,null,null,null,null,null,null,null,null,{"$f":"+$BH$21&AP37&$BI$20","v":"=+IMPORTARDATOSDINAMICOS(\" BAS019\";TABLAS!$A$176)"}]
[]
[null,null,null,null,"Sesión educativa"]
[null,null,null,null,null,1,2,3,4,5]
[null,null,null,null,"Sesión demostrativa","Rabia (04)","Peste (010)","Leptospirosis (011)","Tifus (012)","Equinococosis (013)"]
[null,null,null,6,"1º Sesión ",{"$f":"+GETPIVOTDATA(\" BAS020\",TABLAS!$A$176)","v":2508},{"$f":"+GETPIVOTDATA(\" BAS021\",TABLAS!$A$176)","v":119},{"$f":"+GETPIVOTDATA(\" BAS022\",TABLAS!$A$176)","v":657},{"$f":"+GETPIVOTDATA(\" BAS023\",TABLAS!$A$176)","v":11},{"$f":"+GETPIVOTDATA(\" BAS024\",TABLAS!$A$176)","v":7},null,null,null,null,null,null,null,null,null,null,null,null,null,null,{"$f":"+Y37+1","v":20},{"$f":"+Y42+1","v":21},{"$f":"+Z42+1","v":22},23,24,null,null,null,null,null,null,null,null,null,null,null,null,{"$f":"IF(LEN(Y42)=1,CONCATENATE(\"00\",Y42),IF(LEN(Y42)=2,CONCATENATE(\"0\",Y42),Y42))","v":"020"},"021","022","023","024",null,null,null,null,null,null,null,null,null,null,null,null,{"$f":"+$BH$21&AP42&$BI$20","v":"=+IMPORTARDATOSDINAMICOS(\" BAS020\";TABLAS!$A$176)"},"=+IMPORTARDATOSDINAMICOS(\" BAS021\";TABLAS!$A$176)","=+IMPORTARDATOSDINAMICOS(\" BAS022\";TABLAS!$A$176)","=+IMPORTARDATOSDINAMICOS(\" BAS023\";TABLAS!$A$176)","=+IMPORTARDATOSDINAMICOS(\" BAS024\";TABLAS!$A$176)"]
[null,null,null,7,"2º Sesión ",{"$f":"+GETPIVOTDATA(\" BAS025\",TABLAS!$A$176)","v":543},{"$f":"+GETPIVOTDATA(\" BAS026\",TABLAS!$A$176)","v":10},{"$f":"+GETPIVOTDATA(\" BAS027\",TABLAS!$A$176)","v":54},{"$f":"+GETPIVOTDATA(\" BAS028\",TABLAS!$A$176)","v":4},{"$f":"+GETPIVOTDATA(\" BAS029\",TABLAS!$A$176)","v":0},null,null,null,null,null,null,null,null,null,null,null,null,null,null,{"$f":"+AC42+1","v":25},{"$f":"+Y43+1","v":26},27,28,29,null,null,null,null,null,null,null,null,null,null,null,null,"025","026","027","028","029",null,null,null,null,null,null,null,null,null,null,null,null,"=+IMPORTARDATOSDINAMICOS(\" BAS025\";TABLAS!$A$176)","=+IMPORTARDATOSDINAMICOS(\" BAS026\";TABLAS!$A$176)","=+IMPORTARDATOSDINAMICOS(\" BAS027\";TABLAS!$A$176)","=+IMPORTARDATOSDINAMICOS(\" BAS028\";TABLAS!$A$176)","=+IMPORTARDATOSDINAMICOS(\" BAS029\";TABLAS!$A$176)"]
[]
[]
[null,"ACTIVIDAD VIGILANCIA COMUNITARIA",null,"3. COMUNIDADES PRIORIZADAS EN EL DISTRITO QUE ESTÁN\nIMPLEMENTANDO LA VIGILANCIA COMUNITARIA ASOCIADA A ENFERMEDADES\nMETAXÉNICAS Y ZOONOTICAS"]
[null,null,null,null,"La implementación de la vigilancia comunitaria tiene los siguientes procesos"]
[null,null,null,null,"Metaxenicas "]
[null,null,null,null,null,1,2,3,4]
[null,null,null,null,null,"Tipo de proceso"]
[null,null,null,null,"Tematica","Conformación del equipo para la implementación de la Vigilancia Comunitaria.","Selección de comunidades a vigilar.","Nº DE COMUNIDADES","Elección de instrumentos y metodología para vigilar"]
[null,null,null,8,"Malaria (1)",{"$f":"+GETPIVOTDATA(\" BAS030\",TABLAS!$A$176)","v":0},{"$f":"+GETPIVOTDATA(\" BAS031\",TABLAS!$A$176)","v":19},{"$f":"+GETPIVOTDATA(\" BAS032\",TABLAS!$A$176)","v":35},{"$f":"+GETPIVOTDATA(\" BAS033\",TABLAS!$A$176)","v":0},null,null,null,null,null,null,null,null,null,null,null,null,null,null,null,{"$f":"+AC43+1","v":30},{"$f":"+Y52+1","v":31},{"$f":"+Z52+1","v":32},33,null,null,null,null,null,null,null,null,null,null,null,null,null,{"$f":"IF(LEN(Y52)=1,CONCATENATE(\"00\",Y52),IF(LEN(Y52)=2,CONCATENATE(\"0\",Y52),Y52))","v":"030"},"031","032","033",null,null,null,null,null,null,null,null,null,null,null,null,null,{"$f":"+$BH$21&AP52&$BI$20","v":"=+IMPORTARDATOSDINAMICOS(\" BAS030\";TABLAS!$A$176)"},"=+IMPORTARDATOSDINAMICOS(\" BAS031\";TABLAS!$A$176)","=+IMPORTARDATOSDINAMICOS(\" BAS032\";TABLAS!$A$176)","=+IMPORTARDATOSDINAMICOS(\" BAS033\";TABLAS!$A$176)"]
[null,null,null,9,"Dengue (5)",{"$f":"+GETPIVOTDATA(\" BAS034\",TABLAS!$A$176)","v":0},{"$f":"+GETPIVOTDATA(\" BAS035\",TABLAS!$A$176)","v":65},{"$f":"+GETPIVOTDATA(\" BAS036\",TABLAS!$A$176)","v":149},{"$f":"+GETPIVOTDATA(\" BAS037\",TABLAS!$A$176)","v":0},null,null,null,null,null,null,null,null,null,null,null,null,null,null,null,{"$f":"+AB52+1","v":34},{"$f":"+Y53+1","v":35},36,37,null,null,null,null,null,null,null,null,null,null,null,null,null,"034","035","036","037",null,null,null,null,null,null,null,null,null,null,null,null,null,"=+IMPORTARDATOSDINAMICOS(\" BAS034\";TABLAS!$A$176)","=+IMPORTARDATOSDINAMICOS(\" BAS035\";TABLAS!$A$176)","=+IMPORTARDATOSDINAMICOS(\" BAS036\";TABLAS!$A$176)","=+IMPORTARDATOSDINAMICOS(\" BAS037\";TABLAS!$A$176)"]
[null,null,null,10,"Chikungunya (2)",{"$f":"+GETPIVOTDATA(\" BAS038\",TABLAS!$A$176)","v":0},{"$f":"+GETPIVOTDATA(\" BAS039\",TABLAS!$A$176)","v":0},{"$f":"+GETPIVOTDATA(\" BAS040\",TABLAS!$A$176)","v":0},{"$f":"+GETPIVOTDATA(\" BAS041\",TABLAS!$A$176)","v":0},null,null,null,null,null,null,null,null,null,null,null,null,null,null,null,{"$f":"+AB53+1","v":38},39,40,41,null,null,null,null,null,null,null,null,null,null,null,null,null,"038","039","040","041",null,null,null,null,null,null,null,null,null,null,null,null,null,"=+IMPORTARDATOSDINAMICOS(\" BAS038\";TABLAS!$A$176)","=+IMPORTARDATOSDINAMICOS(\" BAS039\";TABLAS!$A$176)","=+IMPORTARDATOSDINAMICOS(\" BAS040\";TABLAS!$A$176)","=+IMPORTARDATOSDINAMICOS(\" BAS041\";TABLAS!$A$176)"]
[null,null,null,11,"Zika (3)",{"$f":"+GETPIVOTDATA(\" BAS042\",TABLAS!$A$176)","v":0},{"$f":"+GETPIVOTDATA(\" BAS043\",TABLAS!$A$176)","v":1},{"$f":"+GETPIVOTDATA(\" BAS044\",TABLAS!$A$176)","v":0},{"$f":"+GETPIVOTDATA(\" BAS045\",TABLAS!$A$176)","v":0},null,null,null,null,null,null,null,null,null,null,null,null,null,null,null,42,43,44,45,null,null,null,null,null,null,null,null,null,null,null,null,null,"042","043","044","045",null,null,null,null,null,null,null,null,null,null,null,null,null,"=+IMPORTARDATOSDINAMICOS(\" BAS042\";TABLAS!$A$176)","=+IMPORTARDATOSDINAMICOS(\" BAS043\";TABLAS!$A$176)","=+IMPORTARDATOSDINAMICOS(\" BAS044\";TABLAS!$A$176)","=+IMPORTARDATOSDINAMICOS(\" BAS045\";TABLAS!$A$176)"]
[null,null,null,12,"Bartonelosis (6)",{"$f":"+GETPIVOTDATA(\" BAS046\",TABLAS!$A$176)","v":0},{"$f":"+GETPIVOTDATA(\" BAS047\",TABLAS!$A$176)","v":0},{"$f":"+GETPIVOTDATA(\" BAS048\",TABLAS!$A$176)","v":81},{"$f":"+GETPIVOTDATA(\" BAS049\",TABLAS!$A$176)","v":0},null,null,null,null,null,null,null,null,null,null,null,null,null,null,null,46,47,48,49,null,null,null,null,null,null,null,null,null,null,null,null,null,"046","047","048","049",null,null,null,null,null,null,null,null,null,null,null,null,null,"=+IMPORTARDATOSDINAMICOS(\" BAS046\";TABLAS!$A$176)","=+IMPORTARDATOSDINAMICOS(\" BAS047\";TABLAS!$A$176)","=+IMPORTARDATOSDINAMICOS(\" BAS048\";TABLAS!$A$176)","=+IMPORTARDATOSDINAMICOS(\" BAS049\";TABLAS!$A$176)"]
[null,null,null,13,"Fiebre Amarilla (7)",{"$f":"+GETPIVOTDATA(\" BAS050\",TABLAS!$A$176)","v":0},{"$f":"+GETPIVOTDATA(\" BAS051\",TABLAS!$A$176)","v":3},{"$f":"+GETPIVOTDATA(\" BAS052\",TABLAS!$A$176)","v":13},{"$f":"+GETPIVOTDATA(\" BAS053\",TABLAS!$A$176)","v":0},null,null,null,null,null,null,null,null,null,null,null,null,null,null,null,50,51,52,53,null,null,null,null,null,null,null,null,null,null,null,null,null,"050","051","052","053",null,null,null,null,null,null,null,null,null,null,null,null,null,"=+IMPORTARDATOSDINAMICOS(\" BAS050\";TABLAS!$A$176)","=+IMPORTARDATOSDINAMICOS(\" BAS051\";TABLAS!$A$176)","=+IMPORTARDATOSDINAMICOS(\" BAS052\";TABLAS!$A$176)","=+IMPORTARDATOSDINAMICOS(\" BAS053\";TABLAS!$A$176)"]
[null,null,null,14,"Chagas (8)",{"$f":"+GETPIVOTDATA(\" BAS054\",TABLAS!$A$176)","v":0},{"$f":"+GETPIVOTDATA(\" BAS055\",TABLAS!$A$176)","v":0},{"$f":"+GETPIVOTDATA(\" BAS056\",TABLAS!$A$176)","v":0},{"$f":"+GETPIVOTDATA(\" BAS057\",TABLAS!$A$176)","v":0},null,null,null,null,null,null,null,null,null,null,null,null,null,null,null,54,55,56,57,null,null,null,null,null,null,null,null,null,null,null,null,null,"054","055","056","057",null,null,null,null,null,null,null,null,null,null,null,null,null,"=+IMPORTARDATOSDINAMICOS(\" BAS054\";TABLAS!$A$176)","=+IMPORTARDATOSDINAMICOS(\" BAS055\";TABLAS!$A$176)","=+IMPORTARDATOSDINAMICOS(\" BAS056\";TABLAS!$A$176)","=+IMPORTARDATOSDINAMICOS(\" BAS057\";TABLAS!$A$176)"]
[null,null,null,15,"Leishmaniosis (9)",{"$f":"+GETPIVOTDATA(\" BAS058\",TABLAS!$A$176)","v":0},{"$f":"+GETPIVOTDATA(\" BAS059\",TABLAS!$A$176)","v":36},{"$f":"+GETPIVOTDATA(\" BAS060\",TABLAS!$A$176)","v":101},{"$f":"+GETPIVOTDATA(\" BAS061\",TABLAS!$A$176)","v":0},null,null,null,null,null,null,null,null,null,null,null,null,null,null,null,58,59,60,61,null,null,null,null,null,null,null,null,null,null,null,null,null,"058","059","060","061",null,null,null,null,null,null,null,null,null,null,null,null,null,"=+IMPORTARDATOSDINAMICOS(\" BAS058\";TABLAS!$A$176)","=+IMPORTARDATOSDINAMICOS(\" BAS059\";TABLAS!$A$176)","=+IMPORTARDATOSDINAMICOS(\" BAS060\";TABLAS!$A$176)","=+IMPORTARDATOSDINAMICOS(\" BAS061\";TABLAS!$A$176)"]
[]
[null,null,null,null,"Zoonoticas"]
[null,null,null,null,null,1,2,3,4]
[null,null,null,null,null,"Tipo de proceso"]
[null,null,null,null,"Tematica","Conformación del equipo para la implementación de la Vigilancia Comunitaria.","Selección de comunidades a vigilar.","Nº DE COMUNIDADES","Elección de instrumentos y metodología para vigilar"]
[null,null,null,16,"Rabia (4)",{"$f":"+GETPIVOTDATA(\" BAS062\",TABLAS!$A$176)","v":0},{"$f":"+GETPIVOTDATA(\" BAS063\",TABLAS!$A$176)","v":63},{"$f":"+GETPIVOTDATA(\" BAS064\",TABLAS!$A$176)","v":75},{"$f":"+GETPIVOTDATA(\" BAS065\",TABLAS!$A$176)","v":0},null,null,null,null,null,null,null,null,null,null,null,null,null,null,null,{"$f":"+AB59+1","v":62},{"$f":"+Y65+1","v":63},{"$f":"+Z65+1","v":64},65,null,null,null,null,null,null,null,null,null,null,null,null,null,{"$f":"IF(LEN(Y65)=1,CONCATENATE(\"00\",Y65),IF(LEN(Y65)=2,CONCATENATE(\"0\",Y65),Y65))","v":"062"},"063","064","065",null,null,null,null,null,null,null,null,null,null,null,null,null,{"$f":"+$BH$21&AP65&$BI$20","v":"=+IMPORTARDATOSDINAMICOS(\" BAS062\";TABLAS!$A$176)"},"=+IMPORTARDATOSDINAMICOS(\" BAS063\";TABLAS!$A$176)","=+IMPORTARDATOSDINAMICOS(\" BAS064\";TABLAS!$A$176)","=+IMPORTARDATOSDINAMICOS(\" BAS065\";TABLAS!$A$176)"]
[null,null,null,17,"Peste (10)",{"$f":"+GETPIVOTDATA(\" BAS066\",TABLAS!$A$176)","v":0},{"$f":"+GETPIVOTDATA(\" BAS067\",TABLAS!$A$176)","v":0},{"$f":"+GETPIVOTDATA(\" BAS068\",TABLAS!$A$176)","v":0},{"$f":"+GETPIVOTDATA(\" BAS069\",TABLAS!$A$176)","v":0},null,null,null,null,null,null,null,null,null,null,null,null,null,null,null,{"$f":"+AB65+1","v":66},{"$f":"+Y66+1","v":67},68,69,null,null,null,null,null,null,null,null,null,null,null,null,null,"066","067","068","069",null,null,null,null,null,null,null,null,null,null,null,null,null,"=+IMPORTARDATOSDINAMICOS(\" BAS066\";TABLAS!$A$176)","=+IMPORTARDATOSDINAMICOS(\" BAS067\";TABLAS!$A$176)","=+IMPORTARDATOSDINAMICOS(\" BAS068\";TABLAS!$A$176)","=+IMPORTARDATOSDINAMICOS(\" BAS069\";TABLAS!$A$176)"]
[null,null,null,18,"Leptospirosis (11)",{"$f":"+GETPIVOTDATA(\" BAS070\",TABLAS!$A$176)","v":0},{"$f":"+GETPIVOTDATA(\" BAS071\",TABLAS!$A$176)","v":16},{"$f":"+GETPIVOTDATA(\" BAS072\",TABLAS!$A$176)","v":31},{"$f":"+GETPIVOTDATA(\" BAS073\",TABLAS!$A$176)","v":0},null,null,null,null,null,null,null,null,null,null,null,null,null,null,null,70,71,72,73,null,null,null,null,null,null,null,null,null,null,null,null,null,"070","071","072","073",null,null,null,null,null,null,null,null,null,null,null,null,null,"=+IMPORTARDATOSDINAMICOS(\" BAS070\";TABLAS!$A$176)","=+IMPORTARDATOSDINAMICOS(\" BAS071\";TABLAS!$A$176)","=+IMPORTARDATOSDINAMICOS(\" BAS072\";TABLAS!$A$176)","=+IMPORTARDATOSDINAMICOS(\" BAS073\";TABLAS!$A$176)"]
[null,null,null,19,"Tifus (12)",{"$f":"+GETPIVOTDATA(\" BAS074\",TABLAS!$A$176)","v":0},{"$f":"+GETPIVOTDATA(\" BAS075\",TABLAS!$A$176)","v":0},{"$f":"+GETPIVOTDATA(\" BAS076\",TABLAS!$A$176)","v":0},{"$f":"+GETPIVOTDATA(\" BAS077\",TABLAS!$A$176)","v":0},null,null,null,null,null,null,null,null,null,null,null,null,null,null,null,74,75,76,77,null,null,null,null,null,null,null,null,null,null,null,null,null,"074","075","076","077",null,null,null,null,null,null,null,null,null,null,null,null,null,"=+IMPORTARDATOSDINAMICOS(\" BAS074\";TABLAS!$A$176)","=+IMPORTARDATOSDINAMICOS(\" BAS075\";TABLAS!$A$176)","=+IMPORTARDATOSDINAMICOS(\" BAS076\";TABLAS!$A$176)","=+IMPORTARDATOSDINAMICOS(\" BAS077\";TABLAS!$A$176)"]
[null,null,null,20,"Equinococosis (13)",{"$f":"+GETPIVOTDATA(\" BAS078\",TABLAS!$A$176)","v":0},{"$f":"+GETPIVOTDATA(\" BAS079\",TABLAS!$A$176)","v":0},{"$f":"+GETPIVOTDATA(\" BAS080\",TABLAS!$A$176)","v":0},{"$f":"+GETPIVOTDATA(\" BAS081\",TABLAS!$A$176)","v":0},null,null,null,null,null,null,null,null,null,null,null,null,null,null,null,78,79,80,81,null,null,null,null,null,null,null,null,null,null,null,null,null,"078","079","080","081",null,null,null,null,null,null,null,null,null,null,null,null,null,"=+IMPORTARDATOSDINAMICOS(\" BAS078\";TABLAS!$A$176)","=+IMPORTARDATOSDINAMICOS(\" BAS079\";TABLAS!$A$176)","=+IMPORTARDATOSDINAMICOS(\" BAS080\";TABLAS!$A$176)","=+IMPORTARDATOSDINAMICOS(\" BAS081\";TABLAS!$A$176)"]
[]
[null,null,null,null,"Taller de capacitación a líderes comunitarios (LC) y agentes comunitarias de salud (ACS)"]
[]
[null,null,null,null,"Metaxenicas "]
[null,null,null,null,null,1,2,3,4]
[null,null,null,null,null,"Taller de Líderes comunitarios",null,"Talleres de Agentes Comunitarios de salud (PDS)"]
[null,null,null,null,"Tematica","N° Talleres","Participantes","N° Talleres","Participantes"]
[null,null,null,21,"Malaria (1)",{"$f":"+GETPIVOTDATA(\" BAS082\",TABLAS!$A$176)","v":0},{"$f":"+GETPIVOTDATA(\" BAS083\",TABLAS!$A$176)","v":0},{"$f":"+GETPIVOTDATA(\" BAS084\",TABLAS!$A$176)","v":1},{"$f":"+GETPIVOTDATA(\" BAS085\",TABLAS!$A$176)","v":22},null,null,null,null,null,null,null,null,null,null,null,null,null,null,null,{"$f":"+AB69+1","v":82},{"$f":"+Y77+1","v":83},{"$f":"+Z77+1","v":84},85,null,null,null,null,null,null,null,null,null,null,null,null,null,{"$f":"IF(LEN(Y77)=1,CONCATENATE(\"00\",Y77),IF(LEN(Y77)=2,CONCATENATE(\"0\",Y77),Y77))","v":"082"},"083","084","085",null,null,null,null,null,null,null,null,null,null,null,null,null,{"$f":"+$BH$21&AP77&$BI$20","v":"=+IMPORTARDATOSDINAMICOS(\" BAS082\";TABLAS!$A$176)"},"=+IMPORTARDATOSDINAMICOS(\" BAS083\";TABLAS!$A$176)","=+IMPORTARDATOSDINAMICOS(\" BAS084\";TABLAS!$A$176)","=+IMPORTARDATOSDINAMICOS(\" BAS085\";TABLAS!$A$176)"]
[null,null,null,22,"Dengue (5)",{"$f":"+GETPIVOTDATA(\" BAS086\",TABLAS!$A$176)","v":0},{"$f":"+GETPIVOTDATA(\" BAS087\",TABLAS!$A$176)","v":0},{"$f":"+GETPIVOTDATA(\" BAS088\",TABLAS!$A$176)","v":6},{"$f":"+GETPIVOTDATA(\" BAS089\",TABLAS!$A$176)","v":58},null,null,null,null,null,null,null,null,null,null,null,null,null,null,null,{"$f":"+AB77+1","v":86},{"$f":"+Y78+1","v":87},88,89,null,null,null,null,null,null,null,null,null,null,null,null,null,"086","087","088","089",null,null,null,null,null,null,null,null,null,null,null,null,null,"=+IMPORTARDATOSDINAMICOS(\" BAS086\";TABLAS!$A$176)","=+IMPORTARDATOSDINAMICOS(\" BAS087\";TABLAS!$A$176)","=+IMPORTARDATOSDINAMICOS(\" BAS088\";TABLAS!$A$176)","=+IMPORTARDATOSDINAMICOS(\" BAS089\";TABLAS!$A$176)"]
[null,null,null,23,"Chikungunya (2)",{"$f":"+GETPIVOTDATA(\" BAS090\",TABLAS!$A$176)","v":0},{"$f":"+GETPIVOTDATA(\" BAS091\",TABLAS!$A$176)","v":0},{"$f":"+GETPIVOTDATA(\" BAS092\",TABLAS!$A$176)","v":0},{"$f":"+GETPIVOTDATA(\" BAS093\",TABLAS!$A$176)","v":0},null,null,null,null,null,null,null,null,null,null,null,null,null,null,null,90,91,92,93,null,null,null,null,null,null,null,null,null,null,null,null,null,"090","091","092","093",null,null,null,null,null,null,null,null,null,null,null,null,null,"=+IMPORTARDATOSDINAMICOS(\" BAS090\";TABLAS!$A$176)","=+IMPORTARDATOSDINAMICOS(\" BAS091\";TABLAS!$A$176)","=+IMPORTARDATOSDINAMICOS(\" BAS092\";TABLAS!$A$176)","=+IMPORTARDATOSDINAMICOS(\" BAS093\";TABLAS!$A$176)"]
[null,null,null,24,"Zika (3)",{"$f":"+GETPIVOTDATA(\" BAS094\",TABLAS!$A$176)","v":0},{"$f":"+GETPIVOTDATA(\" BAS095\",TABLAS!$A$176)","v":0},{"$f":"+GETPIVOTDATA(\" BAS096\",TABLAS!$A$176)","v":0},{"$f":"+GETPIVOTDATA(\" BAS097\",TABLAS!$A$176)","v":0},null,null,null,null,null,null,null,null,null,null,null,null,null,null,null,94,95,96,97,null,null,null,null,null,null,null,null,null,null,null,null,null,"094","095","096","097",null,null,null,null,null,null,null,null,null,null,null,null,null,"=+IMPORTARDATOSDINAMICOS(\" BAS094\";TABLAS!$A$176)","=+IMPORTARDATOSDINAMICOS(\" BAS095\";TABLAS!$A$176)","=+IMPORTARDATOSDINAMICOS(\" BAS096\";TABLAS!$A$176)","=+IMPORTARDATOSDINAMICOS(\" BAS097\";TABLAS!$A$176)"]
[null,null,null,25,"Bartonelosis (6)",{"$f":"+GETPIVOTDATA(\" BAS098\",TABLAS!$A$176)","v":0},{"$f":"+GETPIVOTDATA(\" BAS099\",TABLAS!$A$176)","v":0},{"$f":"+GETPIVOTDATA(\" BAS100\",TABLAS!$A$176)","v":0},{"$f":"+GETPIVOTDATA(\" BAS101\",TABLAS!$A$176)","v":0},null,null,null,null,null,null,null,null,null,null,null,null,null,null,null,98,99,100,101,null,null,null,null,null,null,null,null,null,null,null,null,null,"098","099",100,101,null,null,null,null,null,null,null,null,null,null,null,null,null,"=+IMPORTARDATOSDINAMICOS(\" BAS098\";TABLAS!$A$176)","=+IMPORTARDATOSDINAMICOS(\" BAS099\";TABLAS!$A$176)","=+IMPORTARDATOSDINAMICOS(\" BAS100\";TABLAS!$A$176)","=+IMPORTARDATOSDINAMICOS(\" BAS101\";TABLAS!$A$176)"]
[null,null,null,26,"Fiebre Amarilla (7)",{"$f":"+GETPIVOTDATA(\" BAS102\",TABLAS!$A$176)","v":0},{"$f":"+GETPIVOTDATA(\" BAS103\",TABLAS!$A$176)","v":0},{"$f":"+GETPIVOTDATA(\" BAS104\",TABLAS!$A$176)","v":0},{"$f":"+GETPIVOTDATA(\" BAS105\",TABLAS!$A$176)","v":0},null,null,null,null,null,null,null,null,null,null,null,null,null,null,null,102,103,104,105,null,null,null,null,null,null,null,null,null,null,null,null,null,102,103,104,105,null,null,null,null,null,null,null,null,null,null,null,null,null,"=+IMPORTARDATOSDINAMICOS(\" BAS102\";TABLAS!$A$176)","=+IMPORTARDATOSDINAMICOS(\" BAS103\";TABLAS!$A$176)","=+IMPORTARDATOSDINAMICOS(\" BAS104\";TABLAS!$A$176)","=+IMPORTARDATOSDINAMICOS(\" BAS105\";TABLAS!$A$176)"]
[null,null,null,27,"Chagas (8)",{"$f":"+GETPIVOTDATA(\" BAS106\",TABLAS!$A$176)","v":0},{"$f":"+GETPIVOTDATA(\" BAS107\",TABLAS!$A$176)","v":0},{"$f":"+GETPIVOTDATA(\" BAS108\",TABLAS!$A$176)","v":0},{"$f":"+GETPIVOTDATA(\" BAS109\",TABLAS!$A$176)","v":0},null,null,null,null,null,null,null,null,null,null,null,null,null,null,null,106,107,108,109,null,null,null,null,null,null,null,null,null,null,null,null,null,106,107,108,109,null,null,null,null,null,null,null,null,null,null,null,null,null,"=+IMPORTARDATOSDINAMICOS(\" BAS106\";TABLAS!$A$176)","=+IMPORTARDATOSDINAMICOS(\" BAS107\";TABLAS!$A$176)","=+IMPORTARDATOSDINAMICOS(\" BAS108\";TABLAS!$A$176)","=+IMPORTARDATOSDINAMICOS(\" BAS109\";TABLAS!$A$176)"]
[null,null,null,28,"Leishmaniosis (9)",{"$f":"+GETPIVOTDATA(\" BAS110\",TABLAS!$A$176)","v":0},{"$f":"+GETPIVOTDATA(\" BAS111\",TABLAS!$A$176)","v":0},{"$f":"+GETPIVOTDATA(\" BAS112\",TABLAS!$A$176)","v":1},{"$f":"+GETPIVOTDATA(\" BAS113\",TABLAS!$A$176)","v":22},null,null,null,null,null,null,null,null,null,null,null,null,null,null,null,110,111,112,113,null,null,null,null,null,null,null,null,null,null,null,null,null,110,111,112,113,null,null,null,null,null,null,null,null,null,null,null,null,null,"=+IMPORTARDATOSDINAMICOS(\" BAS110\";TABLAS!$A$176)","=+IMPORTARDATOSDINAMICOS(\" BAS111\";TABLAS!$A$176)","=+IMPORTARDATOSDINAMICOS(\" BAS112\";TABLAS!$A$176)","=+IMPORTARDATOSDINAMICOS(\" BAS113\";TABLAS!$A$176)"]
[]
[null,null,null,null,"Zoonoticas"]
[null,null,null,null,null,1,2,3,4]
[null,null,null,null,null,"Taller de Líderes comunitarios",null,"Talleres de Agentes Comunitarios de salud (PDS)"]
[null,null,null,null,"Tematica","N° Talleres","Participantes","N° Talleres","Participantes"]
[null,null,null,29,"Rabia (4)",{"$f":"+GETPIVOTDATA(\" BAS114\",TABLAS!$A$176)","v":0},{"$f":"+GETPIVOTDATA(\" BAS115\",TABLAS!$A$176)","v":0},{"$f":"+GETPIVOTDATA(\" BAS116\",TABLAS!$A$176)","v":1},{"$f":"+GETPIVOTDATA(\" BAS117\",TABLAS!$A$176)","v":1},null,null,null,null,null,null,null,null,null,null,null,null,null,null,null,{"$f":"+AB84+1","v":114},{"$f":"+Y90+1","v":115},{"$f":"+Z90+1","v":116},117,null,null,null,null,null,null,null,null,null,null,null,null,null,{"$f":"IF(LEN(Y90)=1,CONCATENATE(\"00\",Y90),IF(LEN(Y90)=2,CONCATENATE(\"0\",Y90),Y90))","v":114},115,116,117,null,null,null,null,null,null,null,null,null,null,null,null,null,{"$f":"+$BH$21&AP90&$BI$20","v":"=+IMPORTARDATOSDINAMICOS(\" BAS114\";TABLAS!$A$176)"},"=+IMPORTARDATOSDINAMICOS(\" BAS115\";TABLAS!$A$176)","=+IMPORTARDATOSDINAMICOS(\" BAS116\";TABLAS!$A$176)","=+IMPORTARDATOSDINAMICOS(\" BAS117\";TABLAS!$A$176)"]
[null,null,null,30,"Peste (10)",{"$f":"+GETPIVOTDATA(\" BAS118\",TABLAS!$A$176)","v":0},{"$f":"+GETPIVOTDATA(\" BAS119\",TABLAS!$A$176)","v":0},{"$f":"+GETPIVOTDATA(\" BAS120\",TABLAS!$A$176)","v":0},{"$f":"+GETPIVOTDATA(\" BAS121\",TABLAS!$A$176)","v":0},null,null,null,null,null,null,null,null,null,null,null,null,null,null,null,{"$f":"+AB90+1","v":118},{"$f":"+Y91+1","v":119},120,121,null,null,null,null,null,null,null,null,null,null,null,null,null,118,119,120,121,null,null,null,null,null,null,null,null,null,null,null,null,null,"=+IMPORTARDATOSDINAMICOS(\" BAS118\";TABLAS!$A$176)","=+IMPORTARDATOSDINAMICOS(\" BAS119\";TABLAS!$A$176)","=+IMPORTARDATOSDINAMICOS(\" BAS120\";TABLAS!$A$176)","=+IMPORTARDATOSDINAMICOS(\" BAS121\";TABLAS!$A$176)"]
[null,null,null,31,"Leptospirosis (11)",{"$f":"+GETPIVOTDATA(\" BAS122\",TABLAS!$A$176)","v":0},{"$f":"+GETPIVOTDATA(\" BAS123\",TABLAS!$A$176)","v":0},{"$f":"+GETPIVOTDATA(\" BAS124\",TABLAS!$A$176)","v":0},{"$f":"+GETPIVOTDATA(\" BAS125\",TABLAS!$A$176)","v":0},null,null,null,null,null,null,null,null,null,null,null,null,null,null,null,122,123,124,125,null,null,null,null,null,null,null,null,null,null,null,null,null,122,123,124,125,null,null,null,null,null,null,null,null,null,null,null,null,null,"=+IMPORTARDATOSDINAMICOS(\" BAS122\";TABLAS!$A$176)","=+IMPORTARDATOSDINAMICOS(\" BAS123\";TABLAS!$A$176)","=+IMPORTARDATOSDINAMICOS(\" BAS124\";TABLAS!$A$176)","=+IMPORTARDATOSDINAMICOS(\" BAS125\";TABLAS!$A$176)"]
[null,null,null,32,"Tifus (12)",{"$f":"+GETPIVOTDATA(\" BAS126\",TABLAS!$A$176)","v":0},{"$f":"+GETPIVOTDATA(\" BAS127\",TABLAS!$A$176)","v":0},{"$f":"+GETPIVOTDATA(\" BAS128\",TABLAS!$A$176)","v":0},{"$f":"+GETPIVOTDATA(\" BAS129\",TABLAS!$A$176)","v":0},null,null,null,null,null,null,null,null,null,null,null,null,null,null,null,126,127,128,129,null,null,null,null,null,null,null,null,null,null,null,null,null,126,127,128,129,null,null,null,null,null,null,null,null,null,null,null,null,null,"=+IMPORTARDATOSDINAMICOS(\" BAS126\";TABLAS!$A$176)","=+IMPORTARDATOSDINAMICOS(\" BAS127\";TABLAS!$A$176)","=+IMPORTARDATOSDINAMICOS(\" BAS128\";TABLAS!$A$176)","=+IMPORTARDATOSDINAMICOS(\" BAS129\";TABLAS!$A$176)"]
[null,null,null,33,"Equinococosis (13)",{"$f":"+GETPIVOTDATA(\" BAS130\",TABLAS!$A$176)","v":0},{"$f":"+GETPIVOTDATA(\" BAS131\",TABLAS!$A$176)","v":0},{"$f":"+GETPIVOTDATA(\" BAS132\",TABLAS!$A$176)","v":0},{"$f":"+GETPIVOTDATA(\" BAS133\",TABLAS!$A$176)","v":0},null,null,null,null,null,null,null,null,null,null,null,null,null,null,null,130,131,132,133,null,null,null,null,null,null,null,null,null,null,null,null,null,130,131,132,133,null,null,null,null,null,null,null,null,null,null,null,null,null,"=+IMPORTARDATOSDINAMICOS(\" BAS130\";TABLAS!$A$176)","=+IMPORTARDATOSDINAMICOS(\" BAS131\";TABLAS!$A$176)","=+IMPORTARDATOSDINAMICOS(\" BAS132\";TABLAS!$A$176)","=+IMPORTARDATOSDINAMICOS(\" BAS133\";TABLAS!$A$176)"]
[]
[null,null,null,null,"Vigilancia comunitaria de puntos Críticos Identificados (PCI)"]
[]
[null,null,null,null,"Metaxenicas "]
[]
[null,null,null,null,null,1,2,3,4]
[null,null,null,null,"Tematica","1º INTERVENCIÓN ","2º INTERVENCIÓN ","3º INTERVENCIÓN ","4º INTERVENCIÓN "]
[null,null,null,34,"Malaria (1)",{"$f":"+GETPIVOTDATA(\" BAS134\",TABLAS!$A$176)","v":6},{"$f":"+GETPIVOTDATA(\" BAS135\",TABLAS!$A$176)","v":2},{"$f":"+GETPIVOTDATA(\" BAS136\",TABLAS!$A$176)","v":1},{"$f":"+GETPIVOTDATA(\" BAS137\",TABLAS!$A$176)","v":1},null,null,null,null,null,null,null,null,null,null,null,null,null,null,null,{"$f":"+AB94+1","v":134},{"$f":"+Y102+1","v":135},{"$f":"+Z102+1","v":136},137,null,null,null,null,null,null,null,null,null,null,null,null,null,{"$f":"IF(LEN(Y102)=1,CONCATENATE(\"00\",Y102),IF(LEN(Y102)=2,CONCATENATE(\"0\",Y102),Y102))","v":134},135,136,137,null,null,null,null,null,null,null,null,null,null,null,null,null,{"$f":"+$BH$21&AP102&$BI$20","v":"=+IMPORTARDATOSDINAMICOS(\" BAS134\";TABLAS!$A$176)"},"=+IMPORTARDATOSDINAMICOS(\" BAS135\";TABLAS!$A$176)","=+IMPORTARDATOSDINAMICOS(\" BAS136\";TABLAS!$A$176)","=+IMPORTARDATOSDINAMICOS(\" BAS137\";TABLAS!$A$176)"]
[null,null,null,35,"Dengue (5)",{"$f":"+GETPIVOTDATA(\" BAS138\",TABLAS!$A$176)","v":39},{"$f":"+GETPIVOTDATA(\" BAS139\",TABLAS!$A$176)","v":3},{"$f":"+GETPIVOTDATA(\" BAS140\",TABLAS!$A$176)","v":2},{"$f":"+GETPIVOTDATA(\" BAS141\",TABLAS!$A$176)","v":2},null,null,null,null,null,null,null,null,null,null,null,null,null,null,null,{"$f":"+AB102+1","v":138},{"$f":"+Y103+1","v":139},140,141,null,null,null,null,null,null,null,null,null,null,null,null,null,138,139,140,141,null,null,null,null,null,null,null,null,null,null,null,null,null,"=+IMPORTARDATOSDINAMICOS(\" BAS138\";TABLAS!$A$176)","=+IMPORTARDATOSDINAMICOS(\" BAS139\";TABLAS!$A$176)","=+IMPORTARDATOSDINAMICOS(\" BAS140\";TABLAS!$A$176)","=+IMPORTARDATOSDINAMICOS(\" BAS141\";TABLAS!$A$176)"]
[null,null,null,36,"Chikungunya (2)",{"$f":"+GETPIVOTDATA(\" BAS142\",TABLAS!$A$176)","v":0},{"$f":"+GETPIVOTDATA(\" BAS143\",TABLAS!$A$176)","v":0},{"$f":"+GETPIVOTDATA(\" BAS144\",TABLAS!$A$176)","v":0},{"$f":"+GETPIVOTDATA(\" BAS145\",TABLAS!$A$176)","v":0},null,null,null,null,null,null,null,null,null,null,null,null,null,null,null,142,143,144,145,null,null,null,null,null,null,null,null,null,null,null,null,null,142,143,144,145,null,null,null,null,null,null,null,null,null,null,null,null,null,"=+IMPORTARDATOSDINAMICOS(\" BAS142\";TABLAS!$A$176)","=+IMPORTARDATOSDINAMICOS(\" BAS143\";TABLAS!$A$176)","=+IMPORTARDATOSDINAMICOS(\" BAS144\";TABLAS!$A$176)","=+IMPORTARDATOSDINAMICOS(\" BAS145\";TABLAS!$A$176)"]
[null,null,null,37,"Zika (3)",{"$f":"+GETPIVOTDATA(\" BAS146\",TABLAS!$A$176)","v":0},{"$f":"+GETPIVOTDATA(\" BAS147\",TABLAS!$A$176)","v":0},{"$f":"+GETPIVOTDATA(\" BAS148\",TABLAS!$A$176)","v":0},{"$f":"+GETPIVOTDATA(\" BAS149\",TABLAS!$A$176)","v":0},null,null,null,null,null,null,null,null,null,null,null,null,null,null,null,146,147,148,149,null,null,null,null,null,null,null,null,null,null,null,null,null,146,147,148,149,null,null,null,null,null,null,null,null,null,null,null,null,null,"=+IMPORTARDATOSDINAMICOS(\" BAS146\";TABLAS!$A$176)","=+IMPORTARDATOSDINAMICOS(\" BAS147\";TABLAS!$A$176)","=+IMPORTARDATOSDINAMICOS(\" BAS148\";TABLAS!$A$176)","=+IMPORTARDATOSDINAMICOS(\" BAS149\";TABLAS!$A$176)"]
[null,null,null,38,"Bartonelosis (6)",{"$f":"+GETPIVOTDATA(\" BAS150\",TABLAS!$A$176)","v":13},{"$f":"+GETPIVOTDATA(\" BAS151\",TABLAS!$A$176)","v":6},{"$f":"+GETPIVOTDATA(\" BAS152\",TABLAS!$A$176)","v":1},{"$f":"+GETPIVOTDATA(\" BAS153\",TABLAS!$A$176)","v":3},null,null,null,null,null,null,null,null,null,null,null,null,null,null,null,150,151,152,153,null,null,null,null,null,null,null,null,null,null,null,null,null,150,151,152,153,null,null,null,null,null,null,null,null,null,null,null,null,null,"=+IMPORTARDATOSDINAMICOS(\" BAS150\";TABLAS!$A$176)","=+IMPORTARDATOSDINAMICOS(\" BAS151\";TABLAS!$A$176)","=+IMPORTARDATOSDINAMICOS(\" BAS152\";TABLAS!$A$176)","=+IMPORTARDATOSDINAMICOS(\" BAS153\";TABLAS!$A$176)"]
[null,null,null,39,"Fiebre Amarilla (7)",{"$f":"+GETPIVOTDATA(\" BAS154\",TABLAS!$A$176)","v":0},{"$f":"+GETPIVOTDATA(\" BAS155\",TABLAS!$A$176)","v":0},{"$f":"+GETPIVOTDATA(\" BAS156\",TABLAS!$A$176)","v":1},{"$f":"+GETPIVOTDATA(\" BAS157\",TABLAS!$A$176)","v":4},null,null,null,null,null,null,null,null,null,null,null,null,null,null,null,154,155,156,157,null,null,null,null,null,null,null,null,null,null,null,null,null,154,155,156,157,null,null,null,null,null,null,null,null,null,null,null,null,null,"=+IMPORTARDATOSDINAMICOS(\" BAS154\";TABLAS!$A$176)","=+IMPORTARDATOSDINAMICOS(\" BAS155\";TABLAS!$A$176)","=+IMPORTARDATOSDINAMICOS(\" BAS156\";TABLAS!$A$176)","=+IMPORTARDATOSDINAMICOS(\" BAS157\";TABLAS!$A$176)"]
[null,null,null,40,"Chagas (8)",{"$f":"+GETPIVOTDATA(\" BAS158\",TABLAS!$A$176)","v":0},{"$f":"+GETPIVOTDATA(\" BAS159\",TABLAS!$A$176)","v":0},{"$f":"+GETPIVOTDATA(\" BAS160\",TABLAS!$A$176)","v":0},{"$f":"+GETPIVOTDATA(\" BAS161\",TABLAS!$A$176)","v":0},null,null,null,null,null,null,null,null,null,null,null,null,null,null,null,158,159,160,161,null,null,null,null,null,null,null,null,null,null,null,null,null,158,159,160,161,null,null,null,null,null,null,null,null,null,null,null,null,null,"=+IMPORTARDATOSDINAMICOS(\" BAS158\";TABLAS!$A$176)","=+IMPORTARDATOSDINAMICOS(\" BAS159\";TABLAS!$A$176)","=+IMPORTARDATOSDINAMICOS(\" BAS160\";TABLAS!$A$176)","=+IMPORTARDATOSDINAMICOS(\" BAS161\";TABLAS!$A$176)"]
[null,null,null,41,"Leishmaniosis (9)",{"$f":"+GETPIVOTDATA(\" BAS162\",TABLAS!$A$176)","v":13},{"$f":"+GETPIVOTDATA(\" BAS163\",TABLAS!$A$176)","v":5},{"$f":"+GETPIVOTDATA(\" BAS164\",TABLAS!$A$176)","v":1},{"$f":"+GETPIVOTDATA(\" BAS165\",TABLAS!$A$176)","v":3},null,null,null,null,null,null,null,null,null,null,null,null,null,null,null,162,163,164,165,null,null,null,null,null,null,null,null,null,null,null,null,null,162,163,164,165,null,null,null,null,null,null,null,null,null,null,null,null,null,"=+IMPORTARDATOSDINAMICOS(\" BAS162\";TABLAS!$A$176)","=+IMPORTARDATOSDINAMICOS(\" BAS163\";TABLAS!$A$176)","=+IMPORTARDATOSDINAMICOS(\" BAS164\";TABLAS!$A$176)","=+IMPORTARDATOSDINAMICOS(\" BAS165\";TABLAS!$A$176)"]
[]
[null,null,null,null,"Zoonoticas"]
[]
[null,null,null,null,null,1,2,3,4]
[null,null,null,null,"Tematica","1º INTERVENCIÓN ","2º INTERVENCIÓN ","3º INTERVENCIÓN ","4º INTERVENCIÓN "]
[null,null,null,42,"Rabia (4)",{"$f":"+GETPIVOTDATA(\" BAS166\",TABLAS!$A$176)","v":39},{"$f":"+GETPIVOTDATA(\" BAS167\",TABLAS!$A$176)","v":7},{"$f":"+GETPIVOTDATA(\" BAS168\",TABLAS!$A$176)","v":1},{"$f":"+GETPIVOTDATA(\" BAS169\",TABLAS!$A$176)","v":3},null,null,null,null,null,null,null,null,null,null,null,null,null,null,null,{"$f":"+AB109+1","v":166},{"$f":"+Y115+1","v":167},{"$f":"+Z115+1","v":168},169,null,null,null,null,null,null,null,null,null,null,null,null,null,{"$f":"IF(LEN(Y115)=1,CONCATENATE(\"00\",Y115),IF(LEN(Y115)=2,CONCATENATE(\"0\",Y115),Y115))","v":166},167,168,169,null,null,null,null,null,null,null,null,null,null,null,null,null,{"$f":"+$BH$21&AP115&$BI$20","v":"=+IMPORTARDATOSDINAMICOS(\" BAS166\";TABLAS!$A$176)"},"=+IMPORTARDATOSDINAMICOS(\" BAS167\";TABLAS!$A$176)","=+IMPORTARDATOSDINAMICOS(\" BAS168\";TABLAS!$A$176)","=+IMPORTARDATOSDINAMICOS(\" BAS169\";TABLAS!$A$176)"]
[null,null,null,43,"Peste (10)",{"$f":"+GETPIVOTDATA(\" BAS170\",TABLAS!$A$176)","v":0},{"$f":"+GETPIVOTDATA(\" BAS171\",TABLAS!$A$176)","v":0},{"$f":"+GETPIVOTDATA(\" BAS172\",TABLAS!$A$176)","v":0},{"$f":"+GETPIVOTDATA(\" BAS173\",TABLAS!$A$176)","v":0},null,null,null,null,null,null,null,null,null,null,null,null,null,null,null,{"$f":"+AB115+1","v":170},{"$f":"+Y116+1","v":171},172,173,null,null,null,null,null,null,null,null,null,null,null,null,null,170,171,172,173,null,null,null,null,null,null,null,null,null,null,null,null,null,"=+IMPORTARDATOSDINAMICOS(\" BAS170\";TABLAS!$A$176)","=+IMPORTARDATOSDINAMICOS(\" BAS171\";TABLAS!$A$176)","=+IMPORTARDATOSDINAMICOS(\" BAS172\";TABLAS!$A$176)","=+IMPORTARDATOSDINAMICOS(\" BAS173\";TABLAS!$A$176)"]
[null,null,null,44,"Leptospirosis (11)",{"$f":"+GETPIVOTDATA(\" BAS174\",TABLAS!$A$176)","v":0},{"$f":"+GETPIVOTDATA(\" BAS175\",TABLAS!$A$176)","v":0},{"$f":"+GETPIVOTDATA(\" BAS176\",TABLAS!$A$176)","v":1},{"$f":"+GETPIVOTDATA(\" BAS177\",TABLAS!$A$176)","v":1},null,null,null,null,null,null,null,null,null,null,null,null,null,null,null,174,175,176,177,null,null,null,null,null,null,null,null,null,null,null,null,null,174,175,176,177,null,null,null,null,null,null,null,null,null,null,null,null,null,"=+IMPORTARDATOSDINAMICOS(\" BAS174\";TABLAS!$A$176)","=+IMPORTARDATOSDINAMICOS(\" BAS175\";TABLAS!$A$176)","=+IMPORTARDATOSDINAMICOS(\" BAS176\";TABLAS!$A$176)","=+IMPORTARDATOSDINAMICOS(\" BAS177\";TABLAS!$A$176)"]
[null,null,null,45,"Tifus (12)",{"$f":"+GETPIVOTDATA(\" BAS178\",TABLAS!$A$176)","v":0},{"$f":"+GETPIVOTDATA(\" BAS179\",TABLAS!$A$176)","v":0},{"$f":"+GETPIVOTDATA(\" BAS180\",TABLAS!$A$176)","v":0},{"$f":"+GETPIVOTDATA(\" BAS181\",TABLAS!$A$176)","v":0},null,null,null,null,null,null,null,null,null,null,null,null,null,null,null,178,179,180,181,null,null,null,null,null,null,null,null,null,null,null,null,null,178,179,180,181,null,null,null,null,null,null,null,null,null,null,null,null,null,"=+IMPORTARDATOSDINAMICOS(\" BAS178\";TABLAS!$A$176)","=+IMPORTARDATOSDINAMICOS(\" BAS179\";TABLAS!$A$176)","=+IMPORTARDATOSDINAMICOS(\" BAS180\";TABLAS!$A$176)","=+IMPORTARDATOSDINAMICOS(\" BAS181\";TABLAS!$A$176)"]
[null,null,null,46,"Equinococosis (13)",{"$f":"+GETPIVOTDATA(\" BAS182\",TABLAS!$A$176)","v":0},{"$f":"+GETPIVOTDATA(\" BAS183\",TABLAS!$A$176)","v":0},{"$f":"+GETPIVOTDATA(\" BAS184\",TABLAS!$A$176)","v":0},{"$f":"+GETPIVOTDATA(\" BAS185\",TABLAS!$A$176)","v":0},null,null,null,null,null,null,null,null,null,null,null,null,null,null,null,182,183,184,185,null,null,null,null,null,null,null,null,null,null,null,null,null,182,183,184,185,null,null,null,null,null,null,null,null,null,null,null,null,null,"=+IMPORTARDATOSDINAMICOS(\" BAS182\";TABLAS!$A$176)","=+IMPORTARDATOSDINAMICOS(\" BAS183\";TABLAS!$A$176)","=+IMPORTARDATOSDINAMICOS(\" BAS184\";TABLAS!$A$176)","=+IMPORTARDATOSDINAMICOS(\" BAS185\";TABLAS!$A$176)"]
[null,null,"fin"]
[null,null,null,null,"Acciones de movilización comunitaria -Ejecución de campaña de recojo y eliminación de inservibles "]
[]
[null,null,null,null,"Metaxenicas "]
[null,null,null,null,null,1,2,3,4,5,6,7,8,9,10,11,12,13,14,15,16,null,null,null,null,null,null,null,null,null,null,null,null,null,null,null,null,null,null,null,null,null,null,null,null,null,null,null,null,null,null,null,null,null,null,null,null,null,null,null,null,"\";TABLAS!$A$211)",null,null,null,10]
[null,null,null,null,null,"Malaria (1)",null,"Dengue (5)",null,"Chikungunya (2)",null,"Zika (3)",null,"Bartonelosis (6)",null,"Fiebre Amarilla (7)",null,"Chagas (8)",null,"Leishmaniosis (09)",null,null,null,null,null,null,null,null,null,null,null,null,null,null,null,null,null,null,null,null,null,null,null,null,null,null,null,null,null,null,null,null,null,null,null,null,null,null,null,null,"=+IMPORTARDATOSDINAMICOS(\" BAS"]
[null,null,null,null,"Nº de Movilizaciones","Nº","N° de organizaciones que participan","Nº","N° de organizaciones que participan","Nº","N° de organizaciones que participan","Nº","N° de organizaciones que participan","Nº","N° de organizaciones que participan","Nº","N° de organizaciones que participan","Nº","N° de organizaciones que participan","Nº","N° de organizaciones que participan"]
[null,null,null,47,"Acciones de movilización 1",{"$f":"+GETPIVOTDATA(\" BAS001\",TABLAS!$A$211)","v":5},{"$f":"+GETPIVOTDATA(\" BAS002\",TABLAS!$A$211)","v":123},{"$f":"+GETPIVOTDATA(\" BAS003\",TABLAS!$A$211)","v":58},{"$f":"+GETPIVOTDATA(\" BAS004\",TABLAS!$A$211)","v":138},{"$f":"+GETPIVOTDATA(\" BAS005\",TABLAS!$A$211)","v":0},{"$f":"+GETPIVOTDATA(\" BAS006\",TABLAS!$A$211)","v":0},{"$f":"+GETPIVOTDATA(\" BAS007\",TABLAS!$A$211)","v":0},{"$f":"+GETPIVOTDATA(\" BAS008\",TABLAS!$A$211)","v":0},{"$f":"+GETPIVOTDATA(\" BAS009\",TABLAS!$A$211)","v":2},{"$f":"+GETPIVOTDATA(\" BAS010\",TABLAS!$A$211)","v":42},{"$f":"+GETPIVOTDATA(\" BAS011\",TABLAS!$A$211)","v":2},{"$f":"+GETPIVOTDATA(\" BAS012\",TABLAS!$A$211)","v":42},{"$f":"+GETPIVOTDATA(\" BAS013\",TABLAS!$A$211)","v":0},{"$f":"+GETPIVOTDATA(\" BAS014\",TABLAS!$A$211)","v":0},{"$f":"+GETPIVOTDATA(\" BAS015\",TABLAS!$A$211)","v":2},{"$f":"+GETPIVOTDATA(\" BAS016\",TABLAS!$A$211)","v":42},null,null,null,1,{"$f":"+Y127+1","v":2},{"$f":"+Z127+1","v":3},4,5,6,7,8,9,10,11,12,13,14,15,16,null,{"$f":"IF(LEN(Y127)=1,CONCATENATE(\"00\",Y127),IF(LEN(Y127)=2,CONCATENATE(\"0\",Y127),Y127))","v":"001"},"002","003","004","005","006","007","008","009","010","011","012","013","014","015","016",null,{"$f":"+$BI$125&AP127&$BJ$124","v":"=+IMPORTARDATOSDINAMICOS(\" BAS001\";TABLAS!$A$211)"},{"$f":"+$BI$125&AQ127&$BJ$124","v":"=+IMPORTARDATOSDINAMICOS(\" BAS002\";TABLAS!$A$211)"},"=+IMPORTARDATOSDINAMICOS(\" BAS003\";TABLAS!$A$211)","=+IMPORTARDATOSDINAMICOS(\" BAS004\";TABLAS!$A$211)","=+IMPORTARDATOSDINAMICOS(\" BAS005\";TABLAS!$A$211)","=+IMPORTARDATOSDINAMICOS(\" BAS006\";TABLAS!$A$211)","=+IMPORTARDATOSDINAMICOS(\" BAS007\";TABLAS!$A$211)","=+IMPORTARDATOSDINAMICOS(\" BAS008\";TABLAS!$A$211)","=+IMPORTARDATOSDINAMICOS(\" BAS009\";TABLAS!$A$211)","=+IMPORTARDATOSDINAMICOS(\" BAS010\";TABLAS!$A$211)","=+IMPORTARDATOSDINAMICOS(\" BAS011\";TABLAS!$A$211)","=+IMPORTARDATOSDINAMICOS(\" BAS012\";TABLAS!$A$211)","=+IMPORTARDATOSDINAMICOS(\" BAS013\";TABLAS!$A$211)","=+IMPORTARDATOSDINAMICOS(\" BAS014\";TABLAS!$A$211)","=+IMPORTARDATOSDINAMICOS(\" BAS015\";TABLAS!$A$211)","=+IMPORTARDATOSDINAMICOS(\" BAS016\";TABLAS!$A$211)"]
[null,null,null,48,"Acciones de movilización 2",{"$f":"+GETPIVOTDATA(\" BAS017\",TABLAS!$A$211)","v":2},{"$f":"+GETPIVOTDATA(\" BAS018\",TABLAS!$A$211)","v":60},{"$f":"+GETPIVOTDATA(\" BAS019\",TABLAS!$A$211)","v":29},{"$f":"+GETPIVOTDATA(\" BAS020\",TABLAS!$A$211)","v":119},{"$f":"+GETPIVOTDATA(\" BAS021\",TABLAS!$A$211)","v":0},{"$f":"+GETPIVOTDATA(\" BAS022\",TABLAS!$A$211)","v":0},{"$f":"+GETPIVOTDATA(\" BAS023\",TABLAS!$A$211)","v":0},{"$f":"+GETPIVOTDATA(\" BAS024\",TABLAS!$A$211)","v":0},{"$f":"+GETPIVOTDATA(\" BAS025\",TABLAS!$A$211)","v":2},{"$f":"+GETPIVOTDATA(\" BAS026\",TABLAS!$A$211)","v":60},{"$f":"+GETPIVOTDATA(\" BAS027\",TABLAS!$A$211)","v":2},{"$f":"+GETPIVOTDATA(\" BAS028\",TABLAS!$A$211)","v":60},{"$f":"+GETPIVOTDATA(\" BAS029\",TABLAS!$A$211)","v":0},{"$f":"+GETPIVOTDATA(\" BAS030\",TABLAS!$A$211)","v":0},{"$f":"+GETPIVOTDATA(\" BAS031\",TABLAS!$A$211)","v":2},{"$f":"+GETPIVOTDATA(\" BAS032\",TABLAS!$A$211)","v":60},null,null,null,{"$f":"+AN127+1","v":17},{"$f":"+Y128+1","v":18},19,20,21,22,23,24,25,26,27,28,29,30,31,32,null,"017","018","019","020","021","022","023","024","025","026","027","028","029","030","031","032",null,{"$f":"+$BI$125&AP128&$BJ$124","v":"=+IMPORTARDATOSDINAMICOS(\" BAS017\";TABLAS!$A$211)"},"=+IMPORTARDATOSDINAMICOS(\" BAS018\";TABLAS!$A$211)","=+IMPORTARDATOSDINAMICOS(\" BAS019\";TABLAS!$A$211)","=+IMPORTARDATOSDINAMICOS(\" BAS020\";TABLAS!$A$211)","=+IMPORTARDATOSDINAMICOS(\" BAS021\";TABLAS!$A$211)","=+IMPORTARDATOSDINAMICOS(\" BAS022\";TABLAS!$A$211)","=+IMPORTARDATOSDINAMICOS(\" BAS023\";TABLAS!$A$211)","=+IMPORTARDATOSDINAMICOS(\" BAS024\";TABLAS!$A$211)","=+IMPORTARDATOSDINAMICOS(\" BAS025\";TABLAS!$A$211)","=+IMPORTARDATOSDINAMICOS(\" BAS026\";TABLAS!$A$211)","=+IMPORTARDATOSDINAMICOS(\" BAS027\";TABLAS!$A$211)","=+IMPORTARDATOSDINAMICOS(\" BAS028\";TABLAS!$A$211)","=+IMPORTARDATOSDINAMICOS(\" BAS029\";TABLAS!$A$211)","=+IMPORTARDATOSDINAMICOS(\" BAS030\";TABLAS!$A$211)","=+IMPORTARDATOSDINAMICOS(\" BAS031\";TABLAS!$A$211)","=+IMPORTARDATOSDINAMICOS(\" BAS032\";TABLAS!$A$211)"]
[null,null,null,49,"Acciones de movilización 3",{"$f":"+GETPIVOTDATA(\" BAS033\",TABLAS!$A$211)","v":1},{"$f":"+GETPIVOTDATA(\" BAS034\",TABLAS!$A$211)","v":60},{"$f":"+GETPIVOTDATA(\" BAS035\",TABLAS!$A$211)","v":18},{"$f":"+GETPIVOTDATA(\" BAS036\",TABLAS!$A$211)","v":114},{"$f":"+GETPIVOTDATA(\" BAS037\",TABLAS!$A$211)","v":0},{"$f":"+GETPIVOTDATA(\" BAS038\",TABLAS!$A$211)","v":0},{"$f":"+GETPIVOTDATA(\" BAS039\",TABLAS!$A$211)","v":0},{"$f":"+GETPIVOTDATA(\" BAS040\",TABLAS!$A$211)","v":0},{"$f":"+GETPIVOTDATA(\" BAS041\",TABLAS!$A$211)","v":1},{"$f":"+GETPIVOTDATA(\" BAS042\",TABLAS!$A$211)","v":60},{"$f":"+GETPIVOTDATA(\" BAS043\",TABLAS!$A$211)","v":1},{"$f":"+GETPIVOTDATA(\" BAS044\",TABLAS!$A$211)","v":60},{"$f":"+GETPIVOTDATA(\" BAS045\",TABLAS!$A$211)","v":0},{"$f":"+GETPIVOTDATA(\" BAS046\",TABLAS!$A$211)","v":0},{"$f":"+GETPIVOTDATA(\" BAS047\",TABLAS!$A$211)","v":1},{"$f":"+GETPIVOTDATA(\" BAS048\",TABLAS!$A$211)","v":60},null,null,null,{"$f":"+AN128+1","v":33},34,35,36,37,38,39,40,41,42,43,44,45,46,47,48,null,"033","034","035","036","037","038","039","040","041","042","043","044","045","046","047","048",null,"=+IMPORTARDATOSDINAMICOS(\" BAS033\";TABLAS!$A$211)","=+IMPORTARDATOSDINAMICOS(\" BAS034\";TABLAS!$A$211)","=+IMPORTARDATOSDINAMICOS(\" BAS035\";TABLAS!$A$211)","=+IMPORTARDATOSDINAMICOS(\" BAS036\";TABLAS!$A$211)","=+IMPORTARDATOSDINAMICOS(\" BAS037\";TABLAS!$A$211)","=+IMPORTARDATOSDINAMICOS(\" BAS038\";TABLAS!$A$211)","=+IMPORTARDATOSDINAMICOS(\" BAS039\";TABLAS!$A$211)","=+IMPORTARDATOSDINAMICOS(\" BAS040\";TABLAS!$A$211)","=+IMPORTARDATOSDINAMICOS(\" BAS041\";TABLAS!$A$211)","=+IMPORTARDATOSDINAMICOS(\" BAS042\";TABLAS!$A$211)","=+IMPORTARDATOSDINAMICOS(\" BAS043\";TABLAS!$A$211)","=+IMPORTARDATOSDINAMICOS(\" BAS044\";TABLAS!$A$211)","=+IMPORTARDATOSDINAMICOS(\" BAS045\";TABLAS!$A$211)","=+IMPORTARDATOSDINAMICOS(\" BAS046\";TABLAS!$A$211)","=+IMPORTARDATOSDINAMICOS(\" BAS047\";TABLAS!$A$211)","=+IMPORTARDATOSDINAMICOS(\" BAS048\";TABLAS!$A$211)"]
[null,null,null,50,"Acciones de movilización 4",{"$f":"+GETPIVOTDATA(\" BAS049\",TABLAS!$A$211)","v":0},{"$f":"+GETPIVOTDATA(\" BAS050\",TABLAS!$A$211)","v":0},{"$f":"+GETPIVOTDATA(\" BAS051\",TABLAS!$A$211)","v":5},{"$f":"+GETPIVOTDATA(\" BAS052\",TABLAS!$A$211)","v":17},{"$f":"+GETPIVOTDATA(\" BAS053\",TABLAS!$A$211)","v":0},{"$f":"+GETPIVOTDATA(\" BAS054\",TABLAS!$A$211)","v":0},{"$f":"+GETPIVOTDATA(\" BAS055\",TABLAS!$A$211)","v":0},{"$f":"+GETPIVOTDATA(\" BAS056\",TABLAS!$A$211)","v":0},{"$f":"+GETPIVOTDATA(\" BAS057\",TABLAS!$A$211)","v":0},{"$f":"+GETPIVOTDATA(\" BAS058\",TABLAS!$A$211)","v":0},{"$f":"+GETPIVOTDATA(\" BAS059\",TABLAS!$A$211)","v":0},{"$f":"+GETPIVOTDATA(\" BAS060\",TABLAS!$A$211)","v":0},{"$f":"+GETPIVOTDATA(\" BAS061\",TABLAS!$A$211)","v":0},{"$f":"+GETPIVOTDATA(\" BAS062\",TABLAS!$A$211)","v":0},{"$f":"+GETPIVOTDATA(\" BAS063\",TABLAS!$A$211)","v":0},{"$f":"+GETPIVOTDATA(\" BAS064\",TABLAS!$A$211)","v":0},null,null,null,49,50,51,52,53,54,55,56,57,58,59,60,61,62,63,64,null,"049","050","051","052","053","054","055","056","057","058","059","060","061","062","063","064",null,"=+IMPORTARDATOSDINAMICOS(\" BAS049\";TABLAS!$A$211)","=+IMPORTARDATOSDINAMICOS(\" BAS050\";TABLAS!$A$211)","=+IMPORTARDATOSDINAMICOS(\" BAS051\";TABLAS!$A$211)","=+IMPORTARDATOSDINAMICOS(\" BAS052\";TABLAS!$A$211)","=+IMPORTARDATOSDINAMICOS(\" BAS053\";TABLAS!$A$211)","=+IMPORTARDATOSDINAMICOS(\" BAS054\";TABLAS!$A$211)","=+IMPORTARDATOSDINAMICOS(\" BAS055\";TABLAS!$A$211)","=+IMPORTARDATOSDINAMICOS(\" BAS056\";TABLAS!$A$211)","=+IMPORTARDATOSDINAMICOS(\" BAS057\";TABLAS!$A$211)","=+IMPORTARDATOSDINAMICOS(\" BAS058\";TABLAS!$A$211)","=+IMPORTARDATOSDINAMICOS(\" BAS059\";TABLAS!$A$211)","=+IMPORTARDATOSDINAMICOS(\" BAS060\";TABLAS!$A$211)","=+IMPORTARDATOSDINAMICOS(\" BAS061\";TABLAS!$A$211)","=+IMPORTARDATOSDINAMICOS(\" BAS062\";TABLAS!$A$211)","=+IMPORTARDATOSDINAMICOS(\" BAS063\";TABLAS!$A$211)","=+IMPORTARDATOSDINAMICOS(\" BAS064\";TABLAS!$A$211)"]
[]
[null,null,null,null,"Acciones de movilización comunitaria  -Vigilancia Sanitaria de la Limpieza de Vías y Espacios Públicos "]
[]
[null,null,null,null,"Metaxenicas "]
[null,null,null,null,null,1,2,3,4,5,6,7,8,9,10,11,12,13,14,15,16]
[null,null,null,null,null,"Malaria (1)",null,"Dengue (5)",null,"Chikungunya (2)",null,"Zika (3)",null,"Bartonelosis (6)",null,"Fiebre Amarilla (7)",null,"Chagas (8)",null,"Leishmaniosis (09)"]
[null,null,null,null,"Nº de Movilizaciones","Nº","N° de organizaciones que participan","Nº","N° de organizaciones que participan","Nº","N° de organizaciones que participan","Nº","N° de organizaciones que participan","Nº","N° de organizaciones que participan","Nº","N° de organizaciones que participan","Nº","N° de organizaciones que participan","Nº","N° de organizaciones que participan"]
[null,null,null,51,"Acciones de movilización 1",{"$f":"+GETPIVOTDATA(\" BAS065\",TABLAS!$A$211)","v":0},{"$f":"+GETPIVOTDATA(\" BAS066\",TABLAS!$A$211)","v":0},{"$f":"+GETPIVOTDATA(\" BAS067\",TABLAS!$A$211)","v":0},{"$f":"+GETPIVOTDATA(\" BAS068\",TABLAS!$A$211)","v":0},{"$f":"+GETPIVOTDATA(\" BAS069\",TABLAS!$A$211)","v":0},{"$f":"+GETPIVOTDATA(\" BAS070\",TABLAS!$A$211)","v":0},{"$f":"+GETPIVOTDATA(\" BAS071\",TABLAS!$A$211)","v":0},{"$f":"+GETPIVOTDATA(\" BAS072\",TABLAS!$A$211)","v":0},{"$f":"+GETPIVOTDATA(\" BAS073\",TABLAS!$A$211)","v":0},{"$f":"+GETPIVOTDATA(\" BAS074\",TABLAS!$A$211)","v":0},{"$f":"+GETPIVOTDATA(\" BAS075\",TABLAS!$A$211)","v":0},{"$f":"+GETPIVOTDATA(\" BAS076\",TABLAS!$A$211)","v":0},{"$f":"+GETPIVOTDATA(\" BAS077\",TABLAS!$A$211)","v":0},{"$f":"+GETPIVOTDATA(\" BAS078\",TABLAS!$A$211)","v":0},{"$f":"+GETPIVOTDATA(\" BAS079\",TABLAS!$A$211)","v":0},{"$f":"+GETPIVOTDATA(\" BAS080\",TABLAS!$A$211)","v":0},null,null,null,{"$f":"+AN130+1","v":65},{"$f":"+Y138+1","v":66},{"$f":"+Z138+1","v":67},68,69,70,71,72,73,74,75,76,77,78,79,80,null,{"$f":"IF(LEN(Y138)=1,CONCATENATE(\"00\",Y138),IF(LEN(Y138)=2,CONCATENATE(\"0\",Y138),Y138))","v":"065"},"066","067","068","069","070","071","072","073","074","075","076","077","078","079","080",null,{"$f":"+$BI$125&AP138&$BJ$124","v":"=+IMPORTARDATOSDINAMICOS(\" BAS065\";TABLAS!$A$211)"},"=+IMPORTARDATOSDINAMICOS(\" BAS066\";TABLAS!$A$211)","=+IMPORTARDATOSDINAMICOS(\" BAS067\";TABLAS!$A$211)","=+IMPORTARDATOSDINAMICOS(\" BAS068\";TABLAS!$A$211)","=+IMPORTARDATOSDINAMICOS(\" BAS069\";TABLAS!$A$211)","=+IMPORTARDATOSDINAMICOS(\" BAS070\";TABLAS!$A$211)","=+IMPORTARDATOSDINAMICOS(\" BAS071\";TABLAS!$A$211)","=+IMPORTARDATOSDINAMICOS(\" BAS072\";TABLAS!$A$211)","=+IMPORTARDATOSDINAMICOS(\" BAS073\";TABLAS!$A$211)","=+IMPORTARDATOSDINAMICOS(\" BAS074\";TABLAS!$A$211)","=+IMPORTARDATOSDINAMICOS(\" BAS075\";TABLAS!$A$211)","=+IMPORTARDATOSDINAMICOS(\" BAS076\";TABLAS!$A$211)","=+IMPORTARDATOSDINAMICOS(\" BAS077\";TABLAS!$A$211)","=+IMPORTARDATOSDINAMICOS(\" BAS078\";TABLAS!$A$211)","=+IMPORTARDATOSDINAMICOS(\" BAS079\";TABLAS!$A$211)","=+IMPORTARDATOSDINAMICOS(\" BAS080\";TABLAS!$A$211)"]
[null,null,null,52,"Acciones de movilización 2",{"$f":"+GETPIVOTDATA(\" BAS081\",TABLAS!$A$211)","v":0},{"$f":"+GETPIVOTDATA(\" BAS082\",TABLAS!$A$211)","v":0},{"$f":"+GETPIVOTDATA(\" BAS083\",TABLAS!$A$211)","v":0},{"$f":"+GETPIVOTDATA(\" BAS084\",TABLAS!$A$211)","v":0},{"$f":"+GETPIVOTDATA(\" BAS085\",TABLAS!$A$211)","v":0},{"$f":"+GETPIVOTDATA(\" BAS086\",TABLAS!$A$211)","v":0},{"$f":"+GETPIVOTDATA(\" BAS087\",TABLAS!$A$211)","v":0},{"$f":"+GETPIVOTDATA(\" BAS088\",TABLAS!$A$211)","v":0},{"$f":"+GETPIVOTDATA(\" BAS089\",TABLAS!$A$211)","v":0},{"$f":"+GETPIVOTDATA(\" BAS090\",TABLAS!$A$211)","v":0},{"$f":"+GETPIVOTDATA(\" BAS091\",TABLAS!$A$211)","v":0},{"$f":"+GETPIVOTDATA(\" BAS092\",TABLAS!$A$211)","v":0},{"$f":"+GETPIVOTDATA(\" BAS093\",TABLAS!$A$211)","v":0},{"$f":"+GETPIVOTDATA(\" BAS094\",TABLAS!$A$211)","v":0},{"$f":"+GETPIVOTDATA(\" BAS095\",TABLAS!$A$211)","v":0},{"$f":"+GETPIVOTDATA(\" BAS096\",TABLAS!$A$211)","v":0},null,null,null,{"$f":"+AN138+1","v":81},{"$f":"+Y139+1","v":82},83,84,85,86,87,88,89,90,91,92,93,94,95,96,null,"081","082","083","084","085","086","087","088","089","090","091","092","093","094","095","096",null,"=+IMPORTARDATOSDINAMICOS(\" BAS081\";TABLAS!$A$211)","=+IMPORTARDATOSDINAMICOS(\" BAS082\";TABLAS!$A$211)","=+IMPORTARDATOSDINAMICOS(\" BAS083\";TABLAS!$A$211)","=+IMPORTARDATOSDINAMICOS(\" BAS084\";TABLAS!$A$211)","=+IMPORTARDATOSDINAMICOS(\" BAS085\";TABLAS!$A$211)","=+IMPORTARDATOSDINAMICOS(\" BAS086\";TABLAS!$A$211)","=+IMPORTARDATOSDINAMICOS(\" BAS087\";TABLAS!$A$211)","=+IMPORTARDATOSDINAMICOS(\" BAS088\";TABLAS!$A$211)","=+IMPORTARDATOSDINAMICOS(\" BAS089\";TABLAS!$A$211)","=+IMPORTARDATOSDINAMICOS(\" BAS090\";TABLAS!$A$211)","=+IMPORTARDATOSDINAMICOS(\" BAS091\";TABLAS!$A$211)","=+IMPORTARDATOSDINAMICOS(\" BAS092\";TABLAS!$A$211)","=+IMPORTARDATOSDINAMICOS(\" BAS093\";TABLAS!$A$211)","=+IMPORTARDATOSDINAMICOS(\" BAS094\";TABLAS!$A$211)","=+IMPORTARDATOSDINAMICOS(\" BAS095\";TABLAS!$A$211)","=+IMPORTARDATOSDINAMICOS(\" BAS096\";TABLAS!$A$211)"]
[null,null,null,53,"Acciones de movilización 3",{"$f":"+GETPIVOTDATA(\" BAS097\",TABLAS!$A$211)","v":0},{"$f":"+GETPIVOTDATA(\" BAS098\",TABLAS!$A$211)","v":0},{"$f":"+GETPIVOTDATA(\" BAS099\",TABLAS!$A$211)","v":0},{"$f":"+GETPIVOTDATA(\" BAS100\",TABLAS!$A$211)","v":0},{"$f":"+GETPIVOTDATA(\" BAS101\",TABLAS!$A$211)","v":0},{"$f":"+GETPIVOTDATA(\" BAS102\",TABLAS!$A$211)","v":0},{"$f":"+GETPIVOTDATA(\" BAS103\",TABLAS!$A$211)","v":0},{"$f":"+GETPIVOTDATA(\" BAS104\",TABLAS!$A$211)","v":0},{"$f":"+GETPIVOTDATA(\" BAS105\",TABLAS!$A$211)","v":0},{"$f":"+GETPIVOTDATA(\" BAS106\",TABLAS!$A$211)","v":0},{"$f":"+GETPIVOTDATA(\" BAS107\",TABLAS!$A$211)","v":0},{"$f":"+GETPIVOTDATA(\" BAS108\",TABLAS!$A$211)","v":0},{"$f":"+GETPIVOTDATA(\" BAS109\",TABLAS!$A$211)","v":0},{"$f":"+GETPIVOTDATA(\" BAS110\",TABLAS!$A$211)","v":0},{"$f":"+GETPIVOTDATA(\" BAS111\",TABLAS!$A$211)","v":0},{"$f":"+GETPIVOTDATA(\" BAS112\",TABLAS!$A$211)","v":0},null,null,null,{"$f":"+AN139+1","v":97},98,99,100,101,102,103,104,105,106,107,108,109,110,111,112,null,"097","098","099",100,101,102,103,104,105,106,107,108,109,110,111,112,null,"=+IMPORTARDATOSDINAMICOS(\" BAS097\";TABLAS!$A$211)","=+IMPORTARDATOSDINAMICOS(\" BAS098\";TABLAS!$A$211)","=+IMPORTARDATOSDINAMICOS(\" BAS099\";TABLAS!$A$211)","=+IMPORTARDATOSDINAMICOS(\" BAS100\";TABLAS!$A$211)","=+IMPORTARDATOSDINAMICOS(\" BAS101\";TABLAS!$A$211)","=+IMPORTARDATOSDINAMICOS(\" BAS102\";TABLAS!$A$211)","=+IMPORTARDATOSDINAMICOS(\" BAS103\";TABLAS!$A$211)","=+IMPORTARDATOSDINAMICOS(\" BAS104\";TABLAS!$A$211)","=+IMPORTARDATOSDINAMICOS(\" BAS105\";TABLAS!$A$211)","=+IMPORTARDATOSDINAMICOS(\" BAS106\";TABLAS!$A$211)","=+IMPORTARDATOSDINAMICOS(\" BAS107\";TABLAS!$A$211)","=+IMPORTARDATOSDINAMICOS(\" BAS108\";TABLAS!$A$211)","=+IMPORTARDATOSDINAMICOS(\" BAS109\";TABLAS!$A$211)","=+IMPORTARDATOSDINAMICOS(\" BAS110\";TABLAS!$A$211)","=+IMPORTARDATOSDINAMICOS(\" BAS111\";TABLAS!$A$211)","=+IMPORTARDATOSDINAMICOS(\" BAS112\";TABLAS!$A$211)"]
[null,null,null,54,"Acciones de movilización 4",{"$f":"+GETPIVOTDATA(\" BAS113\",TABLAS!$A$211)","v":0},{"$f":"+GETPIVOTDATA(\" BAS114\",TABLAS!$A$211)","v":0},{"$f":"+GETPIVOTDATA(\" BAS115\",TABLAS!$A$211)","v":0},{"$f":"+GETPIVOTDATA(\" BAS116\",TABLAS!$A$211)","v":0},{"$f":"+GETPIVOTDATA(\" BAS117\",TABLAS!$A$211)","v":0},{"$f":"+GETPIVOTDATA(\" BAS118\",TABLAS!$A$211)","v":0},{"$f":"+GETPIVOTDATA(\" BAS119\",TABLAS!$A$211)","v":0},{"$f":"+GETPIVOTDATA(\" BAS120\",TABLAS!$A$211)","v":0},{"$f":"+GETPIVOTDATA(\" BAS121\",TABLAS!$A$211)","v":0},{"$f":"+GETPIVOTDATA(\" BAS122\",TABLAS!$A$211)","v":0},{"$f":"+GETPIVOTDATA(\" BAS123\",TABLAS!$A$211)","v":0},{"$f":"+GETPIVOTDATA(\" BAS124\",TABLAS!$A$211)","v":0},{"$f":"+GETPIVOTDATA(\" BAS125\",TABLAS!$A$211)","v":0},{"$f":"+GETPIVOTDATA(\" BAS126\",TABLAS!$A$211)","v":0},{"$f":"+GETPIVOTDATA(\" BAS127\",TABLAS!$A$211)","v":0},{"$f":"+GETPIVOTDATA(\" BAS128\",TABLAS!$A$211)","v":0},null,null,null,113,114,115,116,117,118,119,120,121,122,123,124,125,126,127,128,null,113,114,115,116,117,118,119,120,121,122,123,124,125,126,127,128,null,"=+IMPORTARDATOSDINAMICOS(\" BAS113\";TABLAS!$A$211)","=+IMPORTARDATOSDINAMICOS(\" BAS114\";TABLAS!$A$211)","=+IMPORTARDATOSDINAMICOS(\" BAS115\";TABLAS!$A$211)","=+IMPORTARDATOSDINAMICOS(\" BAS116\";TABLAS!$A$211)","=+IMPORTARDATOSDINAMICOS(\" BAS117\";TABLAS!$A$211)","=+IMPORTARDATOSDINAMICOS(\" BAS118\";TABLAS!$A$211)","=+IMPORTARDATOSDINAMICOS(\" BAS119\";TABLAS!$A$211)","=+IMPORTARDATOSDINAMICOS(\" BAS120\";TABLAS!$A$211)","=+IMPORTARDATOSDINAMICOS(\" BAS121\";TABLAS!$A$211)","=+IMPORTARDATOSDINAMICOS(\" BAS122\";TABLAS!$A$211)","=+IMPORTARDATOSDINAMICOS(\" BAS123\";TABLAS!$A$211)","=+IMPORTARDATOSDINAMICOS(\" BAS124\";TABLAS!$A$211)","=+IMPORTARDATOSDINAMICOS(\" BAS125\";TABLAS!$A$211)","=+IMPORTARDATOSDINAMICOS(\" BAS126\";TABLAS!$A$211)","=+IMPORTARDATOSDINAMICOS(\" BAS127\";TABLAS!$A$211)","=+IMPORTARDATOSDINAMICOS(\" BAS128\";TABLAS!$A$211)"]
[]
[null,null,null,null,"Acciones de movilización comunitaria -Ejecución de campaña de recojo y eliminación de inservibles "]
[null,null,null,null,"Zoonoticas"]
[null,null,null,null,null,1,2,3,4,5,6,7,8,9,10]
[null,null,null,null,null,"Rabia (4)",null,"Peste (10)",null,"Leptospirosis (11)",null,"Tifus (12)",null,"Equinococosis (13)"]
[null,null,null,null,"Nº de Movilizaciones","Nº","N° de organizaciones que participan","Nº","N° de organizaciones que participan","Nº","N° de organizaciones que participan","Nº","N° de organizaciones que participan","Nº","N° de organizaciones que participan"]
[null,null,null,55,"Acciones de movilización 1",{"$f":"+GETPIVOTDATA(\" BAS129\",TABLAS!$A$211)","v":27},{"$f":"+GETPIVOTDATA(\" BAS130\",TABLAS!$A$211)","v":78},{"$f":"+GETPIVOTDATA(\" BAS131\",TABLAS!$A$211)","v":0},{"$f":"+GETPIVOTDATA(\" BAS132\",TABLAS!$A$211)","v":0},{"$f":"+GETPIVOTDATA(\" BAS133\",TABLAS!$A$211)","v":3},{"$f":"+GETPIVOTDATA(\" BAS134\",TABLAS!$A$211)","v":62},{"$f":"+GETPIVOTDATA(\" BAS135\",TABLAS!$A$211)","v":0},{"$f":"+GETPIVOTDATA(\" BAS136\",TABLAS!$A$211)","v":0},{"$f":"+GETPIVOTDATA(\" BAS137\",TABLAS!$A$211)","v":0},{"$f":"+GETPIVOTDATA(\" BAS138\",TABLAS!$A$211)","v":0},null,null,null,null,null,null,null,null,null,{"$f":"+AN141+1","v":129},{"$f":"+Y148+1","v":130},{"$f":"+Z148+1","v":131},132,133,134,135,136,137,138,null,null,null,null,null,null,null,{"$f":"IF(LEN(Y148)=1,CONCATENATE(\"00\",Y148),IF(LEN(Y148)=2,CONCATENATE(\"0\",Y148),Y148))","v":129},130,131,132,133,134,135,136,137,138,null,null,null,null,null,null,null,{"$f":"+$BI$125&AP148&$BJ$124","v":"=+IMPORTARDATOSDINAMICOS(\" BAS129\";TABLAS!$A$211)"},"=+IMPORTARDATOSDINAMICOS(\" BAS130\";TABLAS!$A$211)","=+IMPORTARDATOSDINAMICOS(\" BAS131\";TABLAS!$A$211)","=+IMPORTARDATOSDINAMICOS(\" BAS132\";TABLAS!$A$211)","=+IMPORTARDATOSDINAMICOS(\" BAS133\";TABLAS!$A$211)","=+IMPORTARDATOSDINAMICOS(\" BAS134\";TABLAS!$A$211)","=+IMPORTARDATOSDINAMICOS(\" BAS135\";TABLAS!$A$211)","=+IMPORTARDATOSDINAMICOS(\" BAS136\";TABLAS!$A$211)","=+IMPORTARDATOSDINAMICOS(\" BAS137\";TABLAS!$A$211)","=+IMPORTARDATOSDINAMICOS(\" BAS138\";TABLAS!$A$211)"]
[null,null,null,56,"Acciones de movilización 2",{"$f":"+GETPIVOTDATA(\" BAS139\",TABLAS!$A$211)","v":3},{"$f":"+GETPIVOTDATA(\" BAS140\",TABLAS!$A$211)","v":61},{"$f":"+GETPIVOTDATA(\" BAS141\",TABLAS!$A$211)","v":0},{"$f":"+GETPIVOTDATA(\" BAS142\",TABLAS!$A$211)","v":0},{"$f":"+GETPIVOTDATA(\" BAS143\",TABLAS!$A$211)","v":1},{"$f":"+GETPIVOTDATA(\" BAS144\",TABLAS!$A$211)","v":20},{"$f":"+GETPIVOTDATA(\" BAS145\",TABLAS!$A$211)","v":0},{"$f":"+GETPIVOTDATA(\" BAS146\",TABLAS!$A$211)","v":0},{"$f":"+GETPIVOTDATA(\" BAS147\",TABLAS!$A$211)","v":0},{"$f":"+GETPIVOTDATA(\" BAS148\",TABLAS!$A$211)","v":0},null,null,null,null,null,null,null,null,null,{"$f":"+AH148+1","v":139},{"$f":"+Y149+1","v":140},141,142,143,144,145,146,147,148,null,null,null,null,null,null,null,139,140,141,142,143,144,145,146,147,148,null,null,null,null,null,null,null,"=+IMPORTARDATOSDINAMICOS(\" BAS139\";TABLAS!$A$211)","=+IMPORTARDATOSDINAMICOS(\" BAS140\";TABLAS!$A$211)","=+IMPORTARDATOSDINAMICOS(\" BAS141\";TABLAS!$A$211)","=+IMPORTARDATOSDINAMICOS(\" BAS142\";TABLAS!$A$211)","=+IMPORTARDATOSDINAMICOS(\" BAS143\";TABLAS!$A$211)","=+IMPORTARDATOSDINAMICOS(\" BAS144\";TABLAS!$A$211)","=+IMPORTARDATOSDINAMICOS(\" BAS145\";TABLAS!$A$211)","=+IMPORTARDATOSDINAMICOS(\" BAS146\";TABLAS!$A$211)","=+IMPORTARDATOSDINAMICOS(\" BAS147\";TABLAS!$A$211)","=+IMPORTARDATOSDINAMICOS(\" BAS148\";TABLAS!$A$211)"]
[null,null,null,57,"Acciones de movilización 3",{"$f":"+GETPIVOTDATA(\" BAS149\",TABLAS!$A$211)","v":1},{"$f":"+GETPIVOTDATA(\" BAS150\",TABLAS!$A$211)","v":60},{"$f":"+GETPIVOTDATA(\" BAS151\",TABLAS!$A$211)","v":0},{"$f":"+GETPIVOTDATA(\" BAS152\",TABLAS!$A$211)","v":0},{"$f":"+GETPIVOTDATA(\" BAS153\",TABLAS!$A$211)","v":1},{"$f":"+GETPIVOTDATA(\" BAS154\",TABLAS!$A$211)","v":60},{"$f":"+GETPIVOTDATA(\" BAS155\",TABLAS!$A$211)","v":0},{"$f":"+GETPIVOTDATA(\" BAS156\",TABLAS!$A$211)","v":0},{"$f":"+GETPIVOTDATA(\" BAS157\",TABLAS!$A$211)","v":0},{"$f":"+GETPIVOTDATA(\" BAS158\",TABLAS!$A$211)","v":0},null,null,null,null,null,null,null,null,null,{"$f":"+AH149+1","v":149},150,151,152,153,154,155,156,157,158,null,null,null,null,null,null,null,149,150,151,152,153,154,155,156,157,158,null,null,null,null,null,null,null,"=+IMPORTARDATOSDINAMICOS(\" BAS149\";TABLAS!$A$211)","=+IMPORTARDATOSDINAMICOS(\" BAS150\";TABLAS!$A$211)","=+IMPORTARDATOSDINAMICOS(\" BAS151\";TABLAS!$A$211)","=+IMPORTARDATOSDINAMICOS(\" BAS152\";TABLAS!$A$211)","=+IMPORTARDATOSDINAMICOS(\" BAS153\";TABLAS!$A$211)","=+IMPORTARDATOSDINAMICOS(\" BAS154\";TABLAS!$A$211)","=+IMPORTARDATOSDINAMICOS(\" BAS155\";TABLAS!$A$211)","=+IMPORTARDATOSDINAMICOS(\" BAS156\";TABLAS!$A$211)","=+IMPORTARDATOSDINAMICOS(\" BAS157\";TABLAS!$A$211)","=+IMPORTARDATOSDINAMICOS(\" BAS158\";TABLAS!$A$211)"]
[null,null,null,58,"Acciones de movilización 4",{"$f":"+GETPIVOTDATA(\" BAS159\",TABLAS!$A$211)","v":0},{"$f":"+GETPIVOTDATA(\" BAS160\",TABLAS!$A$211)","v":0},{"$f":"+GETPIVOTDATA(\" BAS161\",TABLAS!$A$211)","v":0},{"$f":"+GETPIVOTDATA(\" BAS162\",TABLAS!$A$211)","v":0},{"$f":"+GETPIVOTDATA(\" BAS163\",TABLAS!$A$211)","v":0},{"$f":"+GETPIVOTDATA(\" BAS164\",TABLAS!$A$211)","v":0},{"$f":"+GETPIVOTDATA(\" BAS165\",TABLAS!$A$211)","v":0},{"$f":"+GETPIVOTDATA(\" BAS166\",TABLAS!$A$211)","v":0},{"$f":"+GETPIVOTDATA(\" BAS167\",TABLAS!$A$211)","v":0},{"$f":"+GETPIVOTDATA(\" BAS168\",TABLAS!$A$211)","v":0},null,null,null,null,null,null,null,null,null,159,160,161,162,163,164,165,166,167,168,null,null,null,null,null,null,null,159,160,161,162,163,164,165,166,167,168,null,null,null,null,null,null,null,"=+IMPORTARDATOSDINAMICOS(\" BAS159\";TABLAS!$A$211)","=+IMPORTARDATOSDINAMICOS(\" BAS160\";TABLAS!$A$211)","=+IMPORTARDATOSDINAMICOS(\" BAS161\";TABLAS!$A$211)","=+IMPORTARDATOSDINAMICOS(\" BAS162\";TABLAS!$A$211)","=+IMPORTARDATOSDINAMICOS(\" BAS163\";TABLAS!$A$211)","=+IMPORTARDATOSDINAMICOS(\" BAS164\";TABLAS!$A$211)","=+IMPORTARDATOSDINAMICOS(\" BAS165\";TABLAS!$A$211)","=+IMPORTARDATOSDINAMICOS(\" BAS166\";TABLAS!$A$211)","=+IMPORTARDATOSDINAMICOS(\" BAS167\";TABLAS!$A$211)","=+IMPORTARDATOSDINAMICOS(\" BAS168\";TABLAS!$A$211)"]
[]
[null,null,null,null,"Acciones de movilización comunitaria Vigilancia Sanitaria de la Limpieza de Vías y Espacios Públicos "]
[null,null,null,null,"Zoonoticas"]
[null,null,null,null,null,1,2,3,4,5,6,7,8,9,10]
[null,null,null,null,null,"Rabia (4)",null,"Peste (10)",null,"Leptospirosis (11)",null,"Tifus (12)",null,"Equinococosis (13)"]
[null,null,null,null,"Nº de Movilizaciones","Nº","N° de organizaciones que participan","Nº","N° de organizaciones que participan","Nº","N° de organizaciones que participan","Nº","N° de organizaciones que participan","Nº","N° de organizaciones que participan"]
[null,null,null,59,"Acciones de movilización 1",{"$f":"+GETPIVOTDATA(\" BAS169\",TABLAS!$A$211)","v":0},{"$f":"+GETPIVOTDATA(\" BAS170\",TABLAS!$A$211)","v":0},{"$f":"+GETPIVOTDATA(\" BAS171\",TABLAS!$A$211)","v":0},{"$f":"+GETPIVOTDATA(\" BAS172\",TABLAS!$A$211)","v":0},{"$f":"+GETPIVOTDATA(\" BAS173\",TABLAS!$A$211)","v":0},{"$f":"+GETPIVOTDATA(\" BAS174\",TABLAS!$A$211)","v":0},{"$f":"+GETPIVOTDATA(\" BAS175\",TABLAS!$A$211)","v":0},{"$f":"+GETPIVOTDATA(\" BAS176\",TABLAS!$A$211)","v":0},{"$f":"+GETPIVOTDATA(\" BAS177\",TABLAS!$A$211)","v":0},{"$f":"+GETPIVOTDATA(\" BAS178\",TABLAS!$A$211)","v":0},null,null,null,null,null,null,null,null,null,{"$f":"+AH151+1","v":169},{"$f":"+Y158+1","v":170},{"$f":"+Z158+1","v":171},172,173,174,175,176,177,178,null,null,null,null,null,null,null,{"$f":"IF(LEN(Y158)=1,CONCATENATE(\"00\",Y158),IF(LEN(Y158)=2,CONCATENATE(\"0\",Y158),Y158))","v":169},170,171,172,173,174,175,176,177,178,null,null,null,null,null,null,null,{"$f":"+$BI$125&AP158&$BJ$124","v":"=+IMPORTARDATOSDINAMICOS(\" BAS169\";TABLAS!$A$211)"},"=+IMPORTARDATOSDINAMICOS(\" BAS170\";TABLAS!$A$211)","=+IMPORTARDATOSDINAMICOS(\" BAS171\";TABLAS!$A$211)","=+IMPORTARDATOSDINAMICOS(\" BAS172\";TABLAS!$A$211)","=+IMPORTARDATOSDINAMICOS(\" BAS173\";TABLAS!$A$211)","=+IMPORTARDATOSDINAMICOS(\" BAS174\";TABLAS!$A$211)","=+IMPORTARDATOSDINAMICOS(\" BAS175\";TABLAS!$A$211)","=+IMPORTARDATOSDINAMICOS(\" BAS176\";TABLAS!$A$211)","=+IMPORTARDATOSDINAMICOS(\" BAS177\";TABLAS!$A$211)","=+IMPORTARDATOSDINAMICOS(\" BAS178\";TABLAS!$A$211)"]
[null,null,null,60,"Acciones de movilización 2",{"$f":"+GETPIVOTDATA(\" BAS179\",TABLAS!$A$211)","v":0},{"$f":"+GETPIVOTDATA(\" BAS180\",TABLAS!$A$211)","v":0},{"$f":"+GETPIVOTDATA(\" BAS181\",TABLAS!$A$211)","v":0},{"$f":"+GETPIVOTDATA(\" BAS182\",TABLAS!$A$211)","v":0},{"$f":"+GETPIVOTDATA(\" BAS183\",TABLAS!$A$211)","v":0},{"$f":"+GETPIVOTDATA(\" BAS184\",TABLAS!$A$211)","v":0},{"$f":"+GETPIVOTDATA(\" BAS185\",TABLAS!$A$211)","v":0},{"$f":"+GETPIVOTDATA(\" BAS186\",TABLAS!$A$211)","v":0},{"$f":"+GETPIVOTDATA(\" BAS187\",TABLAS!$A$211)","v":0},{"$f":"+GETPIVOTDATA(\" BAS188\",TABLAS!$A$211)","v":0},null,null,null,null,null,null,null,null,null,{"$f":"+AH158+1","v":179},{"$f":"+Y159+1","v":180},181,182,183,184,185,186,187,188,null,null,null,null,null,null,null,179,180,181,182,183,184,185,186,187,188,null,null,null,null,null,null,null,"=+IMPORTARDATOSDINAMICOS(\" BAS179\";TABLAS!$A$211)","=+IMPORTARDATOSDINAMICOS(\" BAS180\";TABLAS!$A$211)","=+IMPORTARDATOSDINAMICOS(\" BAS181\";TABLAS!$A$211)","=+IMPORTARDATOSDINAMICOS(\" BAS182\";TABLAS!$A$211)","=+IMPORTARDATOSDINAMICOS(\" BAS183\";TABLAS!$A$211)","=+IMPORTARDATOSDINAMICOS(\" BAS184\";TABLAS!$A$211)","=+IMPORTARDATOSDINAMICOS(\" BAS185\";TABLAS!$A$211)","=+IMPORTARDATOSDINAMICOS(\" BAS186\";TABLAS!$A$211)","=+IMPORTARDATOSDINAMICOS(\" BAS187\";TABLAS!$A$211)","=+IMPORTARDATOSDINAMICOS(\" BAS188\";TABLAS!$A$211)"]
[null,null,null,61,"Acciones de movilización 3",{"$f":"+GETPIVOTDATA(\" BAS189\",TABLAS!$A$211)","v":0},{"$f":"+GETPIVOTDATA(\" BAS190\",TABLAS!$A$211)","v":0},{"$f":"+GETPIVOTDATA(\" BAS191\",TABLAS!$A$211)","v":0},{"$f":"+GETPIVOTDATA(\" BAS192\",TABLAS!$A$211)","v":0},{"$f":"+GETPIVOTDATA(\" BAS193\",TABLAS!$A$211)","v":0},{"$f":"+GETPIVOTDATA(\" BAS194\",TABLAS!$A$211)","v":0},{"$f":"+GETPIVOTDATA(\" BAS195\",TABLAS!$A$211)","v":0},{"$f":"+GETPIVOTDATA(\" BAS196\",TABLAS!$A$211)","v":0},{"$f":"+GETPIVOTDATA(\" BAS197\",TABLAS!$A$211)","v":0},{"$f":"+GETPIVOTDATA(\" BAS198\",TABLAS!$A$211)","v":0},null,null,null,null,null,null,null,null,null,{"$f":"+AH159+1","v":189},190,191,192,193,194,195,196,197,198,null,null,null,null,null,null,null,189,190,191,192,193,194,195,196,197,198,null,null,null,null,null,null,null,"=+IMPORTARDATOSDINAMICOS(\" BAS189\";TABLAS!$A$211)","=+IMPORTARDATOSDINAMICOS(\" BAS190\";TABLAS!$A$211)","=+IMPORTARDATOSDINAMICOS(\" BAS191\";TABLAS!$A$211)","=+IMPORTARDATOSDINAMICOS(\" BAS192\";TABLAS!$A$211)","=+IMPORTARDATOSDINAMICOS(\" BAS193\";TABLAS!$A$211)","=+IMPORTARDATOSDINAMICOS(\" BAS194\";TABLAS!$A$211)","=+IMPORTARDATOSDINAMICOS(\" BAS195\";TABLAS!$A$211)","=+IMPORTARDATOSDINAMICOS(\" BAS196\";TABLAS!$A$211)","=+IMPORTARDATOSDINAMICOS(\" BAS197\";TABLAS!$A$211)","=+IMPORTARDATOSDINAMICOS(\" BAS198\";TABLAS!$A$211)"]
[null,null,null,62,"Acciones de movilización 4",{"$f":"+GETPIVOTDATA(\" BAS199\",TABLAS!$A$211)","v":0},{"$f":"+GETPIVOTDATA(\" BAS200\",TABLAS!$A$211)","v":0},{"$f":"+GETPIVOTDATA(\" BAS201\",TABLAS!$A$211)","v":0},{"$f":"+GETPIVOTDATA(\" BAS202\",TABLAS!$A$211)","v":0},{"$f":"+GETPIVOTDATA(\" BAS203\",TABLAS!$A$211)","v":0},{"$f":"+GETPIVOTDATA(\" BAS204\",TABLAS!$A$211)","v":0},{"$f":"+GETPIVOTDATA(\" BAS205\",TABLAS!$A$211)","v":0},{"$f":"+GETPIVOTDATA(\" BAS206\",TABLAS!$A$211)","v":0},{"$f":"+GETPIVOTDATA(\" BAS207\",TABLAS!$A$211)","v":0},{"$f":"+GETPIVOTDATA(\" BAS208\",TABLAS!$A$211)","v":0},null,null,null,null,null,null,null,null,null,199,200,201,202,203,204,205,206,207,208,null,null,null,null,null,null,null,199,200,201,202,203,204,205,206,207,208,null,null,null,null,null,null,null,"=+IMPORTARDATOSDINAMICOS(\" BAS199\";TABLAS!$A$211)","=+IMPORTARDATOSDINAMICOS(\" BAS200\";TABLAS!$A$211)","=+IMPORTARDATOSDINAMICOS(\" BAS201\";TABLAS!$A$211)","=+IMPORTARDATOSDINAMICOS(\" BAS202\";TABLAS!$A$211)","=+IMPORTARDATOSDINAMICOS(\" BAS203\";TABLAS!$A$211)","=+IMPORTARDATOSDINAMICOS(\" BAS204\";TABLAS!$A$211)","=+IMPORTARDATOSDINAMICOS(\" BAS205\";TABLAS!$A$211)","=+IMPORTARDATOSDINAMICOS(\" BAS206\";TABLAS!$A$211)","=+IMPORTARDATOSDINAMICOS(\" BAS207\";TABLAS!$A$211)","=+IMPORTARDATOSDINAMICOS(\" BAS208\";TABLAS!$A$211)"]
[]
[null,null,null,null,"Acompañamiento y evaluación en la VC"]
[]
[null,null,null,null,"Metaxenicas "]
[null,null,null,null,null,1,2]
[null,null,null,null,"Tematica","Nº","N° de participantes"]
[null,null,null,63,"Malaria (1)",{"$f":"+GETPIVOTDATA(\" BAS209\",TABLAS!$A$211)","v":0},{"$f":"+GETPIVOTDATA(\" BAS210\",TABLAS!$A$211)","v":0},null,null,null,null,null,null,null,null,null,null,null,null,null,null,null,null,null,{"$f":"+AH161+1","v":209},{"$f":"+Y168+1","v":210},null,null,null,null,null,null,null,null,null,null,null,null,null,null,null,{"$f":"IF(LEN(Y168)=1,CONCATENATE(\"00\",Y168),IF(LEN(Y168)=2,CONCATENATE(\"0\",Y168),Y168))","v":209},210,null,null,null,null,null,null,null,null,null,null,null,null,null,null,null,{"$f":"+$BI$125&AP168&$BJ$124","v":"=+IMPORTARDATOSDINAMICOS(\" BAS209\";TABLAS!$A$211)"},"=+IMPORTARDATOSDINAMICOS(\" BAS210\";TABLAS!$A$211)"]
[null,null,null,64,"Dengue (5)",{"$f":"+GETPIVOTDATA(\" BAS211\",TABLAS!$A$211)","v":0},{"$f":"+GETPIVOTDATA(\" BAS212\",TABLAS!$A$211)","v":0},null,null,null,null,null,null,null,null,null,null,null,null,null,null,null,null,null,{"$f":"+Z168+1","v":211},{"$f":"+Y169+1","v":212},null,null,null,null,null,null,null,null,null,null,null,null,null,null,null,211,212,null,null,null,null,null,null,null,null,null,null,null,null,null,null,null,"=+IMPORTARDATOSDINAMICOS(\" BAS211\";TABLAS!$A$211)","=+IMPORTARDATOSDINAMICOS(\" BAS212\";TABLAS!$A$211)"]
[null,null,null,65,"Chikungunya (2)",{"$f":"+GETPIVOTDATA(\" BAS213\",TABLAS!$A$211)","v":0},{"$f":"+GETPIVOTDATA(\" BAS214\",TABLAS!$A$211)","v":0},null,null,null,null,null,null,null,null,null,null,null,null,null,null,null,null,null,{"$f":"+Z169+1","v":213},214,null,null,null,null,null,null,null,null,null,null,null,null,null,null,null,213,214,null,null,null,null,null,null,null,null,null,null,null,null,null,null,null,"=+IMPORTARDATOSDINAMICOS(\" BAS213\";TABLAS!$A$211)","=+IMPORTARDATOSDINAMICOS(\" BAS214\";TABLAS!$A$211)"]
[null,null,null,66,"Zika (3)",{"$f":"+GETPIVOTDATA(\" BAS215\",TABLAS!$A$211)","v":0},{"$f":"+GETPIVOTDATA(\" BAS216\",TABLAS!$A$211)","v":0},null,null,null,null,null,null,null,null,null,null,null,null,null,null,null,null,null,215,216,null,null,null,null,null,null,null,null,null,null,null,null,null,null,null,215,216,null,null,null,null,null,null,null,null,null,null,null,null,null,null,null,"=+IMPORTARDATOSDINAMICOS(\" BAS215\";TABLAS!$A$211)","=+IMPORTARDATOSDINAMICOS(\" BAS216\";TABLAS!$A$211)"]
[null,null,null,67,"Bartonelosis (6)",{"$f":"+GETPIVOTDATA(\" BAS217\",TABLAS!$A$211)","v":0},{"$f":"+GETPIVOTDATA(\" BAS218\",TABLAS!$A$211)","v":0},null,null,null,null,null,null,null,null,null,null,null,null,null,null,null,null,null,217,218,null,null,null,null,null,null,null,null,null,null,null,null,null,null,null,217,218,null,null,null,null,null,null,null,null,null,null,null,null,null,null,null,"=+IMPORTARDATOSDINAMICOS(\" BAS217\";TABLAS!$A$211)","=+IMPORTARDATOSDINAMICOS(\" BAS218\";TABLAS!$A$211)"]
[null,null,null,68,"Fiebre Amarilla (7)",{"$f":"+GETPIVOTDATA(\" BAS219\",TABLAS!$A$211)","v":0},{"$f":"+GETPIVOTDATA(\" BAS220\",TABLAS!$A$211)","v":0},null,null,null,null,null,null,null,null,null,null,null,null,null,null,null,null,null,219,220,null,null,null,null,null,null,null,null,null,null,null,null,null,null,null,219,220,null,null,null,null,null,null,null,null,null,null,null,null,null,null,null,"=+IMPORTARDATOSDINAMICOS(\" BAS219\";TABLAS!$A$211)","=+IMPORTARDATOSDINAMICOS(\" BAS220\";TABLAS!$A$211)"]
[null,null,null,69,"Chagas (8)",{"$f":"+GETPIVOTDATA(\" BAS221\",TABLAS!$A$211)","v":0},{"$f":"+GETPIVOTDATA(\" BAS222\",TABLAS!$A$211)","v":0},null,null,null,null,null,null,null,null,null,null,null,null,null,null,null,null,null,221,222,null,null,null,null,null,null,null,null,null,null,null,null,null,null,null,221,222,null,null,null,null,null,null,null,null,null,null,null,null,null,null,null,"=+IMPORTARDATOSDINAMICOS(\" BAS221\";TABLAS!$A$211)","=+IMPORTARDATOSDINAMICOS(\" BAS222\";TABLAS!$A$211)"]
[null,null,null,70,"Leishmaniosis (9)",{"$f":"+GETPIVOTDATA(\" BAS223\",TABLAS!$A$211)","v":0},{"$f":"+GETPIVOTDATA(\" BAS224\",TABLAS!$A$211)","v":0},null,null,null,null,null,null,null,null,null,null,null,null,null,null,null,null,null,{"$f":"+Z174+1","v":223},224,null,null,null,null,null,null,null,null,null,null,null,null,null,null,null,223,224,null,null,null,null,null,null,null,null,null,null,null,null,null,null,null,"=+IMPORTARDATOSDINAMICOS(\" BAS223\";TABLAS!$A$211)","=+IMPORTARDATOSDINAMICOS(\" BAS224\";TABLAS!$A$211)"]
[null,null,"fin"]
[null,null,null,null,"Zoonoticas",null,null,null,null,null,null,null,null,null,null,null,null,null,null,null,null,null,null,null,null,null,null,null,null,null,null,null,null,null,null,null,null,null,null,null,null,null,null,null,null,null,null,null,null,null,null,null,null,null,null,null,null,null,null,null,"\";TABLAS!$A$246)",null,null,null,11]
[null,null,null,null,null,1,2,null,null,null,null,null,null,null,null,null,null,null,null,null,null,null,null,null,null,null,null,null,null,null,null,null,null,null,null,null,null,null,null,null,null,null,null,null,null,null,null,null,null,null,null,null,null,null,null,null,null,null,null,"=+IMPORTARDATOSDINAMICOS(\" BAS"]
[null,null,null,null,"Tematica","Nº","N° de participantes"]
[null,null,null,71,"Rabia (4)",{"$f":"+GETPIVOTDATA(\" BAS001\",TABLAS!$A$246)","v":0},{"$f":"+GETPIVOTDATA(\" BAS002\",TABLAS!$A$246)","v":0},null,null,null,null,null,null,null,null,null,null,null,null,null,null,null,null,null,{"$f":"+AH173+1","v":1},{"$f":"+Y180+1","v":2},null,null,null,null,null,null,null,null,null,null,null,null,null,null,null,{"$f":"IF(LEN(Y180)=1,CONCATENATE(\"00\",Y180),IF(LEN(Y180)=2,CONCATENATE(\"0\",Y180),Y180))","v":"001"},"002",null,null,null,null,null,null,null,null,null,null,null,null,null,null,null,{"$f":"+$BH$178&AP180&$BI$177","v":"=+IMPORTARDATOSDINAMICOS(\" BAS001\";TABLAS!$A$246)"},{"$f":"+$BH$178&AQ180&$BI$177","v":"=+IMPORTARDATOSDINAMICOS(\" BAS002\";TABLAS!$A$246)"}]
[null,null,null,72,"Peste (10)",{"$f":"+GETPIVOTDATA(\" BAS003\",TABLAS!$A$246)","v":0},{"$f":"+GETPIVOTDATA(\" BAS004\",TABLAS!$A$246)","v":0},null,null,null,null,null,null,null,null,null,null,null,null,null,null,null,null,null,{"$f":"+Z180+1","v":3},{"$f":"+Y181+1","v":4},null,null,null,null,null,null,null,null,null,null,null,null,null,null,null,"003","004",null,null,null,null,null,null,null,null,null,null,null,null,null,null,null,{"$f":"+$BH$178&AP181&$BI$177","v":"=+IMPORTARDATOSDINAMICOS(\" BAS003\";TABLAS!$A$246)"},"=+IMPORTARDATOSDINAMICOS(\" BAS004\";TABLAS!$A$246)"]
[null,null,null,73,"Leptospirosis (11)",{"$f":"+GETPIVOTDATA(\" BAS005\",TABLAS!$A$246)","v":0},{"$f":"+GETPIVOTDATA(\" BAS006\",TABLAS!$A$246)","v":0},null,null,null,null,null,null,null,null,null,null,null,null,null,null,null,null,null,{"$f":"+Z181+1","v":5},6,null,null,null,null,null,null,null,null,null,null,null,null,null,null,null,"005","006",null,null,null,null,null,null,null,null,null,null,null,null,null,null,null,"=+IMPORTARDATOSDINAMICOS(\" BAS005\";TABLAS!$A$246)","=+IMPORTARDATOSDINAMICOS(\" BAS006\";TABLAS!$A$246)"]
[null,null,null,74,"Tifus (12)",{"$f":"+GETPIVOTDATA(\" BAS007\",TABLAS!$A$246)","v":0},{"$f":"+GETPIVOTDATA(\" BAS008\",TABLAS!$A$246)","v":0},null,null,null,null,null,null,null,null,null,null,null,null,null,null,null,null,null,7,8,null,null,null,null,null,null,null,null,null,null,null,null,null,null,null,"007","008",null,null,null,null,null,null,null,null,null,null,null,null,null,null,null,"=+IMPORTARDATOSDINAMICOS(\" BAS007\";TABLAS!$A$246)","=+IMPORTARDATOSDINAMICOS(\" BAS008\";TABLAS!$A$246)"]
[null,null,null,75,"Equinococosis (13)",{"$f":"+GETPIVOTDATA(\" BAS009\",TABLAS!$A$246)","v":0},{"$f":"+GETPIVOTDATA(\" BAS010\",TABLAS!$A$246)","v":0},null,null,null,null,null,null,null,null,null,null,null,null,null,null,null,null,null,9,10,null,null,null,null,null,null,null,null,null,null,null,null,null,null,null,"009","010",null,null,null,null,null,null,null,null,null,null,null,null,null,null,null,"=+IMPORTARDATOSDINAMICOS(\" BAS009\";TABLAS!$A$246)","=+IMPORTARDATOSDINAMICOS(\" BAS010\";TABLAS!$A$246)"]
[]
[null,null,null,"4. MUNICIPIOS (COMITÉ MULTISECTORIAL) CAPACITADO Y ARTICULADO PARA MEJORAR O MITIGAR LAS CONDICIONES QUE GENERAN RIESGO DE ENFERMAR O MORIR POR ALGUNA ENFERMEDAD METAXENICA O ZOONOTICA"]
[]
[null,null,null,null,"Metaxenicas "]
[null,null,null,null,null,1,2,3,4]
[null,null,null,null,null,"ACCIONES"]
[null,null,null,null,"Tematica","Integración de información sanitaria (Sala Municipal de Salud)","Incidencia y abogacía al gobierno local","Sectorización y homologación territorial salud – gobierno local","Mapeo de actores sociales (actividades y recursos según actor social)"]
[null,null,null,76,"Malaria (1)",{"$f":"+GETPIVOTDATA(\" BAS011\",TABLAS!$A$246)","v":2},{"$f":"+GETPIVOTDATA(\" BAS012\",TABLAS!$A$246)","v":1},{"$f":"+GETPIVOTDATA(\" BAS013\",TABLAS!$A$246)","v":1},{"$f":"+GETPIVOTDATA(\" BAS014\",TABLAS!$A$246)","v":0},null,null,null,null,null,null,null,null,null,null,null,null,null,null,null,{"$f":"+Z184+1","v":11},{"$f":"+Y192+1","v":12},{"$f":"+Z192+1","v":13},14,null,null,null,null,null,null,null,null,null,null,null,null,null,{"$f":"IF(LEN(Y192)=1,CONCATENATE(\"00\",Y192),IF(LEN(Y192)=2,CONCATENATE(\"0\",Y192),Y192))","v":"011"},"012","013","014",null,null,null,null,null,null,null,null,null,null,null,null,null,{"$f":"+$BH$178&AP192&$BI$177","v":"=+IMPORTARDATOSDINAMICOS(\" BAS011\";TABLAS!$A$246)"},"=+IMPORTARDATOSDINAMICOS(\" BAS012\";TABLAS!$A$246)","=+IMPORTARDATOSDINAMICOS(\" BAS013\";TABLAS!$A$246)","=+IMPORTARDATOSDINAMICOS(\" BAS014\";TABLAS!$A$246)"]
[null,null,null,77,"Dengue (5)",{"$f":"+GETPIVOTDATA(\" BAS015\",TABLAS!$A$246)","v":24},{"$f":"+GETPIVOTDATA(\" BAS016\",TABLAS!$A$246)","v":4},{"$f":"+GETPIVOTDATA(\" BAS017\",TABLAS!$A$246)","v":0},{"$f":"+GETPIVOTDATA(\" BAS018\",TABLAS!$A$246)","v":0},null,null,null,null,null,null,null,null,null,null,null,null,null,null,null,{"$f":"+AB192+1","v":15},{"$f":"+Y193+1","v":16},17,18,null,null,null,null,null,null,null,null,null,null,null,null,null,"015","016","017","018",null,null,null,null,null,null,null,null,null,null,null,null,null,"=+IMPORTARDATOSDINAMICOS(\" BAS015\";TABLAS!$A$246)","=+IMPORTARDATOSDINAMICOS(\" BAS016\";TABLAS!$A$246)","=+IMPORTARDATOSDINAMICOS(\" BAS017\";TABLAS!$A$246)","=+IMPORTARDATOSDINAMICOS(\" BAS018\";TABLAS!$A$246)"]
[null,null,null,78,"Chikungunya (2)",{"$f":"+GETPIVOTDATA(\" BAS019\",TABLAS!$A$246)","v":0},{"$f":"+GETPIVOTDATA(\" BAS020\",TABLAS!$A$246)","v":0},{"$f":"+GETPIVOTDATA(\" BAS021\",TABLAS!$A$246)","v":0},{"$f":"+GETPIVOTDATA(\" BAS022\",TABLAS!$A$246)","v":0},null,null,null,null,null,null,null,null,null,null,null,null,null,null,null,{"$f":"+AB193+1","v":19},20,21,22,null,null,null,null,null,null,null,null,null,null,null,null,null,"019","020","021","022",null,null,null,null,null,null,null,null,null,null,null,null,null,"=+IMPORTARDATOSDINAMICOS(\" BAS019\";TABLAS!$A$246)","=+IMPORTARDATOSDINAMICOS(\" BAS020\";TABLAS!$A$246)","=+IMPORTARDATOSDINAMICOS(\" BAS021\";TABLAS!$A$246)","=+IMPORTARDATOSDINAMICOS(\" BAS022\";TABLAS!$A$246)"]
[null,null,null,79,"Zika (3)",{"$f":"+GETPIVOTDATA(\" BAS023\",TABLAS!$A$246)","v":0},{"$f":"+GETPIVOTDATA(\" BAS024\",TABLAS!$A$246)","v":0},{"$f":"+GETPIVOTDATA(\" BAS025\",TABLAS!$A$246)","v":0},{"$f":"+GETPIVOTDATA(\" BAS026\",TABLAS!$A$246)","v":0},null,null,null,null,null,null,null,null,null,null,null,null,null,null,null,23,24,25,26,null,null,null,null,null,null,null,null,null,null,null,null,null,"023","024","025","026",null,null,null,null,null,null,null,null,null,null,null,null,null,"=+IMPORTARDATOSDINAMICOS(\" BAS023\";TABLAS!$A$246)","=+IMPORTARDATOSDINAMICOS(\" BAS024\";TABLAS!$A$246)","=+IMPORTARDATOSDINAMICOS(\" BAS025\";TABLAS!$A$246)","=+IMPORTARDATOSDINAMICOS(\" BAS026\";TABLAS!$A$246)"]
[null,null,null,80,"Bartonelosis (6)",{"$f":"+GETPIVOTDATA(\" BAS027\",TABLAS!$A$246)","v":2},{"$f":"+GETPIVOTDATA(\" BAS028\",TABLAS!$A$246)","v":0},{"$f":"+GETPIVOTDATA(\" BAS029\",TABLAS!$A$246)","v":0},{"$f":"+GETPIVOTDATA(\" BAS030\",TABLAS!$A$246)","v":0},null,null,null,null,null,null,null,null,null,null,null,null,null,null,null,27,28,29,30,null,null,null,null,null,null,null,null,null,null,null,null,null,"027","028","029","030",null,null,null,null,null,null,null,null,null,null,null,null,null,"=+IMPORTARDATOSDINAMICOS(\" BAS027\";TABLAS!$A$246)","=+IMPORTARDATOSDINAMICOS(\" BAS028\";TABLAS!$A$246)","=+IMPORTARDATOSDINAMICOS(\" BAS029\";TABLAS!$A$246)","=+IMPORTARDATOSDINAMICOS(\" BAS030\";TABLAS!$A$246)"]
[null,null,null,81,"Fiebre Amarilla (7)",{"$f":"+GETPIVOTDATA(\" BAS031\",TABLAS!$A$246)","v":2},{"$f":"+GETPIVOTDATA(\" BAS032\",TABLAS!$A$246)","v":1},{"$f":"+GETPIVOTDATA(\" BAS033\",TABLAS!$A$246)","v":0},{"$f":"+GETPIVOTDATA(\" BAS034\",TABLAS!$A$246)","v":0},null,null,null,null,null,null,null,null,null,null,null,null,null,null,null,31,32,33,34,null,null,null,null,null,null,null,null,null,null,null,null,null,"031","032","033","034",null,null,null,null,null,null,null,null,null,null,null,null,null,"=+IMPORTARDATOSDINAMICOS(\" BAS031\";TABLAS!$A$246)","=+IMPORTARDATOSDINAMICOS(\" BAS032\";TABLAS!$A$246)","=+IMPORTARDATOSDINAMICOS(\" BAS033\";TABLAS!$A$246)","=+IMPORTARDATOSDINAMICOS(\" BAS034\";TABLAS!$A$246)"]
[null,null,null,82,"Chagas (8)",{"$f":"+GETPIVOTDATA(\" BAS035\",TABLAS!$A$246)","v":0},{"$f":"+GETPIVOTDATA(\" BAS036\",TABLAS!$A$246)","v":0},{"$f":"+GETPIVOTDATA(\" BAS037\",TABLAS!$A$246)","v":0},{"$f":"+GETPIVOTDATA(\" BAS038\",TABLAS!$A$246)","v":0},null,null,null,null,null,null,null,null,null,null,null,null,null,null,null,35,36,37,38,null,null,null,null,null,null,null,null,null,null,null,null,null,"035","036","037","038",null,null,null,null,null,null,null,null,null,null,null,null,null,"=+IMPORTARDATOSDINAMICOS(\" BAS035\";TABLAS!$A$246)","=+IMPORTARDATOSDINAMICOS(\" BAS036\";TABLAS!$A$246)","=+IMPORTARDATOSDINAMICOS(\" BAS037\";TABLAS!$A$246)","=+IMPORTARDATOSDINAMICOS(\" BAS038\";TABLAS!$A$246)"]
[null,null,null,83,"Leishmaniosis (9)",{"$f":"+GETPIVOTDATA(\" BAS039\",TABLAS!$A$246)","v":3},{"$f":"+GETPIVOTDATA(\" BAS040\",TABLAS!$A$246)","v":3},{"$f":"+GETPIVOTDATA(\" BAS041\",TABLAS!$A$246)","v":0},{"$f":"+GETPIVOTDATA(\" BAS042\",TABLAS!$A$246)","v":0},null,null,null,null,null,null,null,null,null,null,null,null,null,null,null,39,40,41,42,null,null,null,null,null,null,null,null,null,null,null,null,null,"039","040","041","042",null,null,null,null,null,null,null,null,null,null,null,null,null,"=+IMPORTARDATOSDINAMICOS(\" BAS039\";TABLAS!$A$246)","=+IMPORTARDATOSDINAMICOS(\" BAS040\";TABLAS!$A$246)","=+IMPORTARDATOSDINAMICOS(\" BAS041\";TABLAS!$A$246)","=+IMPORTARDATOSDINAMICOS(\" BAS042\";TABLAS!$A$246)"]
[]
[]
[null,null,null,null,"Zoonoticas"]
[null,null,null,null,null,1,2,3,4]
[null,null,null,null,null,"ACCIONES"]
[null,null,null,null,"Tematica","Integración de información sanitaria (Sala Municipal de Salud)","Incidencia y abogacía al gobierno local","Sectorización y homologación territorial salud – gobierno local","Mapeo de actores sociales (actividades y recursos según actor social)"]
[null,null,null,84,"Rabia (4)",{"$f":"+GETPIVOTDATA(\" BAS043\",TABLAS!$A$246)","v":6},{"$f":"+GETPIVOTDATA(\" BAS044\",TABLAS!$A$246)","v":3},{"$f":"+GETPIVOTDATA(\" BAS045\",TABLAS!$A$246)","v":0},{"$f":"+GETPIVOTDATA(\" BAS046\",TABLAS!$A$246)","v":0},null,null,null,null,null,null,null,null,null,null,null,null,null,null,null,{"$f":"+AB199+1","v":43},{"$f":"+Y206+1","v":44},{"$f":"+Z206+1","v":45},46,null,null,null,null,null,null,null,null,null,null,null,null,null,{"$f":"IF(LEN(Y206)=1,CONCATENATE(\"00\",Y206),IF(LEN(Y206)=2,CONCATENATE(\"0\",Y206),Y206))","v":"043"},"044","045","046",null,null,null,null,null,null,null,null,null,null,null,null,null,{"$f":"+$BH$178&AP206&$BI$177","v":"=+IMPORTARDATOSDINAMICOS(\" BAS043\";TABLAS!$A$246)"},"=+IMPORTARDATOSDINAMICOS(\" BAS044\";TABLAS!$A$246)","=+IMPORTARDATOSDINAMICOS(\" BAS045\";TABLAS!$A$246)","=+IMPORTARDATOSDINAMICOS(\" BAS046\";TABLAS!$A$246)"]
[null,null,null,85,"Peste (10)",{"$f":"+GETPIVOTDATA(\" BAS047\",TABLAS!$A$246)","v":0},{"$f":"+GETPIVOTDATA(\" BAS048\",TABLAS!$A$246)","v":0},{"$f":"+GETPIVOTDATA(\" BAS049\",TABLAS!$A$246)","v":0},{"$f":"+GETPIVOTDATA(\" BAS050\",TABLAS!$A$246)","v":0},null,null,null,null,null,null,null,null,null,null,null,null,null,null,null,{"$f":"+AB206+1","v":47},{"$f":"+Y207+1","v":48},49,50,null,null,null,null,null,null,null,null,null,null,null,null,null,"047","048","049","050",null,null,null,null,null,null,null,null,null,null,null,null,null,"=+IMPORTARDATOSDINAMICOS(\" BAS047\";TABLAS!$A$246)","=+IMPORTARDATOSDINAMICOS(\" BAS048\";TABLAS!$A$246)","=+IMPORTARDATOSDINAMICOS(\" BAS049\";TABLAS!$A$246)","=+IMPORTARDATOSDINAMICOS(\" BAS050\";TABLAS!$A$246)"]
[null,null,null,86,"Leptospirosis (11)",{"$f":"+GETPIVOTDATA(\" BAS051\",TABLAS!$A$246)","v":3},{"$f":"+GETPIVOTDATA(\" BAS052\",TABLAS!$A$246)","v":2},{"$f":"+GETPIVOTDATA(\" BAS053\",TABLAS!$A$246)","v":0},{"$f":"+GETPIVOTDATA(\" BAS054\",TABLAS!$A$246)","v":0},null,null,null,null,null,null,null,null,null,null,null,null,null,null,null,{"$f":"+AB207+1","v":51},52,53,54,null,null,null,null,null,null,null,null,null,null,null,null,null,"051","052","053","054",null,null,null,null,null,null,null,null,null,null,null,null,null,"=+IMPORTARDATOSDINAMICOS(\" BAS051\";TABLAS!$A$246)","=+IMPORTARDATOSDINAMICOS(\" BAS052\";TABLAS!$A$246)","=+IMPORTARDATOSDINAMICOS(\" BAS053\";TABLAS!$A$246)","=+IMPORTARDATOSDINAMICOS(\" BAS054\";TABLAS!$A$246)"]
[null,null,null,87,"Tifus (12)",{"$f":"+GETPIVOTDATA(\" BAS055\",TABLAS!$A$246)","v":0},{"$f":"+GETPIVOTDATA(\" BAS056\",TABLAS!$A$246)","v":0},{"$f":"+GETPIVOTDATA(\" BAS057\",TABLAS!$A$246)","v":0},{"$f":"+GETPIVOTDATA(\" BAS058\",TABLAS!$A$246)","v":0},null,null,null,null,null,null,null,null,null,null,null,null,null,null,null,55,56,57,58,null,null,null,null,null,null,null,null,null,null,null,null,null,"055","056","057","058",null,null,null,null,null,null,null,null,null,null,null,null,null,"=+IMPORTARDATOSDINAMICOS(\" BAS055\";TABLAS!$A$246)","=+IMPORTARDATOSDINAMICOS(\" BAS056\";TABLAS!$A$246)","=+IMPORTARDATOSDINAMICOS(\" BAS057\";TABLAS!$A$246)","=+IMPORTARDATOSDINAMICOS(\" BAS058\";TABLAS!$A$246)"]
[null,null,null,88,"Equinococosis (13)",{"$f":"+GETPIVOTDATA(\" BAS059\",TABLAS!$A$246)","v":0},{"$f":"+GETPIVOTDATA(\" BAS060\",TABLAS!$A$246)","v":0},{"$f":"+GETPIVOTDATA(\" BAS061\",TABLAS!$A$246)","v":0},{"$f":"+GETPIVOTDATA(\" BAS062\",TABLAS!$A$246)","v":0},null,null,null,null,null,null,null,null,null,null,null,null,null,null,null,59,60,61,62,null,null,null,null,null,null,null,null,null,null,null,null,null,"059","060","061","062",null,null,null,null,null,null,null,null,null,null,null,null,null,"=+IMPORTARDATOSDINAMICOS(\" BAS059\";TABLAS!$A$246)","=+IMPORTARDATOSDINAMICOS(\" BAS060\";TABLAS!$A$246)","=+IMPORTARDATOSDINAMICOS(\" BAS061\";TABLAS!$A$246)","=+IMPORTARDATOSDINAMICOS(\" BAS062\";TABLAS!$A$246)"]
[]
[null,null,null,null,"Conformación y reuniones del comité multisectorial"]
[]
[null,null,null,null,"Metaxenicas "]
[null,null,null,null,null,1]
[null,null,null,null,"Tematica","Nº"]
[null,null,null,98,"Malaria (1)",{"$f":"+GETPIVOTDATA(\" BAS063\",TABLAS!$A$246)","v":2},null,null,null,null,null,null,null,null,null,null,null,null,null,null,null,null,null,null,{"$f":"+AB210+1","v":63},null,null,null,null,null,null,null,null,null,null,null,null,null,null,null,null,{"$f":"IF(LEN(Y217)=1,CONCATENATE(\"00\",Y217),IF(LEN(Y217)=2,CONCATENATE(\"0\",Y217),Y217))","v":"063"},null,null,null,null,null,null,null,null,null,null,null,null,null,null,null,null,{"$f":"+$BH$178&AP217&$BI$177","v":"=+IMPORTARDATOSDINAMICOS(\" BAS063\";TABLAS!$A$246)"}]
[null,null,null,99,"Dengue (5)",{"$f":"+GETPIVOTDATA(\" BAS064\",TABLAS!$A$246)","v":6},null,null,null,null,null,null,null,null,null,null,null,null,null,null,null,null,null,null,{"$f":"+Y217+1","v":64},null,null,null,null,null,null,null,null,null,null,null,null,null,null,null,null,"064",null,null,null,null,null,null,null,null,null,null,null,null,null,null,null,null,"=+IMPORTARDATOSDINAMICOS(\" BAS064\";TABLAS!$A$246)"]
[null,null,null,100,"Chikungunya (2)",{"$f":"+GETPIVOTDATA(\" BAS065\",TABLAS!$A$246)","v":0},null,null,null,null,null,null,null,null,null,null,null,null,null,null,null,null,null,null,{"$f":"+Y218+1","v":65},null,null,null,null,null,null,null,null,null,null,null,null,null,null,null,null,"065",null,null,null,null,null,null,null,null,null,null,null,null,null,null,null,null,"=+IMPORTARDATOSDINAMICOS(\" BAS065\";TABLAS!$A$246)"]
[null,null,null,101,"Zika (3)",{"$f":"+GETPIVOTDATA(\" BAS066\",TABLAS!$A$246)","v":0},null,null,null,null,null,null,null,null,null,null,null,null,null,null,null,null,null,null,66,null,null,null,null,null,null,null,null,null,null,null,null,null,null,null,null,"066",null,null,null,null,null,null,null,null,null,null,null,null,null,null,null,null,"=+IMPORTARDATOSDINAMICOS(\" BAS066\";TABLAS!$A$246)"]
[null,null,null,102,"Bartonelosis (6)",{"$f":"+GETPIVOTDATA(\" BAS067\",TABLAS!$A$246)","v":2},null,null,null,null,null,null,null,null,null,null,null,null,null,null,null,null,null,null,67,null,null,null,null,null,null,null,null,null,null,null,null,null,null,null,null,"067",null,null,null,null,null,null,null,null,null,null,null,null,null,null,null,null,"=+IMPORTARDATOSDINAMICOS(\" BAS067\";TABLAS!$A$246)"]
[null,null,null,103,"Fiebre Amarilla (7)",{"$f":"+GETPIVOTDATA(\" BAS068\",TABLAS!$A$246)","v":2},null,null,null,null,null,null,null,null,null,null,null,null,null,null,null,null,null,null,68,null,null,null,null,null,null,null,null,null,null,null,null,null,null,null,null,"068",null,null,null,null,null,null,null,null,null,null,null,null,null,null,null,null,"=+IMPORTARDATOSDINAMICOS(\" BAS068\";TABLAS!$A$246)"]
[null,null,null,104,"Chagas (8)",{"$f":"+GETPIVOTDATA(\" BAS069\",TABLAS!$A$246)","v":0},null,null,null,null,null,null,null,null,null,null,null,null,null,null,null,null,null,null,69,null,null,null,null,null,null,null,null,null,null,null,null,null,null,null,null,"069",null,null,null,null,null,null,null,null,null,null,null,null,null,null,null,null,"=+IMPORTARDATOSDINAMICOS(\" BAS069\";TABLAS!$A$246)"]
[null,null,null,105,"Leishmaniosis (9)",{"$f":"+GETPIVOTDATA(\" BAS070\",TABLAS!$A$246)","v":2},null,null,null,null,null,null,null,null,null,null,null,null,null,null,null,null,null,null,70,null,null,null,null,null,null,null,null,null,null,null,null,null,null,null,null,"070",null,null,null,null,null,null,null,null,null,null,null,null,null,null,null,null,"=+IMPORTARDATOSDINAMICOS(\" BAS070\";TABLAS!$A$246)"]
[]
[null,null,null,null,"Zoonoticas"]
[null,null,null,null,null,1]
[null,null,null,null,"Tematica","Nº"]
[null,null,null,106,"Rabia (4)",{"$f":"+GETPIVOTDATA(\" BAS071\",TABLAS!$A$246)","v":6},null,null,null,null,null,null,null,null,null,null,null,null,null,null,null,null,null,null,{"$f":"+Y224+1","v":71},null,null,null,null,null,null,null,null,null,null,null,null,null,null,null,null,{"$f":"IF(LEN(Y229)=1,CONCATENATE(\"00\",Y229),IF(LEN(Y229)=2,CONCATENATE(\"0\",Y229),Y229))","v":"071"},null,null,null,null,null,null,null,null,null,null,null,null,null,null,null,null,{"$f":"+$BH$178&AP229&$BI$177","v":"=+IMPORTARDATOSDINAMICOS(\" BAS071\";TABLAS!$A$246)"}]
[null,null,null,107,"Peste (10)",{"$f":"+GETPIVOTDATA(\" BAS072\",TABLAS!$A$246)","v":0},null,null,null,null,null,null,null,null,null,null,null,null,null,null,null,null,null,null,{"$f":"+Y229+1","v":72},null,null,null,null,null,null,null,null,null,null,null,null,null,null,null,null,"072",null,null,null,null,null,null,null,null,null,null,null,null,null,null,null,null,"=+IMPORTARDATOSDINAMICOS(\" BAS072\";TABLAS!$A$246)"]
[null,null,null,108,"Leptospirosis (11)",{"$f":"+GETPIVOTDATA(\" BAS073\",TABLAS!$A$246)","v":2},null,null,null,null,null,null,null,null,null,null,null,null,null,null,null,null,null,null,{"$f":"+Y230+1","v":73},null,null,null,null,null,null,null,null,null,null,null,null,null,null,null,null,"073",null,null,null,null,null,null,null,null,null,null,null,null,null,null,null,null,"=+IMPORTARDATOSDINAMICOS(\" BAS073\";TABLAS!$A$246)"]
[null,null,null,109,"Tifus (12)",{"$f":"+GETPIVOTDATA(\" BAS074\",TABLAS!$A$246)","v":0},null,null,null,null,null,null,null,null,null,null,null,null,null,null,null,null,null,null,74,null,null,null,null,null,null,null,null,null,null,null,null,null,null,null,null,"074",null,null,null,null,null,null,null,null,null,null,null,null,null,null,null,null,"=+IMPORTARDATOSDINAMICOS(\" BAS074\";TABLAS!$A$246)"]
[null,null,null,110,"Equinococosis (13)",{"$f":"+GETPIVOTDATA(\" BAS075\",TABLAS!$A$246)","v":0},null,null,null,null,null,null,null,null,null,null,null,null,null,null,null,null,null,null,75,null,null,null,null,null,null,null,null,null,null,null,null,null,null,null,null,"075",null,null,null,null,null,null,null,null,null,null,null,null,null,null,null,null,"=+IMPORTARDATOSDINAMICOS(\" BAS075\";TABLAS!$A$246)"]
[]
[null,null,null,null,"Asistencia técnica para elaboración del plan multisectorial."]
[]
[null,null,null,null,"Metaxenicas "]
[null,null,null,null,null,1,2]
[null,null,null,null,"Tematica","PLAN (1)","PPR (2)"]
[null,null,null,111,"Malaria (1)",{"$f":"+GETPIVOTDATA(\" BAS076\",TABLAS!$A$246)","v":0},{"$f":"+GETPIVOTDATA(\" BAS077\",TABLAS!$A$246)","v":0},null,null,null,null,null,null,null,null,null,null,null,null,null,null,null,null,null,{"$f":"+Y233+1","v":76},{"$f":"+Y240+1","v":77},null,null,null,null,null,null,null,null,null,null,null,null,null,null,null,{"$f":"IF(LEN(Y240)=1,CONCATENATE(\"00\",Y240),IF(LEN(Y240)=2,CONCATENATE(\"0\",Y240),Y240))","v":"076"},"077",null,null,null,null,null,null,null,null,null,null,null,null,null,null,null,{"$f":"+$BH$178&AP240&$BI$177","v":"=+IMPORTARDATOSDINAMICOS(\" BAS076\";TABLAS!$A$246)"},"=+IMPORTARDATOSDINAMICOS(\" BAS077\";TABLAS!$A$246)"]
[null,null,null,112,"Dengue (5)",{"$f":"+GETPIVOTDATA(\" BAS078\",TABLAS!$A$246)","v":0},{"$f":"+GETPIVOTDATA(\" BAS079\",TABLAS!$A$246)","v":0},null,null,null,null,null,null,null,null,null,null,null,null,null,null,null,null,null,{"$f":"+Z240+1","v":78},79,null,null,null,null,null,null,null,null,null,null,null,null,null,null,null,"078","079",null,null,null,null,null,null,null,null,null,null,null,null,null,null,null,"=+IMPORTARDATOSDINAMICOS(\" BAS078\";TABLAS!$A$246)","=+IMPORTARDATOSDINAMICOS(\" BAS079\";TABLAS!$A$246)"]
[null,null,null,113,"Chikungunya (2)",{"$f":"+GETPIVOTDATA(\" BAS080\",TABLAS!$A$246)","v":0},{"$f":"+GETPIVOTDATA(\" BAS081\",TABLAS!$A$246)","v":0},null,null,null,null,null,null,null,null,null,null,null,null,null,null,null,null,null,{"$f":"+Z241+1","v":80},81,null,null,null,null,null,null,null,null,null,null,null,null,null,null,null,"080","081",null,null,null,null,null,null,null,null,null,null,null,null,null,null,null,"=+IMPORTARDATOSDINAMICOS(\" BAS080\";TABLAS!$A$246)","=+IMPORTARDATOSDINAMICOS(\" BAS081\";TABLAS!$A$246)"]
[null,null,null,114,"Zika (3)",{"$f":"+GETPIVOTDATA(\" BAS082\",TABLAS!$A$246)","v":0},{"$f":"+GETPIVOTDATA(\" BAS083\",TABLAS!$A$246)","v":0},null,null,null,null,null,null,null,null,null,null,null,null,null,null,null,null,null,82,83,null,null,null,null,null,null,null,null,null,null,null,null,null,null,null,"082","083",null,null,null,null,null,null,null,null,null,null,null,null,null,null,null,"=+IMPORTARDATOSDINAMICOS(\" BAS082\";TABLAS!$A$246)","=+IMPORTARDATOSDINAMICOS(\" BAS083\";TABLAS!$A$246)"]
[null,null,null,115,"Bartonelosis (6)",{"$f":"+GETPIVOTDATA(\" BAS084\",TABLAS!$A$246)","v":0},{"$f":"+GETPIVOTDATA(\" BAS085\",TABLAS!$A$246)","v":0},null,null,null,null,null,null,null,null,null,null,null,null,null,null,null,null,null,84,85,null,null,null,null,null,null,null,null,null,null,null,null,null,null,null,"084","085",null,null,null,null,null,null,null,null,null,null,null,null,null,null,null,"=+IMPORTARDATOSDINAMICOS(\" BAS084\";TABLAS!$A$246)","=+IMPORTARDATOSDINAMICOS(\" BAS085\";TABLAS!$A$246)"]
[null,null,null,116,"Fiebre Amarilla (7)",{"$f":"+GETPIVOTDATA(\" BAS086\",TABLAS!$A$246)","v":0},{"$f":"+GETPIVOTDATA(\" BAS087\",TABLAS!$A$246)","v":0},null,null,null,null,null,null,null,null,null,null,null,null,null,null,null,null,null,86,87,null,null,null,null,null,null,null,null,null,null,null,null,null,null,null,"086","087",null,null,null,null,null,null,null,null,null,null,null,null,null,null,null,"=+IMPORTARDATOSDINAMICOS(\" BAS086\";TABLAS!$A$246)","=+IMPORTARDATOSDINAMICOS(\" BAS087\";TABLAS!$A$246)"]
[null,null,null,117,"Chagas (8)",{"$f":"+GETPIVOTDATA(\" BAS088\",TABLAS!$A$246)","v":0},{"$f":"+GETPIVOTDATA(\" BAS089\",TABLAS!$A$246)","v":0},null,null,null,null,null,null,null,null,null,null,null,null,null,null,null,null,null,88,89,null,null,null,null,null,null,null,null,null,null,null,null,null,null,null,"088","089",null,null,null,null,null,null,null,null,null,null,null,null,null,null,null,"=+IMPORTARDATOSDINAMICOS(\" BAS088\";TABLAS!$A$246)","=+IMPORTARDATOSDINAMICOS(\" BAS089\";TABLAS!$A$246)"]
[null,null,null,118,"Leishmaniosis (9)",{"$f":"+GETPIVOTDATA(\" BAS090\",TABLAS!$A$246)","v":0},{"$f":"+GETPIVOTDATA(\" BAS091\",TABLAS!$A$246)","v":0},null,null,null,null,null,null,null,null,null,null,null,null,null,null,null,null,null,90,91,null,null,null,null,null,null,null,null,null,null,null,null,null,null,null,"090","091",null,null,null,null,null,null,null,null,null,null,null,null,null,null,null,"=+IMPORTARDATOSDINAMICOS(\" BAS090\";TABLAS!$A$246)","=+IMPORTARDATOSDINAMICOS(\" BAS091\";TABLAS!$A$246)"]
[]
[null,null,null,null,"Zoonoticas"]
[null,null,null,null,null,1,2]
[null,null,null,null,"Tematica","PLAN (1)","PPR (2)"]
[null,null,null,119,"Rabia (4)",{"$f":"+GETPIVOTDATA(\" BAS092\",TABLAS!$A$246)","v":0},{"$f":"+GETPIVOTDATA(\" BAS093\",TABLAS!$A$246)","v":0},null,null,null,null,null,null,null,null,null,null,null,null,null,null,null,null,null,{"$f":"+Z247+1","v":92},{"$f":"+Y252+1","v":93},null,null,null,null,null,null,null,null,null,null,null,null,null,null,null,{"$f":"IF(LEN(Y252)=1,CONCATENATE(\"00\",Y252),IF(LEN(Y252)=2,CONCATENATE(\"0\",Y252),Y252))","v":"092"},"093",null,null,null,null,null,null,null,null,null,null,null,null,null,null,null,{"$f":"+$BH$178&AP252&$BI$177","v":"=+IMPORTARDATOSDINAMICOS(\" BAS092\";TABLAS!$A$246)"},"=+IMPORTARDATOSDINAMICOS(\" BAS093\";TABLAS!$A$246)"]
[null,null,null,120,"Peste (10)",{"$f":"+GETPIVOTDATA(\" BAS094\",TABLAS!$A$246)","v":0},{"$f":"+GETPIVOTDATA(\" BAS095\",TABLAS!$A$246)","v":0},null,null,null,null,null,null,null,null,null,null,null,null,null,null,null,null,null,{"$f":"+Z252+1","v":94},95,null,null,null,null,null,null,null,null,null,null,null,null,null,null,null,"094","095",null,null,null,null,null,null,null,null,null,null,null,null,null,null,null,"=+IMPORTARDATOSDINAMICOS(\" BAS094\";TABLAS!$A$246)","=+IMPORTARDATOSDINAMICOS(\" BAS095\";TABLAS!$A$246)"]
[null,null,null,121,"Leptospirosis (11)",{"$f":"+GETPIVOTDATA(\" BAS096\",TABLAS!$A$246)","v":0},{"$f":"+GETPIVOTDATA(\" BAS097\",TABLAS!$A$246)","v":0},null,null,null,null,null,null,null,null,null,null,null,null,null,null,null,null,null,{"$f":"+Z253+1","v":96},97,null,null,null,null,null,null,null,null,null,null,null,null,null,null,null,"096","097",null,null,null,null,null,null,null,null,null,null,null,null,null,null,null,"=+IMPORTARDATOSDINAMICOS(\" BAS096\";TABLAS!$A$246)","=+IMPORTARDATOSDINAMICOS(\" BAS097\";TABLAS!$A$246)"]
[null,null,null,122,"Tifus (12)",{"$f":"+GETPIVOTDATA(\" BAS098\",TABLAS!$A$246)","v":0},{"$f":"+GETPIVOTDATA(\" BAS099\",TABLAS!$A$246)","v":0},null,null,null,null,null,null,null,null,null,null,null,null,null,null,null,null,null,98,99,null,null,null,null,null,null,null,null,null,null,null,null,null,null,null,"098","099",null,null,null,null,null,null,null,null,null,null,null,null,null,null,null,"=+IMPORTARDATOSDINAMICOS(\" BAS098\";TABLAS!$A$246)","=+IMPORTARDATOSDINAMICOS(\" BAS099\";TABLAS!$A$246)"]
[null,null,null,123,"Equinococosis (13)",{"$f":"+GETPIVOTDATA(\" BAS100\",TABLAS!$A$246)","v":0},{"$f":"+GETPIVOTDATA(\" BAS101\",TABLAS!$A$246)","v":0},null,null,null,null,null,null,null,null,null,null,null,null,null,null,null,null,null,100,101,null,null,null,null,null,null,null,null,null,null,null,null,null,null,null,100,101,null,null,null,null,null,null,null,null,null,null,null,null,null,null,null,"=+IMPORTARDATOSDINAMICOS(\" BAS100\";TABLAS!$A$246)","=+IMPORTARDATOSDINAMICOS(\" BAS101\";TABLAS!$A$246)"]
[]
[null,null,null,null,"Monitoreo"]
[]
[null,null,null,null,"Metaxenicas "]
[null,null,null,null,null,1]
[null,null,null,null,"Tematica","Nº"]
[null,null,null,124,"Malaria (1)",{"$f":"+GETPIVOTDATA(\" BAS102\",TABLAS!$A$246)","v":0},null,null,null,null,null,null,null,null,null,null,null,null,null,null,null,null,null,null,{"$f":"+Z256+1","v":102},null,null,null,null,null,null,null,null,null,null,null,null,null,null,null,null,{"$f":"IF(LEN(Y263)=1,CONCATENATE(\"00\",Y263),IF(LEN(Y263)=2,CONCATENATE(\"0\",Y263),Y263))","v":102},null,null,null,null,null,null,null,null,null,null,null,null,null,null,null,null,{"$f":"+$BH$178&AP263&$BI$177","v":"=+IMPORTARDATOSDINAMICOS(\" BAS102\";TABLAS!$A$246)"}]
[null,null,null,125,"Dengue (5)",{"$f":"+GETPIVOTDATA(\" BAS103\",TABLAS!$A$246)","v":0},null,null,null,null,null,null,null,null,null,null,null,null,null,null,null,null,null,null,{"$f":"+Y263+1","v":103},null,null,null,null,null,null,null,null,null,null,null,null,null,null,null,null,103,null,null,null,null,null,null,null,null,null,null,null,null,null,null,null,null,"=+IMPORTARDATOSDINAMICOS(\" BAS103\";TABLAS!$A$246)"]
[null,null,null,126,"Chikungunya (2)",{"$f":"+GETPIVOTDATA(\" BAS104\",TABLAS!$A$246)","v":0},null,null,null,null,null,null,null,null,null,null,null,null,null,null,null,null,null,null,{"$f":"+Y264+1","v":104},null,null,null,null,null,null,null,null,null,null,null,null,null,null,null,null,104,null,null,null,null,null,null,null,null,null,null,null,null,null,null,null,null,"=+IMPORTARDATOSDINAMICOS(\" BAS104\";TABLAS!$A$246)"]
[null,null,null,127,"Zika (3)",{"$f":"+GETPIVOTDATA(\" BAS105\",TABLAS!$A$246)","v":0},null,null,null,null,null,null,null,null,null,null,null,null,null,null,null,null,null,null,105,null,null,null,null,null,null,null,null,null,null,null,null,null,null,null,null,105,null,null,null,null,null,null,null,null,null,null,null,null,null,null,null,null,"=+IMPORTARDATOSDINAMICOS(\" BAS105\";TABLAS!$A$246)"]
[null,null,null,128,"Bartonelosis (6)",{"$f":"+GETPIVOTDATA(\" BAS106\",TABLAS!$A$246)","v":0},null,null,null,null,null,null,null,null,null,null,null,null,null,null,null,null,null,null,106,null,null,null,null,null,null,null,null,null,null,null,null,null,null,null,null,106,null,null,null,null,null,null,null,null,null,null,null,null,null,null,null,null,"=+IMPORTARDATOSDINAMICOS(\" BAS106\";TABLAS!$A$246)"]
[null,null,null,129,"Fiebre Amarilla (7)",{"$f":"+GETPIVOTDATA(\" BAS107\",TABLAS!$A$246)","v":0},null,null,null,null,null,null,null,null,null,null,null,null,null,null,null,null,null,null,107,null,null,null,null,null,null,null,null,null,null,null,null,null,null,null,null,107,null,null,null,null,null,null,null,null,null,null,null,null,null,null,null,null,"=+IMPORTARDATOSDINAMICOS(\" BAS107\";TABLAS!$A$246)"]
[null,null,null,130,"Chagas (8)",{"$f":"+GETPIVOTDATA(\" BAS108\",TABLAS!$A$246)","v":0},null,null,null,null,null,null,null,null,null,null,null,null,null,null,null,null,null,null,108,null,null,null,null,null,null,null,null,null,null,null,null,null,null,null,null,108,null,null,null,null,null,null,null,null,null,null,null,null,null,null,null,null,"=+IMPORTARDATOSDINAMICOS(\" BAS108\";TABLAS!$A$246)"]
[null,null,null,131,"Leishmaniosis (9)",{"$f":"+GETPIVOTDATA(\" BAS109\",TABLAS!$A$246)","v":0},null,null,null,null,null,null,null,null,null,null,null,null,null,null,null,null,null,null,109,null,null,null,null,null,null,null,null,null,null,null,null,null,null,null,null,109,null,null,null,null,null,null,null,null,null,null,null,null,null,null,null,null,"=+IMPORTARDATOSDINAMICOS(\" BAS109\";TABLAS!$A$246)"]
[]
[null,null,null,null,"Zoonoticas"]
[]
[null,null,null,null,"Tematica","Nº"]
[null,null,null,132,"Rabia (4)",{"$f":"+GETPIVOTDATA(\" BAS110\",TABLAS!$A$246)","v":0},null,null,null,null,null,null,null,null,null,null,null,null,null,null,null,null,null,null,{"$f":"+Y270+1","v":110},null,null,null,null,null,null,null,null,null,null,null,null,null,null,null,null,{"$f":"IF(LEN(Y275)=1,CONCATENATE(\"00\",Y275),IF(LEN(Y275)=2,CONCATENATE(\"0\",Y275),Y275))","v":110},null,null,null,null,null,null,null,null,null,null,null,null,null,null,null,null,{"$f":"+$BH$178&AP275&$BI$177","v":"=+IMPORTARDATOSDINAMICOS(\" BAS110\";TABLAS!$A$246)"}]
[null,null,null,133,"Peste (10)",{"$f":"+GETPIVOTDATA(\" BAS111\",TABLAS!$A$246)","v":0},null,null,null,null,null,null,null,null,null,null,null,null,null,null,null,null,null,null,{"$f":"+Y275+1","v":111},null,null,null,null,null,null,null,null,null,null,null,null,null,null,null,null,111,null,null,null,null,null,null,null,null,null,null,null,null,null,null,null,null,"=+IMPORTARDATOSDINAMICOS(\" BAS111\";TABLAS!$A$246)"]
[null,null,null,134,"Leptospirosis (11)",{"$f":"+GETPIVOTDATA(\" BAS112\",TABLAS!$A$246)","v":0},null,null,null,null,null,null,null,null,null,null,null,null,null,null,null,null,null,null,{"$f":"+Y276+1","v":112},null,null,null,null,null,null,null,null,null,null,null,null,null,null,null,null,112,null,null,null,null,null,null,null,null,null,null,null,null,null,null,null,null,"=+IMPORTARDATOSDINAMICOS(\" BAS112\";TABLAS!$A$246)"]
[null,null,null,135,"Tifus (12)",{"$f":"+GETPIVOTDATA(\" BAS113\",TABLAS!$A$246)","v":0},null,null,null,null,null,null,null,null,null,null,null,null,null,null,null,null,null,null,113,null,null,null,null,null,null,null,null,null,null,null,null,null,null,null,null,113,null,null,null,null,null,null,null,null,null,null,null,null,null,null,null,null,"=+IMPORTARDATOSDINAMICOS(\" BAS113\";TABLAS!$A$246)"]
[null,null,null,136,"Equinococosis (13)",{"$f":"+GETPIVOTDATA(\" BAS114\",TABLAS!$A$246)","v":0},null,null,null,null,null,null,null,null,null,null,null,null,null,null,null,null,null,null,114,null,null,null,null,null,null,null,null,null,null,null,null,null,null,null,null,114,null,null,null,null,null,null,null,null,null,null,null,null,null,null,null,null,"=+IMPORTARDATOSDINAMICOS(\" BAS114\";TABLAS!$A$246)"]
[]
[null,null,null,null,"Evaluación"]
[]
[null,null,null,null,"Metaxenicas "]
[null,null,null,null,null,1]
[null,null,null,null,"Tematica","Nº"]
[null,null,null,137,"Malaria (1)",{"$f":"+GETPIVOTDATA(\" BAS115\",TABLAS!$A$246)","v":0},null,null,null,null,null,null,null,null,null,null,null,null,null,null,null,null,null,null,{"$f":"+Y279+1","v":115},null,null,null,null,null,null,null,null,null,null,null,null,null,null,null,null,{"$f":"IF(LEN(Y286)=1,CONCATENATE(\"00\",Y286),IF(LEN(Y286)=2,CONCATENATE(\"0\",Y286),Y286))","v":115},null,null,null,null,null,null,null,null,null,null,null,null,null,null,null,null,{"$f":"+$BH$178&AP286&$BI$177","v":"=+IMPORTARDATOSDINAMICOS(\" BAS115\";TABLAS!$A$246)"}]
[null,null,null,138,"Dengue (5)",{"$f":"+GETPIVOTDATA(\" BAS116\",TABLAS!$A$246)","v":0},null,null,null,null,null,null,null,null,null,null,null,null,null,null,null,null,null,null,{"$f":"+Y286+1","v":116},null,null,null,null,null,null,null,null,null,null,null,null,null,null,null,null,116,null,null,null,null,null,null,null,null,null,null,null,null,null,null,null,null,"=+IMPORTARDATOSDINAMICOS(\" BAS116\";TABLAS!$A$246)"]
[null,null,null,139,"Chikungunya (2)",{"$f":"+GETPIVOTDATA(\" BAS117\",TABLAS!$A$246)","v":0},null,null,null,null,null,null,null,null,null,null,null,null,null,null,null,null,null,null,{"$f":"+Y287+1","v":117},null,null,null,null,null,null,null,null,null,null,null,null,null,null,null,null,117,null,null,null,null,null,null,null,null,null,null,null,null,null,null,null,null,"=+IMPORTARDATOSDINAMICOS(\" BAS117\";TABLAS!$A$246)"]
[null,null,null,140,"Zika (3)",{"$f":"+GETPIVOTDATA(\" BAS118\",TABLAS!$A$246)","v":0},null,null,null,null,null,null,null,null,null,null,null,null,null,null,null,null,null,null,118,null,null,null,null,null,null,null,null,null,null,null,null,null,null,null,null,118,null,null,null,null,null,null,null,null,null,null,null,null,null,null,null,null,"=+IMPORTARDATOSDINAMICOS(\" BAS118\";TABLAS!$A$246)"]
[null,null,null,141,"Bartonelosis (6)",{"$f":"+GETPIVOTDATA(\" BAS119\",TABLAS!$A$246)","v":0},null,null,null,null,null,null,null,null,null,null,null,null,null,null,null,null,null,null,119,null,null,null,null,null,null,null,null,null,null,null,null,null,null,null,null,119,null,null,null,null,null,null,null,null,null,null,null,null,null,null,null,null,"=+IMPORTARDATOSDINAMICOS(\" BAS119\";TABLAS!$A$246)"]
[null,null,null,142,"Fiebre Amarilla (7)",{"$f":"+GETPIVOTDATA(\" BAS120\",TABLAS!$A$246)","v":0},null,null,null,null,null,null,null,null,null,null,null,null,null,null,null,null,null,null,120,null,null,null,null,null,null,null,null,null,null,null,null,null,null,null,null,120,null,null,null,null,null,null,null,null,null,null,null,null,null,null,null,null,"=+IMPORTARDATOSDINAMICOS(\" BAS120\";TABLAS!$A$246)"]
[null,null,null,143,"Chagas (8)",{"$f":"+GETPIVOTDATA(\" BAS121\",TABLAS!$A$246)","v":0},null,null,null,null,null,null,null,null,null,null,null,null,null,null,null,null,null,null,121,null,null,null,null,null,null,null,null,null,null,null,null,null,null,null,null,121,null,null,null,null,null,null,null,null,null,null,null,null,null,null,null,null,"=+IMPORTARDATOSDINAMICOS(\" BAS121\";TABLAS!$A$246)"]
[null,null,null,144,"Leishmaniosis (9)",{"$f":"+GETPIVOTDATA(\" BAS122\",TABLAS!$A$246)","v":0},null,null,null,null,null,null,null,null,null,null,null,null,null,null,null,null,null,null,122,null,null,null,null,null,null,null,null,null,null,null,null,null,null,null,null,122,null,null,null,null,null,null,null,null,null,null,null,null,null,null,null,null,"=+IMPORTARDATOSDINAMICOS(\" BAS122\";TABLAS!$A$246)"]
[]
[null,null,null,null,"Zoonoticas"]
[]
[null,null,null,null,"Tematica","Nº"]
[null,null,null,145,"Rabia (4)",{"$f":"+GETPIVOTDATA(\" BAS123\",TABLAS!$A$246)","v":0},null,null,null,null,null,null,null,null,null,null,null,null,null,null,null,null,null,null,{"$f":"+Y293+1","v":123},null,null,null,null,null,null,null,null,null,null,null,null,null,null,null,null,{"$f":"IF(LEN(Y298)=1,CONCATENATE(\"00\",Y298),IF(LEN(Y298)=2,CONCATENATE(\"0\",Y298),Y298))","v":123},null,null,null,null,null,null,null,null,null,null,null,null,null,null,null,null,{"$f":"+$BH$178&AP298&$BI$177","v":"=+IMPORTARDATOSDINAMICOS(\" BAS123\";TABLAS!$A$246)"}]
[null,null,null,146,"Peste (10)",{"$f":"+GETPIVOTDATA(\" BAS124\",TABLAS!$A$246)","v":0},null,null,null,null,null,null,null,null,null,null,null,null,null,null,null,null,null,null,{"$f":"+Y298+1","v":124},null,null,null,null,null,null,null,null,null,null,null,null,null,null,null,null,124,null,null,null,null,null,null,null,null,null,null,null,null,null,null,null,null,"=+IMPORTARDATOSDINAMICOS(\" BAS124\";TABLAS!$A$246)"]
[null,null,null,147,"Leptospirosis (11)",{"$f":"+GETPIVOTDATA(\" BAS125\",TABLAS!$A$246)","v":0},null,null,null,null,null,null,null,null,null,null,null,null,null,null,null,null,null,null,{"$f":"+Y299+1","v":125},null,null,null,null,null,null,null,null,null,null,null,null,null,null,null,null,125,null,null,null,null,null,null,null,null,null,null,null,null,null,null,null,null,"=+IMPORTARDATOSDINAMICOS(\" BAS125\";TABLAS!$A$246)"]
[null,null,null,148,"Tifus (12)",{"$f":"+GETPIVOTDATA(\" BAS126\",TABLAS!$A$246)","v":0},null,null,null,null,null,null,null,null,null,null,null,null,null,null,null,null,null,null,126,null,null,null,null,null,null,null,null,null,null,null,null,null,null,null,null,126,null,null,null,null,null,null,null,null,null,null,null,null,null,null,null,null,"=+IMPORTARDATOSDINAMICOS(\" BAS126\";TABLAS!$A$246)"]
[null,null,null,149,"Equinococosis (13)",{"$f":"+GETPIVOTDATA(\" BAS127\",TABLAS!$A$246)","v":0},null,null,null,null,null,null,null,null,null,null,null,null,null,null,null,null,null,null,127,null,null,null,null,null,null,null,null,null,null,null,null,null,null,null,null,127,null,null,null,null,null,null,null,null,null,null,null,null,null,null,null,null,"=+IMPORTARDATOSDINAMICOS(\" BAS127\";TABLAS!$A$246)"]
[]
[null,null,null,"5. DOCENTES, DIRECTIVOS Y PADRES DE FAMILIA, CAPACITADOS Y COMPROMETIDOS A DESARROLLAR ACCIONES PARA LA PROMOCIÓN DE PRÁCTICAS SALUDABLES PARA LA PREVENCIÓN DE LAS ENFERMEDADES METAXÉNICA Y ZOONÓTICAS"]
[null,null,null,null,"Taller para Instituciones Educativas Metaxenicas"]
[]
[null,null,null,null,"Metaxenicas "]
[null,null,null,null,null,1,2,3,4,5,6,7,8]
[null,null,null,null,null,"NIVEL INICIAL",null,"NIVEL PRIMARIO",null,"NIVEL SECUNDARIO",null,"NIVEL ESPECIAL"]
[null,null,null,null,"Tematica","Reunion","Participantes","Reunion","Participantes","Reunion","Participantes","Reunion","Participantes"]
[null,null,null,150,"Malaria (1)",{"$f":"+GETPIVOTDATA(\" BAS128\",TABLAS!$A$246)","v":1},{"$f":"+GETPIVOTDATA(\" BAS129\",TABLAS!$A$246)","v":3},{"$f":"+GETPIVOTDATA(\" BAS130\",TABLAS!$A$246)","v":2},{"$f":"+GETPIVOTDATA(\" BAS131\",TABLAS!$A$246)","v":24},{"$f":"+GETPIVOTDATA(\" BAS132\",TABLAS!$A$246)","v":1},{"$f":"+GETPIVOTDATA(\" BAS133\",TABLAS!$A$246)","v":9},{"$f":"+GETPIVOTDATA(\" BAS134\",TABLAS!$A$246)","v":0},{"$f":"+GETPIVOTDATA(\" BAS135\",TABLAS!$A$246)","v":0},null,null,null,null,null,null,null,null,null,null,null,{"$f":"+Y302+1","v":128},{"$f":"+Y311+1","v":129},130,131,132,133,134,135,null,null,null,null,null,null,null,null,null,{"$f":"IF(LEN(Y311)=1,CONCATENATE(\"00\",Y311),IF(LEN(Y311)=2,CONCATENATE(\"0\",Y311),Y311))","v":128},129,130,131,132,133,134,135,null,null,null,null,null,null,null,null,null,{"$f":"+$BH$178&AP311&$BI$177","v":"=+IMPORTARDATOSDINAMICOS(\" BAS128\";TABLAS!$A$246)"},"=+IMPORTARDATOSDINAMICOS(\" BAS129\";TABLAS!$A$246)","=+IMPORTARDATOSDINAMICOS(\" BAS130\";TABLAS!$A$246)","=+IMPORTARDATOSDINAMICOS(\" BAS131\";TABLAS!$A$246)","=+IMPORTARDATOSDINAMICOS(\" BAS132\";TABLAS!$A$246)","=+IMPORTARDATOSDINAMICOS(\" BAS133\";TABLAS!$A$246)","=+IMPORTARDATOSDINAMICOS(\" BAS134\";TABLAS!$A$246)","=+IMPORTARDATOSDINAMICOS(\" BAS135\";TABLAS!$A$246)"]
[null,null,null,151,"Dengue (5)",{"$f":"+GETPIVOTDATA(\" BAS136\",TABLAS!$A$246)","v":17},{"$f":"+GETPIVOTDATA(\" BAS137\",TABLAS!$A$246)","v":80},{"$f":"+GETPIVOTDATA(\" BAS138\",TABLAS!$A$246)","v":9},{"$f":"+GETPIVOTDATA(\" BAS139\",TABLAS!$A$246)","v":66},{"$f":"+GETPIVOTDATA(\" BAS140\",TABLAS!$A$246)","v":9},{"$f":"+GETPIVOTDATA(\" BAS141\",TABLAS!$A$246)","v":92},{"$f":"+GETPIVOTDATA(\" BAS142\",TABLAS!$A$246)","v":0},{"$f":"+GETPIVOTDATA(\" BAS143\",TABLAS!$A$246)","v":0},null,null,null,null,null,null,null,null,null,null,null,{"$f":"+AF311+1","v":136},137,138,139,140,141,142,143,null,null,null,null,null,null,null,null,null,136,137,138,139,140,141,142,143,null,null,null,null,null,null,null,null,null,"=+IMPORTARDATOSDINAMICOS(\" BAS136\";TABLAS!$A$246)","=+IMPORTARDATOSDINAMICOS(\" BAS137\";TABLAS!$A$246)","=+IMPORTARDATOSDINAMICOS(\" BAS138\";TABLAS!$A$246)","=+IMPORTARDATOSDINAMICOS(\" BAS139\";TABLAS!$A$246)","=+IMPORTARDATOSDINAMICOS(\" BAS140\";TABLAS!$A$246)","=+IMPORTARDATOSDINAMICOS(\" BAS141\";TABLAS!$A$246)","=+IMPORTARDATOSDINAMICOS(\" BAS142\";TABLAS!$A$246)","=+IMPORTARDATOSDINAMICOS(\" BAS143\";TABLAS!$A$246)"]
[null,null,null,152,"Chikungunya (2)",{"$f":"+GETPIVOTDATA(\" BAS144\",TABLAS!$A$246)","v":1},{"$f":"+GETPIVOTDATA(\" BAS145\",TABLAS!$A$246)","v":3},{"$f":"+GETPIVOTDATA(\" BAS146\",TABLAS!$A$246)","v":1},{"$f":"+GETPIVOTDATA(\" BAS147\",TABLAS!$A$246)","v":9},{"$f":"+GETPIVOTDATA(\" BAS148\",TABLAS!$A$246)","v":1},{"$f":"+GETPIVOTDATA(\" BAS149\",TABLAS!$A$246)","v":9},{"$f":"+GETPIVOTDATA(\" BAS150\",TABLAS!$A$246)","v":0},{"$f":"+GETPIVOTDATA(\" BAS151\",TABLAS!$A$246)","v":0},null,null,null,null,null,null,null,null,null,null,null,{"$f":"+AF312+1","v":144},145,146,147,148,149,150,151,null,null,null,null,null,null,null,null,null,144,145,146,147,148,149,150,151,null,null,null,null,null,null,null,null,null,"=+IMPORTARDATOSDINAMICOS(\" BAS144\";TABLAS!$A$246)","=+IMPORTARDATOSDINAMICOS(\" BAS145\";TABLAS!$A$246)","=+IMPORTARDATOSDINAMICOS(\" BAS146\";TABLAS!$A$246)","=+IMPORTARDATOSDINAMICOS(\" BAS147\";TABLAS!$A$246)","=+IMPORTARDATOSDINAMICOS(\" BAS148\";TABLAS!$A$246)","=+IMPORTARDATOSDINAMICOS(\" BAS149\";TABLAS!$A$246)","=+IMPORTARDATOSDINAMICOS(\" BAS150\";TABLAS!$A$246)","=+IMPORTARDATOSDINAMICOS(\" BAS151\";TABLAS!$A$246)"]
[null,null,null,153,"Zika (3)",{"$f":"+GETPIVOTDATA(\" BAS152\",TABLAS!$A$246)","v":1},{"$f":"+GETPIVOTDATA(\" BAS153\",TABLAS!$A$246)","v":3},{"$f":"+GETPIVOTDATA(\" BAS154\",TABLAS!$A$246)","v":1},{"$f":"+GETPIVOTDATA(\" BAS155\",TABLAS!$A$246)","v":9},{"$f":"+GETPIVOTDATA(\" BAS156\",TABLAS!$A$246)","v":1},{"$f":"+GETPIVOTDATA(\" BAS157\",TABLAS!$A$246)","v":9},{"$f":"+GETPIVOTDATA(\" BAS158\",TABLAS!$A$246)","v":0},{"$f":"+GETPIVOTDATA(\" BAS159\",TABLAS!$A$246)","v":0},null,null,null,null,null,null,null,null,null,null,null,152,153,154,155,156,157,158,159,null,null,null,null,null,null,null,null,null,152,153,154,155,156,157,158,159,null,null,null,null,null,null,null,null,null,"=+IMPORTARDATOSDINAMICOS(\" BAS152\";TABLAS!$A$246)","=+IMPORTARDATOSDINAMICOS(\" BAS153\";TABLAS!$A$246)","=+IMPORTARDATOSDINAMICOS(\" BAS154\";TABLAS!$A$246)","=+IMPORTARDATOSDINAMICOS(\" BAS155\";TABLAS!$A$246)","=+IMPORTARDATOSDINAMICOS(\" BAS156\";TABLAS!$A$246)","=+IMPORTARDATOSDINAMICOS(\" BAS157\";TABLAS!$A$246)","=+IMPORTARDATOSDINAMICOS(\" BAS158\";TABLAS!$A$246)","=+IMPORTARDATOSDINAMICOS(\" BAS159\";TABLAS!$A$246)"]
[null,null,null,154,"Bartonelosis (6)",{"$f":"+GETPIVOTDATA(\" BAS160\",TABLAS!$A$246)","v":1},{"$f":"+GETPIVOTDATA(\" BAS161\",TABLAS!$A$246)","v":3},{"$f":"+GETPIVOTDATA(\" BAS162\",TABLAS!$A$246)","v":2},{"$f":"+GETPIVOTDATA(\" BAS163\",TABLAS!$A$246)","v":24},{"$f":"+GETPIVOTDATA(\" BAS164\",TABLAS!$A$246)","v":1},{"$f":"+GETPIVOTDATA(\" BAS165\",TABLAS!$A$246)","v":9},{"$f":"+GETPIVOTDATA(\" BAS166\",TABLAS!$A$246)","v":0},{"$f":"+GETPIVOTDATA(\" BAS167\",TABLAS!$A$246)","v":0},null,null,null,null,null,null,null,null,null,null,null,160,161,162,163,164,165,166,167,null,null,null,null,null,null,null,null,null,160,161,162,163,164,165,166,167,null,null,null,null,null,null,null,null,null,"=+IMPORTARDATOSDINAMICOS(\" BAS160\";TABLAS!$A$246)","=+IMPORTARDATOSDINAMICOS(\" BAS161\";TABLAS!$A$246)","=+IMPORTARDATOSDINAMICOS(\" BAS162\";TABLAS!$A$246)","=+IMPORTARDATOSDINAMICOS(\" BAS163\";TABLAS!$A$246)","=+IMPORTARDATOSDINAMICOS(\" BAS164\";TABLAS!$A$246)","=+IMPORTARDATOSDINAMICOS(\" BAS165\";TABLAS!$A$246)","=+IMPORTARDATOSDINAMICOS(\" BAS166\";TABLAS!$A$246)","=+IMPORTARDATOSDINAMICOS(\" BAS167\";TABLAS!$A$246)"]
[null,null,null,155,"Fiebre Amarilla (7)",{"$f":"+GETPIVOTDATA(\" BAS168\",TABLAS!$A$246)","v":1},{"$f":"+GETPIVOTDATA(\" BAS169\",TABLAS!$A$246)","v":3},{"$f":"+GETPIVOTDATA(\" BAS170\",TABLAS!$A$246)","v":1},{"$f":"+GETPIVOTDATA(\" BAS171\",TABLAS!$A$246)","v":9},{"$f":"+GETPIVOTDATA(\" BAS172\",TABLAS!$A$246)","v":1},{"$f":"+GETPIVOTDATA(\" BAS173\",TABLAS!$A$246)","v":9},{"$f":"+GETPIVOTDATA(\" BAS174\",TABLAS!$A$246)","v":0},{"$f":"+GETPIVOTDATA(\" BAS175\",TABLAS!$A$246)","v":0},null,null,null,null,null,null,null,null,null,null,null,168,169,170,171,172,173,174,175,null,null,null,null,null,null,null,null,null,168,169,170,171,172,173,174,175,null,null,null,null,null,null,null,null,null,"=+IMPORTARDATOSDINAMICOS(\" BAS168\";TABLAS!$A$246)","=+IMPORTARDATOSDINAMICOS(\" BAS169\";TABLAS!$A$246)","=+IMPORTARDATOSDINAMICOS(\" BAS170\";TABLAS!$A$246)","=+IMPORTARDATOSDINAMICOS(\" BAS171\";TABLAS!$A$246)","=+IMPORTARDATOSDINAMICOS(\" BAS172\";TABLAS!$A$246)","=+IMPORTARDATOSDINAMICOS(\" BAS173\";TABLAS!$A$246)","=+IMPORTARDATOSDINAMICOS(\" BAS174\";TABLAS!$A$246)","=+IMPORTARDATOSDINAMICOS(\" BAS175\";TABLAS!$A$246)"]
[null,null,null,156,"Chagas (8)",{"$f":"+GETPIVOTDATA(\" BAS176\",TABLAS!$A$246)","v":0},{"$f":"+GETPIVOTDATA(\" BAS177\",TABLAS!$A$246)","v":0},{"$f":"+GETPIVOTDATA(\" BAS178\",TABLAS!$A$246)","v":0},{"$f":"+GETPIVOTDATA(\" BAS179\",TABLAS!$A$246)","v":0},{"$f":"+GETPIVOTDATA(\" BAS180\",TABLAS!$A$246)","v":0},{"$f":"+GETPIVOTDATA(\" BAS181\",TABLAS!$A$246)","v":0},{"$f":"+GETPIVOTDATA(\" BAS182\",TABLAS!$A$246)","v":0},{"$f":"+GETPIVOTDATA(\" BAS183\",TABLAS!$A$246)","v":0},null,null,null,null,null,null,null,null,null,null,null,176,177,178,179,180,181,182,183,null,null,null,null,null,null,null,null,null,176,177,178,179,180,181,182,183,null,null,null,null,null,null,null,null,null,"=+IMPORTARDATOSDINAMICOS(\" BAS176\";TABLAS!$A$246)","=+IMPORTARDATOSDINAMICOS(\" BAS177\";TABLAS!$A$246)","=+IMPORTARDATOSDINAMICOS(\" BAS178\";TABLAS!$A$246)","=+IMPORTARDATOSDINAMICOS(\" BAS179\";TABLAS!$A$246)","=+IMPORTARDATOSDINAMICOS(\" BAS180\";TABLAS!$A$246)","=+IMPORTARDATOSDINAMICOS(\" BAS181\";TABLAS!$A$246)","=+IMPORTARDATOSDINAMICOS(\" BAS182\";TABLAS!$A$246)","=+IMPORTARDATOSDINAMICOS(\" BAS183\";TABLAS!$A$246)"]
[null,null,null,157,"Leishmaniosis (9)",{"$f":"+GETPIVOTDATA(\" BAS184\",TABLAS!$A$246)","v":1},{"$f":"+GETPIVOTDATA(\" BAS185\",TABLAS!$A$246)","v":3},{"$f":"+GETPIVOTDATA(\" BAS186\",TABLAS!$A$246)","v":2},{"$f":"+GETPIVOTDATA(\" BAS187\",TABLAS!$A$246)","v":24},{"$f":"+GETPIVOTDATA(\" BAS188\",TABLAS!$A$246)","v":1},{"$f":"+GETPIVOTDATA(\" BAS189\",TABLAS!$A$246)","v":9},{"$f":"+GETPIVOTDATA(\" BAS190\",TABLAS!$A$246)","v":0},{"$f":"+GETPIVOTDATA(\" BAS191\",TABLAS!$A$246)","v":0},null,null,null,null,null,null,null,null,null,null,null,184,185,186,187,188,189,190,191,null,null,null,null,null,null,null,null,null,184,185,186,187,188,189,190,191,null,null,null,null,null,null,null,null,null,"=+IMPORTARDATOSDINAMICOS(\" BAS184\";TABLAS!$A$246)","=+IMPORTARDATOSDINAMICOS(\" BAS185\";TABLAS!$A$246)","=+IMPORTARDATOSDINAMICOS(\" BAS186\";TABLAS!$A$246)","=+IMPORTARDATOSDINAMICOS(\" BAS187\";TABLAS!$A$246)","=+IMPORTARDATOSDINAMICOS(\" BAS188\";TABLAS!$A$246)","=+IMPORTARDATOSDINAMICOS(\" BAS189\";TABLAS!$A$246)","=+IMPORTARDATOSDINAMICOS(\" BAS190\";TABLAS!$A$246)","=+IMPORTARDATOSDINAMICOS(\" BAS191\";TABLAS!$A$246)"]
[]
[null,null,"fin"]
[null,null,null,null,"Zoonoticas"]
[null,null,null,null,null,1,2,3,4,5,6,7,8,null,null,null,null,null,null,null,null,null,null,null,null,null,null,null,null,null,null,null,null,null,null,null,null,null,null,null,null,null,null,null,null,null,null,null,null,null,null,null,null,null,null,null,null,null,null,null,"\";TABLAS!$A$281)",null,null,null,12]
[null,null,null,null,null,"NIVEL INICIAL",null,"NIVEL PRIMARIO",null,"NIVEL SECUNDARIO",null,"NIVEL ESPECIAL",null,null,null,null,null,null,null,null,null,null,null,null,null,null,null,null,null,null,null,null,null,null,null,null,null,null,null,null,null,null,null,null,null,null,null,null,null,null,null,null,null,null,null,null,null,null,null,"=+IMPORTARDATOSDINAMICOS(\" BAS"]
[null,null,null,null,"Tematica","Reunion","Participantes","Reunion","Participantes","Reunion","Participantes","Reunion","Participantes"]
[null,null,null,158,"Rabia (4)",{"$f":"+GETPIVOTDATA(\" BAS001\",TABLAS!$A$281)","v":1},{"$f":"+GETPIVOTDATA(\" BAS002\",TABLAS!$A$281)","v":3},{"$f":"+GETPIVOTDATA(\" BAS003\",TABLAS!$A$281)","v":2},{"$f":"+GETPIVOTDATA(\" BAS004\",TABLAS!$A$281)","v":18},{"$f":"+GETPIVOTDATA(\" BAS005\",TABLAS!$A$281)","v":1},{"$f":"+GETPIVOTDATA(\" BAS006\",TABLAS!$A$281)","v":9},{"$f":"+GETPIVOTDATA(\" BAS007\",TABLAS!$A$281)","v":0},{"$f":"+GETPIVOTDATA(\" BAS008\",TABLAS!$A$281)","v":0},null,null,null,null,null,null,null,null,null,null,null,1,{"$f":"+Y325+1","v":2},3,4,5,6,7,8,null,null,null,null,null,null,null,null,null,{"$f":"IF(LEN(Y325)=1,CONCATENATE(\"00\",Y325),IF(LEN(Y325)=2,CONCATENATE(\"0\",Y325),Y325))","v":"001"},"002","003","004","005","006","007","008",null,null,null,null,null,null,null,null,null,{"$f":"$BH$323&AP325&$BI$322","v":"=+IMPORTARDATOSDINAMICOS(\" BAS001\";TABLAS!$A$281)"},{"$f":"$BH$323&AQ325&$BI$322","v":"=+IMPORTARDATOSDINAMICOS(\" BAS002\";TABLAS!$A$281)"},{"$f":"$BH$323&AR325&$BI$322","v":"=+IMPORTARDATOSDINAMICOS(\" BAS003\";TABLAS!$A$281)"},{"$f":"$BH$323&AS325&$BI$322","v":"=+IMPORTARDATOSDINAMICOS(\" BAS004\";TABLAS!$A$281)"},{"$f":"$BH$323&AT325&$BI$322","v":"=+IMPORTARDATOSDINAMICOS(\" BAS005\";TABLAS!$A$281)"},{"$f":"$BH$323&AU325&$BI$322","v":"=+IMPORTARDATOSDINAMICOS(\" BAS006\";TABLAS!$A$281)"},{"$f":"$BH$323&AV325&$BI$322","v":"=+IMPORTARDATOSDINAMICOS(\" BAS007\";TABLAS!$A$281)"},{"$f":"$BH$323&AW325&$BI$322","v":"=+IMPORTARDATOSDINAMICOS(\" BAS008\";TABLAS!$A$281)"}]
[null,null,null,159,"Peste (10)",{"$f":"+GETPIVOTDATA(\" BAS009\",TABLAS!$A$281)","v":0},{"$f":"+GETPIVOTDATA(\" BAS010\",TABLAS!$A$281)","v":0},{"$f":"+GETPIVOTDATA(\" BAS011\",TABLAS!$A$281)","v":0},{"$f":"+GETPIVOTDATA(\" BAS012\",TABLAS!$A$281)","v":0},{"$f":"+GETPIVOTDATA(\" BAS013\",TABLAS!$A$281)","v":0},{"$f":"+GETPIVOTDATA(\" BAS014\",TABLAS!$A$281)","v":0},{"$f":"+GETPIVOTDATA(\" BAS015\",TABLAS!$A$281)","v":0},{"$f":"+GETPIVOTDATA(\" BAS016\",TABLAS!$A$281)","v":0},null,null,null,null,null,null,null,null,null,null,null,{"$f":"+AF325+1","v":9},10,11,12,13,14,15,16,null,null,null,null,null,null,null,null,null,"009","010","011","012","013","014","015","016",null,null,null,null,null,null,null,null,null,{"$f":"$BH$323&AP326&$BI$322","v":"=+IMPORTARDATOSDINAMICOS(\" BAS009\";TABLAS!$A$281)"},"=+IMPORTARDATOSDINAMICOS(\" BAS010\";TABLAS!$A$281)","=+IMPORTARDATOSDINAMICOS(\" BAS011\";TABLAS!$A$281)","=+IMPORTARDATOSDINAMICOS(\" BAS012\";TABLAS!$A$281)","=+IMPORTARDATOSDINAMICOS(\" BAS013\";TABLAS!$A$281)","=+IMPORTARDATOSDINAMICOS(\" BAS014\";TABLAS!$A$281)","=+IMPORTARDATOSDINAMICOS(\" BAS015\";TABLAS!$A$281)","=+IMPORTARDATOSDINAMICOS(\" BAS016\";TABLAS!$A$281)"]
[null,null,null,160,"Leptospirosis (11)",{"$f":"+GETPIVOTDATA(\" BAS017\",TABLAS!$A$281)","v":0},{"$f":"+GETPIVOTDATA(\" BAS018\",TABLAS!$A$281)","v":0},{"$f":"+GETPIVOTDATA(\" BAS019\",TABLAS!$A$281)","v":1},{"$f":"+GETPIVOTDATA(\" BAS020\",TABLAS!$A$281)","v":15},{"$f":"+GETPIVOTDATA(\" BAS021\",TABLAS!$A$281)","v":0},{"$f":"+GETPIVOTDATA(\" BAS022\",TABLAS!$A$281)","v":0},{"$f":"+GETPIVOTDATA(\" BAS023\",TABLAS!$A$281)","v":0},{"$f":"+GETPIVOTDATA(\" BAS024\",TABLAS!$A$281)","v":0},null,null,null,null,null,null,null,null,null,null,null,{"$f":"+AF326+1","v":17},18,19,20,21,22,23,24,null,null,null,null,null,null,null,null,null,"017","018","019","020","021","022","023","024",null,null,null,null,null,null,null,null,null,"=+IMPORTARDATOSDINAMICOS(\" BAS017\";TABLAS!$A$281)","=+IMPORTARDATOSDINAMICOS(\" BAS018\";TABLAS!$A$281)","=+IMPORTARDATOSDINAMICOS(\" BAS019\";TABLAS!$A$281)","=+IMPORTARDATOSDINAMICOS(\" BAS020\";TABLAS!$A$281)","=+IMPORTARDATOSDINAMICOS(\" BAS021\";TABLAS!$A$281)","=+IMPORTARDATOSDINAMICOS(\" BAS022\";TABLAS!$A$281)","=+IMPORTARDATOSDINAMICOS(\" BAS023\";TABLAS!$A$281)","=+IMPORTARDATOSDINAMICOS(\" BAS024\";TABLAS!$A$281)"]
[null,null,null,161,"Tifus (12)",{"$f":"+GETPIVOTDATA(\" BAS025\",TABLAS!$A$281)","v":0},{"$f":"+GETPIVOTDATA(\" BAS026\",TABLAS!$A$281)","v":0},{"$f":"+GETPIVOTDATA(\" BAS027\",TABLAS!$A$281)","v":0},{"$f":"+GETPIVOTDATA(\" BAS028\",TABLAS!$A$281)","v":0},{"$f":"+GETPIVOTDATA(\" BAS029\",TABLAS!$A$281)","v":0},{"$f":"+GETPIVOTDATA(\" BAS030\",TABLAS!$A$281)","v":0},{"$f":"+GETPIVOTDATA(\" BAS031\",TABLAS!$A$281)","v":0},{"$f":"+GETPIVOTDATA(\" BAS032\",TABLAS!$A$281)","v":0},null,null,null,null,null,null,null,null,null,null,null,25,26,27,28,29,30,31,32,null,null,null,null,null,null,null,null,null,"025","026","027","028","029","030","031","032",null,null,null,null,null,null,null,null,null,"=+IMPORTARDATOSDINAMICOS(\" BAS025\";TABLAS!$A$281)","=+IMPORTARDATOSDINAMICOS(\" BAS026\";TABLAS!$A$281)","=+IMPORTARDATOSDINAMICOS(\" BAS027\";TABLAS!$A$281)","=+IMPORTARDATOSDINAMICOS(\" BAS028\";TABLAS!$A$281)","=+IMPORTARDATOSDINAMICOS(\" BAS029\";TABLAS!$A$281)","=+IMPORTARDATOSDINAMICOS(\" BAS030\";TABLAS!$A$281)","=+IMPORTARDATOSDINAMICOS(\" BAS031\";TABLAS!$A$281)","=+IMPORTARDATOSDINAMICOS(\" BAS032\";TABLAS!$A$281)"]
[null,null,null,162,"Equinococosis (13)",{"$f":"+GETPIVOTDATA(\" BAS033\",TABLAS!$A$281)","v":0},{"$f":"+GETPIVOTDATA(\" BAS034\",TABLAS!$A$281)","v":0},{"$f":"+GETPIVOTDATA(\" BAS035\",TABLAS!$A$281)","v":0},{"$f":"+GETPIVOTDATA(\" BAS036\",TABLAS!$A$281)","v":0},{"$f":"+GETPIVOTDATA(\" BAS037\",TABLAS!$A$281)","v":0},{"$f":"+GETPIVOTDATA(\" BAS038\",TABLAS!$A$281)","v":0},{"$f":"+GETPIVOTDATA(\" BAS039\",TABLAS!$A$281)","v":0},{"$f":"+GETPIVOTDATA(\" BAS040\",TABLAS!$A$281)","v":0},null,null,null,null,null,null,null,null,null,null,null,33,34,35,36,37,38,39,40,null,null,null,null,null,null,null,null,null,"033","034","035","036","037","038","039","040",null,null,null,null,null,null,null,null,null,"=+IMPORTARDATOSDINAMICOS(\" BAS033\";TABLAS!$A$281)","=+IMPORTARDATOSDINAMICOS(\" BAS034\";TABLAS!$A$281)","=+IMPORTARDATOSDINAMICOS(\" BAS035\";TABLAS!$A$281)","=+IMPORTARDATOSDINAMICOS(\" BAS036\";TABLAS!$A$281)","=+IMPORTARDATOSDINAMICOS(\" BAS037\";TABLAS!$A$281)","=+IMPORTARDATOSDINAMICOS(\" BAS038\";TABLAS!$A$281)","=+IMPORTARDATOSDINAMICOS(\" BAS039\";TABLAS!$A$281)","=+IMPORTARDATOSDINAMICOS(\" BAS040\";TABLAS!$A$281)"]
[]
[null,null,null,null,"Cuando el docente capacitado desarrolla el proyecto/sesión de aprendizaje relacionados a la prevención de las enfermedades Metaxénica y Zoonóticas se registrará:"]
[]
[null,null,null,null,"Metaxenicas ","usp_TRAMA_BASE_PROMSA_RPT04_PP017_4_3"]
[null,null,null,null,null,1,2,3,4,5,6,7,8]
[null,null,null,null,"DIAGNOSTICO_METAX_(2)","DENGUE (5)",null,"CHIKUNGUNYA (2)",null,"ZIKA (3)",null,"LEISHMANIASIS (9)"]
[null,null,null,null,"VISITA","Nº","N° de participantes","Nº","N° de participantes","Nº","N° de participantes","Nº","N° de participantes"]
[null,null,null,163,"Visita de evaluación 1",{"$f":"+GETPIVOTDATA(\" BAS041\",TABLAS!$A$281)","v":0},{"$f":"+GETPIVOTDATA(\" BAS042\",TABLAS!$A$281)","v":0},{"$f":"+GETPIVOTDATA(\" BAS043\",TABLAS!$A$281)","v":0},{"$f":"+GETPIVOTDATA(\" BAS044\",TABLAS!$A$281)","v":0},{"$f":"+GETPIVOTDATA(\" BAS045\",TABLAS!$A$281)","v":0},{"$f":"+GETPIVOTDATA(\" BAS046\",TABLAS!$A$281)","v":0},{"$f":"+GETPIVOTDATA(\" BAS047\",TABLAS!$A$281)","v":0},{"$f":"+GETPIVOTDATA(\" BAS048\",TABLAS!$A$281)","v":0},null,null,null,null,null,null,null,null,null,null,null,{"$f":"+AF329+1","v":41},{"$f":"+Y337+1","v":42},{"$f":"+Z337+1","v":43},44,45,46,47,48,null,null,null,null,null,null,null,null,null,{"$f":"IF(LEN(Y337)=1,CONCATENATE(\"00\",Y337),IF(LEN(Y337)=2,CONCATENATE(\"0\",Y337),Y337))","v":"041"},"042","043","044","045","046","047","048",null,null,null,null,null,null,null,null,null,{"$f":"$BH$323&AP337&$BI$322","v":"=+IMPORTARDATOSDINAMICOS(\" BAS041\";TABLAS!$A$281)"},"=+IMPORTARDATOSDINAMICOS(\" BAS042\";TABLAS!$A$281)","=+IMPORTARDATOSDINAMICOS(\" BAS043\";TABLAS!$A$281)","=+IMPORTARDATOSDINAMICOS(\" BAS044\";TABLAS!$A$281)","=+IMPORTARDATOSDINAMICOS(\" BAS045\";TABLAS!$A$281)","=+IMPORTARDATOSDINAMICOS(\" BAS046\";TABLAS!$A$281)","=+IMPORTARDATOSDINAMICOS(\" BAS047\";TABLAS!$A$281)","=+IMPORTARDATOSDINAMICOS(\" BAS048\";TABLAS!$A$281)"]
[]
[]
[null,null,null,null,"Zoonoticas"]
[null,null,null,null,null,1,2,3,4,5,6,7,8,9,10]
[null,null,null,null,"DIAGNOSTICO_ZOO_(2)","RABIA",null,"PESTE",null,"LEPTOSPIROSIS",null,"TIFUS",null,"EQUIMOCOCOSIS"]
[null,null,null,null,"VISITA","Nº","N° de participantes","Nº","N° de participantes","Nº","N° de participantes","Nº","N° de participantes","Nº","N° de participantes"]
[null,null,null,164,"Visita de evaluación 1",{"$f":"+GETPIVOTDATA(\" BAS049\",TABLAS!$A$281)","v":0},{"$f":"+GETPIVOTDATA(\" BAS050\",TABLAS!$A$281)","v":0},{"$f":"+GETPIVOTDATA(\" BAS051\",TABLAS!$A$281)","v":0},{"$f":"+GETPIVOTDATA(\" BAS052\",TABLAS!$A$281)","v":0},{"$f":"+GETPIVOTDATA(\" BAS053\",TABLAS!$A$281)","v":0},{"$f":"+GETPIVOTDATA(\" BAS054\",TABLAS!$A$281)","v":0},{"$f":"+GETPIVOTDATA(\" BAS055\",TABLAS!$A$281)","v":0},{"$f":"+GETPIVOTDATA(\" BAS056\",TABLAS!$A$281)","v":0},{"$f":"+GETPIVOTDATA(\" BAS057\",TABLAS!$A$281)","v":0},{"$f":"+GETPIVOTDATA(\" BAS058\",TABLAS!$A$281)","v":0},null,null,null,null,null,null,null,null,null,{"$f":"+AF337+1","v":49},{"$f":"+Y344+1","v":50},{"$f":"+Z344+1","v":51},52,53,54,55,56,57,58,null,null,null,null,null,null,null,{"$f":"IF(LEN(Y344)=1,CONCATENATE(\"00\",Y344),IF(LEN(Y344)=2,CONCATENATE(\"0\",Y344),Y344))","v":"049"},"050","051","052","053","054","055","056","057","058",null,null,null,null,null,null,null,{"$f":"$BH$323&AP344&$BI$322","v":"=+IMPORTARDATOSDINAMICOS(\" BAS049\";TABLAS!$A$281)"},"=+IMPORTARDATOSDINAMICOS(\" BAS050\";TABLAS!$A$281)","=+IMPORTARDATOSDINAMICOS(\" BAS051\";TABLAS!$A$281)","=+IMPORTARDATOSDINAMICOS(\" BAS052\";TABLAS!$A$281)","=+IMPORTARDATOSDINAMICOS(\" BAS053\";TABLAS!$A$281)","=+IMPORTARDATOSDINAMICOS(\" BAS054\";TABLAS!$A$281)","=+IMPORTARDATOSDINAMICOS(\" BAS055\";TABLAS!$A$281)","=+IMPORTARDATOSDINAMICOS(\" BAS056\";TABLAS!$A$281)","=+IMPORTARDATOSDINAMICOS(\" BAS057\";TABLAS!$A$281)","=+IMPORTARDATOSDINAMICOS(\" BAS058\";TABLAS!$A$281)"]
[]
[null,null,null,null,"Concurso Interescolar para la prevención de las Enfermedades Metaxénicas",null,null,null,null,"usp_TRAMA_BASE_PROMSA_RPT04_PP017_4_5"]
[]
[null,null,null,null,null,1,2,3,4,5,6]
[null,null,null,null,null,"1º concurso",null,null,"2º concurso"]
[null,null,null,null,"Tematica","Nº","Nº de II.EE ","Nº de toneladas","Nº","Nº de II.EE ","Nº de toneladas"]
[null,null,null,165,"Dengue (5)",{"$f":"+GETPIVOTDATA(\" BAS059\",TABLAS!$A$281)","v":1},{"$f":"+GETPIVOTDATA(\" BAS060\",TABLAS!$A$281)","v":1},{"$f":"+GETPIVOTDATA(\" BAS061\",TABLAS!$A$281)","v":1},{"$f":"+GETPIVOTDATA(\" BAS062\",TABLAS!$A$281)","v":0},{"$f":"+GETPIVOTDATA(\" BAS063\",TABLAS!$A$281)","v":0},{"$f":"+GETPIVOTDATA(\" BAS064\",TABLAS!$A$281)","v":0},null,null,null,null,null,null,null,null,null,null,null,null,null,{"$f":"+AH344+1","v":59},{"$f":"+Y351+1","v":60},{"$f":"+Z351+1","v":61},62,63,64,null,null,null,null,null,null,null,null,null,null,null,{"$f":"IF(LEN(Y351)=1,CONCATENATE(\"00\",Y351),IF(LEN(Y351)=2,CONCATENATE(\"0\",Y351),Y351))","v":"059"},"060","061","062","063","064",null,null,null,null,null,null,null,null,null,null,null,{"$f":"$BH$323&AP351&$BI$322","v":"=+IMPORTARDATOSDINAMICOS(\" BAS059\";TABLAS!$A$281)"},{"$f":"$BH$323&AQ351&$BI$322","v":"=+IMPORTARDATOSDINAMICOS(\" BAS060\";TABLAS!$A$281)"},{"$f":"$BH$323&AR351&$BI$322","v":"=+IMPORTARDATOSDINAMICOS(\" BAS061\";TABLAS!$A$281)"},{"$f":"$BH$323&AS351&$BI$322","v":"=+IMPORTARDATOSDINAMICOS(\" BAS062\";TABLAS!$A$281)"},{"$f":"$BH$323&AT351&$BI$322","v":"=+IMPORTARDATOSDINAMICOS(\" BAS063\";TABLAS!$A$281)"},{"$f":"$BH$323&AU351&$BI$322","v":"=+IMPORTARDATOSDINAMICOS(\" BAS064\";TABLAS!$A$281)"}]
[null,null,null,166,"Chikungunya (2)",{"$f":"+GETPIVOTDATA(\" BAS065\",TABLAS!$A$281)","v":0},{"$f":"+GETPIVOTDATA(\" BAS066\",TABLAS!$A$281)","v":0},{"$f":"+GETPIVOTDATA(\" BAS067\",TABLAS!$A$281)","v":0},{"$f":"+GETPIVOTDATA(\" BAS068\",TABLAS!$A$281)","v":0},{"$f":"+GETPIVOTDATA(\" BAS069\",TABLAS!$A$281)","v":0},{"$f":"+GETPIVOTDATA(\" BAS070\",TABLAS!$A$281)","v":0},null,null,null,null,null,null,null,null,null,null,null,null,null,{"$f":"+AD351+1","v":65},{"$f":"+Y352+1","v":66},67,68,69,70,null,null,null,null,null,null,null,null,null,null,null,"065","066","067","068","069","070",null,null,null,null,null,null,null,null,null,null,null,"=+IMPORTARDATOSDINAMICOS(\" BAS065\";TABLAS!$A$281)","=+IMPORTARDATOSDINAMICOS(\" BAS066\";TABLAS!$A$281)","=+IMPORTARDATOSDINAMICOS(\" BAS067\";TABLAS!$A$281)","=+IMPORTARDATOSDINAMICOS(\" BAS068\";TABLAS!$A$281)","=+IMPORTARDATOSDINAMICOS(\" BAS069\";TABLAS!$A$281)","=+IMPORTARDATOSDINAMICOS(\" BAS070\";TABLAS!$A$281)"]
[null,null,null,167,"Zika (3)",{"$f":"+GETPIVOTDATA(\" BAS071\",TABLAS!$A$281)","v":0},{"$f":"+GETPIVOTDATA(\" BAS072\",TABLAS!$A$281)","v":0},{"$f":"+GETPIVOTDATA(\" BAS073\",TABLAS!$A$281)","v":0},{"$f":"+GETPIVOTDATA(\" BAS074\",TABLAS!$A$281)","v":0},{"$f":"+GETPIVOTDATA(\" BAS075\",TABLAS!$A$281)","v":0},{"$f":"+GETPIVOTDATA(\" BAS076\",TABLAS!$A$281)","v":0},null,null,null,null,null,null,null,null,null,null,null,null,null,{"$f":"+AD352+1","v":71},72,73,74,75,76,null,null,null,null,null,null,null,null,null,null,null,"071","072","073","074","075","076",null,null,null,null,null,null,null,null,null,null,null,"=+IMPORTARDATOSDINAMICOS(\" BAS071\";TABLAS!$A$281)","=+IMPORTARDATOSDINAMICOS(\" BAS072\";TABLAS!$A$281)","=+IMPORTARDATOSDINAMICOS(\" BAS073\";TABLAS!$A$281)","=+IMPORTARDATOSDINAMICOS(\" BAS074\";TABLAS!$A$281)","=+IMPORTARDATOSDINAMICOS(\" BAS075\";TABLAS!$A$281)","=+IMPORTARDATOSDINAMICOS(\" BAS076\";TABLAS!$A$281)"]
[]
[null,null,null,null,"Incidencia a Directivos y Docentes"]
[null,null,null,null,"Metaxenicas "]
[null,null,null,null,null,1,2,3,4,5,6]
[null,null,null,null,"Tematica","NIVEL INICIAL",null,"NIVEL PRIMARIO",null,"NIVEL SECUNDARIA"]
[null,null,null,null,null,"Nº","N° de participantes","Nº","N° de participantes","Nº","N° de participantes"]
[null,null,null,168,"Malaria (1)",{"$f":"+GETPIVOTDATA(\" BAS077\",TABLAS!$A$281)","v":1},{"$f":"+GETPIVOTDATA(\" BAS078\",TABLAS!$A$281)","v":2},{"$f":"+GETPIVOTDATA(\" BAS079\",TABLAS!$A$281)","v":1},{"$f":"+GETPIVOTDATA(\" BAS080\",TABLAS!$A$281)","v":4},{"$f":"+GETPIVOTDATA(\" BAS081\",TABLAS!$A$281)","v":2},{"$f":"+GETPIVOTDATA(\" BAS082\",TABLAS!$A$281)","v":13},null,null,null,null,null,null,null,null,null,null,null,null,null,{"$f":"+AD353+1","v":77},{"$f":"+Y360+1","v":78},{"$f":"+Z360+1","v":79},80,81,82,null,null,null,null,null,null,null,null,null,null,null,{"$f":"IF(LEN(Y360)=1,CONCATENATE(\"00\",Y360),IF(LEN(Y360)=2,CONCATENATE(\"0\",Y360),Y360))","v":"077"},"078","079","080","081","082",null,null,null,null,null,null,null,null,null,null,null,{"$f":"$BH$323&AP360&$BI$322","v":"=+IMPORTARDATOSDINAMICOS(\" BAS077\";TABLAS!$A$281)"},{"$f":"$BH$323&AQ360&$BI$322","v":"=+IMPORTARDATOSDINAMICOS(\" BAS078\";TABLAS!$A$281)"},{"$f":"$BH$323&AR360&$BI$322","v":"=+IMPORTARDATOSDINAMICOS(\" BAS079\";TABLAS!$A$281)"},{"$f":"$BH$323&AS360&$BI$322","v":"=+IMPORTARDATOSDINAMICOS(\" BAS080\";TABLAS!$A$281)"},{"$f":"$BH$323&AT360&$BI$322","v":"=+IMPORTARDATOSDINAMICOS(\" BAS081\";TABLAS!$A$281)"},{"$f":"$BH$323&AU360&$BI$322","v":"=+IMPORTARDATOSDINAMICOS(\" BAS082\";TABLAS!$A$281)"}]
[null,null,null,169,"Dengue (5)",{"$f":"+GETPIVOTDATA(\" BAS083\",TABLAS!$A$281)","v":10},{"$f":"+GETPIVOTDATA(\" BAS084\",TABLAS!$A$281)","v":43},{"$f":"+GETPIVOTDATA(\" BAS085\",TABLAS!$A$281)","v":16},{"$f":"+GETPIVOTDATA(\" BAS086\",TABLAS!$A$281)","v":71},{"$f":"+GETPIVOTDATA(\" BAS087\",TABLAS!$A$281)","v":12},{"$f":"+GETPIVOTDATA(\" BAS088\",TABLAS!$A$281)","v":90},null,null,null,null,null,null,null,null,null,null,null,null,null,{"$f":"+AD360+1","v":83},{"$f":"+Y361+1","v":84},85,86,87,88,null,null,null,null,null,null,null,null,null,null,null,"083","084","085","086","087","088",null,null,null,null,null,null,null,null,null,null,null,"=+IMPORTARDATOSDINAMICOS(\" BAS083\";TABLAS!$A$281)","=+IMPORTARDATOSDINAMICOS(\" BAS084\";TABLAS!$A$281)","=+IMPORTARDATOSDINAMICOS(\" BAS085\";TABLAS!$A$281)","=+IMPORTARDATOSDINAMICOS(\" BAS086\";TABLAS!$A$281)","=+IMPORTARDATOSDINAMICOS(\" BAS087\";TABLAS!$A$281)","=+IMPORTARDATOSDINAMICOS(\" BAS088\";TABLAS!$A$281)"]
[null,null,null,170,"Chikungunya (2)",{"$f":"+GETPIVOTDATA(\" BAS089\",TABLAS!$A$281)","v":0},{"$f":"+GETPIVOTDATA(\" BAS090\",TABLAS!$A$281)","v":0},{"$f":"+GETPIVOTDATA(\" BAS091\",TABLAS!$A$281)","v":1},{"$f":"+GETPIVOTDATA(\" BAS092\",TABLAS!$A$281)","v":4},{"$f":"+GETPIVOTDATA(\" BAS093\",TABLAS!$A$281)","v":2},{"$f":"+GETPIVOTDATA(\" BAS094\",TABLAS!$A$281)","v":6},null,null,null,null,null,null,null,null,null,null,null,null,null,{"$f":"+AD361+1","v":89},90,91,92,93,94,null,null,null,null,null,null,null,null,null,null,null,"089","090","091","092","093","094",null,null,null,null,null,null,null,null,null,null,null,"=+IMPORTARDATOSDINAMICOS(\" BAS089\";TABLAS!$A$281)","=+IMPORTARDATOSDINAMICOS(\" BAS090\";TABLAS!$A$281)","=+IMPORTARDATOSDINAMICOS(\" BAS091\";TABLAS!$A$281)","=+IMPORTARDATOSDINAMICOS(\" BAS092\";TABLAS!$A$281)","=+IMPORTARDATOSDINAMICOS(\" BAS093\";TABLAS!$A$281)","=+IMPORTARDATOSDINAMICOS(\" BAS094\";TABLAS!$A$281)"]
[null,null,null,171,"Zika (3)",{"$f":"+GETPIVOTDATA(\" BAS095\",TABLAS!$A$281)","v":0},{"$f":"+GETPIVOTDATA(\" BAS096\",TABLAS!$A$281)","v":0},{"$f":"+GETPIVOTDATA(\" BAS097\",TABLAS!$A$281)","v":1},{"$f":"+GETPIVOTDATA(\" BAS098\",TABLAS!$A$281)","v":4},{"$f":"+GETPIVOTDATA(\" BAS099\",TABLAS!$A$281)","v":1},{"$f":"+GETPIVOTDATA(\" BAS100\",TABLAS!$A$281)","v":4},null,null,null,null,null,null,null,null,null,null,null,null,null,{"$f":"+AD362+1","v":95},96,97,98,99,100,null,null,null,null,null,null,null,null,null,null,null,"095","096","097","098","099",100,null,null,null,null,null,null,null,null,null,null,null,"=+IMPORTARDATOSDINAMICOS(\" BAS095\";TABLAS!$A$281)","=+IMPORTARDATOSDINAMICOS(\" BAS096\";TABLAS!$A$281)","=+IMPORTARDATOSDINAMICOS(\" BAS097\";TABLAS!$A$281)","=+IMPORTARDATOSDINAMICOS(\" BAS098\";TABLAS!$A$281)","=+IMPORTARDATOSDINAMICOS(\" BAS099\";TABLAS!$A$281)","=+IMPORTARDATOSDINAMICOS(\" BAS100\";TABLAS!$A$281)"]
[null,null,null,172,"Bartonelosis (6)",{"$f":"+GETPIVOTDATA(\" BAS101\",TABLAS!$A$281)","v":0},{"$f":"+GETPIVOTDATA(\" BAS102\",TABLAS!$A$281)","v":0},{"$f":"+GETPIVOTDATA(\" BAS103\",TABLAS!$A$281)","v":1},{"$f":"+GETPIVOTDATA(\" BAS104\",TABLAS!$A$281)","v":4},{"$f":"+GETPIVOTDATA(\" BAS105\",TABLAS!$A$281)","v":1},{"$f":"+GETPIVOTDATA(\" BAS106\",TABLAS!$A$281)","v":4},null,null,null,null,null,null,null,null,null,null,null,null,null,101,102,103,104,105,106,null,null,null,null,null,null,null,null,null,null,null,101,102,103,104,105,106,null,null,null,null,null,null,null,null,null,null,null,"=+IMPORTARDATOSDINAMICOS(\" BAS101\";TABLAS!$A$281)","=+IMPORTARDATOSDINAMICOS(\" BAS102\";TABLAS!$A$281)","=+IMPORTARDATOSDINAMICOS(\" BAS103\";TABLAS!$A$281)","=+IMPORTARDATOSDINAMICOS(\" BAS104\";TABLAS!$A$281)","=+IMPORTARDATOSDINAMICOS(\" BAS105\";TABLAS!$A$281)","=+IMPORTARDATOSDINAMICOS(\" BAS106\";TABLAS!$A$281)"]
[null,null,null,173,"Fiebre Amarilla (7)",{"$f":"+GETPIVOTDATA(\" BAS107\",TABLAS!$A$281)","v":0},{"$f":"+GETPIVOTDATA(\" BAS108\",TABLAS!$A$281)","v":0},{"$f":"+GETPIVOTDATA(\" BAS109\",TABLAS!$A$281)","v":1},{"$f":"+GETPIVOTDATA(\" BAS110\",TABLAS!$A$281)","v":4},{"$f":"+GETPIVOTDATA(\" BAS111\",TABLAS!$A$281)","v":1},{"$f":"+GETPIVOTDATA(\" BAS112\",TABLAS!$A$281)","v":4},null,null,null,null,null,null,null,null,null,null,null,null,null,107,108,109,110,111,112,null,null,null,null,null,null,null,null,null,null,null,107,108,109,110,111,112,null,null,null,null,null,null,null,null,null,null,null,"=+IMPORTARDATOSDINAMICOS(\" BAS107\";TABLAS!$A$281)","=+IMPORTARDATOSDINAMICOS(\" BAS108\";TABLAS!$A$281)","=+IMPORTARDATOSDINAMICOS(\" BAS109\";TABLAS!$A$281)","=+IMPORTARDATOSDINAMICOS(\" BAS110\";TABLAS!$A$281)","=+IMPORTARDATOSDINAMICOS(\" BAS111\";TABLAS!$A$281)","=+IMPORTARDATOSDINAMICOS(\" BAS112\";TABLAS!$A$281)"]
[null,null,null,174,"Chagas (8)",{"$f":"+GETPIVOTDATA(\" BAS113\",TABLAS!$A$281)","v":0},{"$f":"+GETPIVOTDATA(\" BAS114\",TABLAS!$A$281)","v":0},{"$f":"+GETPIVOTDATA(\" BAS115\",TABLAS!$A$281)","v":0},{"$f":"+GETPIVOTDATA(\" BAS116\",TABLAS!$A$281)","v":0},{"$f":"+GETPIVOTDATA(\" BAS117\",TABLAS!$A$281)","v":0},{"$f":"+GETPIVOTDATA(\" BAS118\",TABLAS!$A$281)","v":0},null,null,null,null,null,null,null,null,null,null,null,null,null,113,114,115,116,117,118,null,null,null,null,null,null,null,null,null,null,null,113,114,115,116,117,118,null,null,null,null,null,null,null,null,null,null,null,"=+IMPORTARDATOSDINAMICOS(\" BAS113\";TABLAS!$A$281)","=+IMPORTARDATOSDINAMICOS(\" BAS114\";TABLAS!$A$281)","=+IMPORTARDATOSDINAMICOS(\" BAS115\";TABLAS!$A$281)","=+IMPORTARDATOSDINAMICOS(\" BAS116\";TABLAS!$A$281)","=+IMPORTARDATOSDINAMICOS(\" BAS117\";TABLAS!$A$281)","=+IMPORTARDATOSDINAMICOS(\" BAS118\";TABLAS!$A$281)"]
[null,null,null,175,"Leishmaniosis (9)",{"$f":"+GETPIVOTDATA(\" BAS119\",TABLAS!$A$281)","v":0},{"$f":"+GETPIVOTDATA(\" BAS120\",TABLAS!$A$281)","v":0},{"$f":"+GETPIVOTDATA(\" BAS121\",TABLAS!$A$281)","v":1},{"$f":"+GETPIVOTDATA(\" BAS122\",TABLAS!$A$281)","v":4},{"$f":"+GETPIVOTDATA(\" BAS123\",TABLAS!$A$281)","v":1},{"$f":"+GETPIVOTDATA(\" BAS124\",TABLAS!$A$281)","v":4},null,null,null,null,null,null,null,null,null,null,null,null,null,119,120,121,122,123,124,null,null,null,null,null,null,null,null,null,null,null,119,120,121,122,123,124,null,null,null,null,null,null,null,null,null,null,null,"=+IMPORTARDATOSDINAMICOS(\" BAS119\";TABLAS!$A$281)","=+IMPORTARDATOSDINAMICOS(\" BAS120\";TABLAS!$A$281)","=+IMPORTARDATOSDINAMICOS(\" BAS121\";TABLAS!$A$281)","=+IMPORTARDATOSDINAMICOS(\" BAS122\";TABLAS!$A$281)","=+IMPORTARDATOSDINAMICOS(\" BAS123\";TABLAS!$A$281)","=+IMPORTARDATOSDINAMICOS(\" BAS124\";TABLAS!$A$281)"]
[]
[null,null,null,null,"Zoonoticas"]
[null,null,null,null,null,1,2,3,4,5,6]
[null,null,null,null,"Tematica","NIVEL INICIAL",null,"NIVEL PRIMARIO",null,"NIVEL SECUNDARIA"]
[null,null,null,null,null,"Nº","N° de participantes","Nº","N° de participantes","Nº","N° de participantes"]
[null,null,null,178,"Rabia (4)",{"$f":"+GETPIVOTDATA(\" BAS125\",TABLAS!$A$281)","v":0},{"$f":"+GETPIVOTDATA(\" BAS126\",TABLAS!$A$281)","v":0},{"$f":"+GETPIVOTDATA(\" BAS127\",TABLAS!$A$281)","v":7},{"$f":"+GETPIVOTDATA(\" BAS128\",TABLAS!$A$281)","v":14},{"$f":"+GETPIVOTDATA(\" BAS129\",TABLAS!$A$281)","v":3},{"$f":"+GETPIVOTDATA(\" BAS130\",TABLAS!$A$281)","v":7},null,null,null,null,null,null,null,null,null,null,null,null,null,{"$f":"+AD367+1","v":125},{"$f":"+Y373+1","v":126},{"$f":"+Z373+1","v":127},128,129,130,null,null,null,null,null,null,null,null,null,null,null,{"$f":"IF(LEN(Y373)=1,CONCATENATE(\"00\",Y373),IF(LEN(Y373)=2,CONCATENATE(\"0\",Y373),Y373))","v":125},126,127,128,129,130,null,null,null,null,null,null,null,null,null,null,null,{"$f":"$BH$323&AP373&$BI$322","v":"=+IMPORTARDATOSDINAMICOS(\" BAS125\";TABLAS!$A$281)"},{"$f":"$BH$323&AQ373&$BI$322","v":"=+IMPORTARDATOSDINAMICOS(\" BAS126\";TABLAS!$A$281)"},{"$f":"$BH$323&AR373&$BI$322","v":"=+IMPORTARDATOSDINAMICOS(\" BAS127\";TABLAS!$A$281)"},{"$f":"$BH$323&AS373&$BI$322","v":"=+IMPORTARDATOSDINAMICOS(\" BAS128\";TABLAS!$A$281)"},{"$f":"$BH$323&AT373&$BI$322","v":"=+IMPORTARDATOSDINAMICOS(\" BAS129\";TABLAS!$A$281)"},{"$f":"$BH$323&AU373&$BI$322","v":"=+IMPORTARDATOSDINAMICOS(\" BAS130\";TABLAS!$A$281)"}]
[null,null,null,179,"Peste (10)",{"$f":"+GETPIVOTDATA(\" BAS131\",TABLAS!$A$281)","v":0},{"$f":"+GETPIVOTDATA(\" BAS132\",TABLAS!$A$281)","v":0},{"$f":"+GETPIVOTDATA(\" BAS133\",TABLAS!$A$281)","v":0},{"$f":"+GETPIVOTDATA(\" BAS134\",TABLAS!$A$281)","v":0},{"$f":"+GETPIVOTDATA(\" BAS135\",TABLAS!$A$281)","v":0},{"$f":"+GETPIVOTDATA(\" BAS136\",TABLAS!$A$281)","v":0},null,null,null,null,null,null,null,null,null,null,null,null,null,{"$f":"+AD373+1","v":131},{"$f":"+Y374+1","v":132},133,134,135,136,null,null,null,null,null,null,null,null,null,null,null,131,132,133,134,135,136,null,null,null,null,null,null,null,null,null,null,null,"=+IMPORTARDATOSDINAMICOS(\" BAS131\";TABLAS!$A$281)","=+IMPORTARDATOSDINAMICOS(\" BAS132\";TABLAS!$A$281)","=+IMPORTARDATOSDINAMICOS(\" BAS133\";TABLAS!$A$281)","=+IMPORTARDATOSDINAMICOS(\" BAS134\";TABLAS!$A$281)","=+IMPORTARDATOSDINAMICOS(\" BAS135\";TABLAS!$A$281)","=+IMPORTARDATOSDINAMICOS(\" BAS136\";TABLAS!$A$281)"]
[null,null,null,180,"Leptospirosis (11)",{"$f":"+GETPIVOTDATA(\" BAS137\",TABLAS!$A$281)","v":0},{"$f":"+GETPIVOTDATA(\" BAS138\",TABLAS!$A$281)","v":0},{"$f":"+GETPIVOTDATA(\" BAS139\",TABLAS!$A$281)","v":0},{"$f":"+GETPIVOTDATA(\" BAS140\",TABLAS!$A$281)","v":0},{"$f":"+GETPIVOTDATA(\" BAS141\",TABLAS!$A$281)","v":0},{"$f":"+GETPIVOTDATA(\" BAS142\",TABLAS!$A$281)","v":0},null,null,null,null,null,null,null,null,null,null,null,null,null,{"$f":"+AD374+1","v":137},138,139,140,141,142,null,null,null,null,null,null,null,null,null,null,null,137,138,139,140,141,142,null,null,null,null,null,null,null,null,null,null,null,"=+IMPORTARDATOSDINAMICOS(\" BAS137\";TABLAS!$A$281)","=+IMPORTARDATOSDINAMICOS(\" BAS138\";TABLAS!$A$281)","=+IMPORTARDATOSDINAMICOS(\" BAS139\";TABLAS!$A$281)","=+IMPORTARDATOSDINAMICOS(\" BAS140\";TABLAS!$A$281)","=+IMPORTARDATOSDINAMICOS(\" BAS141\";TABLAS!$A$281)","=+IMPORTARDATOSDINAMICOS(\" BAS142\";TABLAS!$A$281)"]
[null,null,null,181,"Tifus (12)",{"$f":"+GETPIVOTDATA(\" BAS143\",TABLAS!$A$281)","v":0},{"$f":"+GETPIVOTDATA(\" BAS144\",TABLAS!$A$281)","v":0},{"$f":"+GETPIVOTDATA(\" BAS145\",TABLAS!$A$281)","v":0},{"$f":"+GETPIVOTDATA(\" BAS146\",TABLAS!$A$281)","v":0},{"$f":"+GETPIVOTDATA(\" BAS147\",TABLAS!$A$281)","v":0},{"$f":"+GETPIVOTDATA(\" BAS148\",TABLAS!$A$281)","v":0},null,null,null,null,null,null,null,null,null,null,null,null,null,{"$f":"+AD375+1","v":143},144,145,146,147,148,null,null,null,null,null,null,null,null,null,null,null,143,144,145,146,147,148,null,null,null,null,null,null,null,null,null,null,null,"=+IMPORTARDATOSDINAMICOS(\" BAS143\";TABLAS!$A$281)","=+IMPORTARDATOSDINAMICOS(\" BAS144\";TABLAS!$A$281)","=+IMPORTARDATOSDINAMICOS(\" BAS145\";TABLAS!$A$281)","=+IMPORTARDATOSDINAMICOS(\" BAS146\";TABLAS!$A$281)","=+IMPORTARDATOSDINAMICOS(\" BAS147\";TABLAS!$A$281)","=+IMPORTARDATOSDINAMICOS(\" BAS148\";TABLAS!$A$281)"]
[null,null,null,182,"Equinococosis (13)",{"$f":"+GETPIVOTDATA(\" BAS149\",TABLAS!$A$281)","v":0},{"$f":"+GETPIVOTDATA(\" BAS150\",TABLAS!$A$281)","v":0},{"$f":"+GETPIVOTDATA(\" BAS151\",TABLAS!$A$281)","v":0},{"$f":"+GETPIVOTDATA(\" BAS152\",TABLAS!$A$281)","v":0},{"$f":"+GETPIVOTDATA(\" BAS153\",TABLAS!$A$281)","v":0},{"$f":"+GETPIVOTDATA(\" BAS154\",TABLAS!$A$281)","v":0},null,null,null,null,null,null,null,null,null,null,null,null,null,149,150,151,152,153,154,null,null,null,null,null,null,null,null,null,null,null,149,150,151,152,153,154,null,null,null,null,null,null,null,null,null,null,null,"=+IMPORTARDATOSDINAMICOS(\" BAS149\";TABLAS!$A$281)","=+IMPORTARDATOSDINAMICOS(\" BAS150\";TABLAS!$A$281)","=+IMPORTARDATOSDINAMICOS(\" BAS151\";TABLAS!$A$281)","=+IMPORTARDATOSDINAMICOS(\" BAS152\";TABLAS!$A$281)","=+IMPORTARDATOSDINAMICOS(\" BAS153\";TABLAS!$A$281)","=+IMPORTARDATOSDINAMICOS(\" BAS154\";TABLAS!$A$281)"]
[]
[null,null,"fin",null,"Acompañamiento al directivo"]
[null,null,null,null,"Metaxenicas "]
[null,null,null,null,null,1,2,3,4,5,6,null,null,null,null,null,null,null,null,null,null,null,null,null,null,null,null,null,null,null,null,null,null,null,null,null,null,null,null,null,null,null,null,null,null,null,null,null,null,null,null,null,null,null,null,null,null,null,null,null,"\";TABLAS!$A$463)",null,null,null,13]
[null,null,null,null,"Tematica","NIVEL INICIAL",null,"NIVEL PRIMARIO",null,"NIVEL SECUNDARIA",null,null,null,null,null,null,null,null,null,null,null,null,null,null,null,null,null,null,null,null,null,null,null,null,null,null,null,null,null,null,null,null,null,null,null,null,null,null,null,null,null,null,null,null,null,null,null,null,null,"=+IMPORTARDATOSDINAMICOS(\" BAS"]
[null,null,null,null,null,"Nº","N° de participantes","Nº","N° de participantes","Nº","N° de participantes"]
[null,null,null,168,"Malaria (1)",{"$f":"+GETPIVOTDATA(\" BAS001\",TABLAS!$A$463)","v":0},{"$f":"+GETPIVOTDATA(\" BAS002\",TABLAS!$A$463)","v":0},{"$f":"+GETPIVOTDATA(\" BAS003\",TABLAS!$A$463)","v":0},{"$f":"+GETPIVOTDATA(\" BAS004\",TABLAS!$A$463)","v":0},{"$f":"+GETPIVOTDATA(\" BAS005\",TABLAS!$A$463)","v":0},{"$f":"+GETPIVOTDATA(\" BAS006\",TABLAS!$A$463)","v":0},null,null,null,null,null,null,null,null,null,null,null,null,null,1,{"$f":"+Y384+1","v":2},{"$f":"+Z384+1","v":3},4,5,6,null,null,null,null,null,null,null,null,null,null,null,{"$f":"IF(LEN(Y384)=1,CONCATENATE(\"00\",Y384),IF(LEN(Y384)=2,CONCATENATE(\"0\",Y384),Y384))","v":"001"},"002","003","004","005","006",null,null,null,null,null,null,null,null,null,null,null,{"$f":"+$BH$382&AP384&$BI$381","v":"=+IMPORTARDATOSDINAMICOS(\" BAS001\";TABLAS!$A$463)"},{"$f":"+$BH$382&AQ384&$BI$381","v":"=+IMPORTARDATOSDINAMICOS(\" BAS002\";TABLAS!$A$463)"},{"$f":"+$BH$382&AR384&$BI$381","v":"=+IMPORTARDATOSDINAMICOS(\" BAS003\";TABLAS!$A$463)"},{"$f":"+$BH$382&AS384&$BI$381","v":"=+IMPORTARDATOSDINAMICOS(\" BAS004\";TABLAS!$A$463)"},{"$f":"+$BH$382&AT384&$BI$381","v":"=+IMPORTARDATOSDINAMICOS(\" BAS005\";TABLAS!$A$463)"},{"$f":"+$BH$382&AU384&$BI$381","v":"=+IMPORTARDATOSDINAMICOS(\" BAS006\";TABLAS!$A$463)"}]
[null,null,null,169,"Dengue (5)",{"$f":"+GETPIVOTDATA(\" BAS007\",TABLAS!$A$463)","v":0},{"$f":"+GETPIVOTDATA(\" BAS008\",TABLAS!$A$463)","v":0},{"$f":"+GETPIVOTDATA(\" BAS009\",TABLAS!$A$463)","v":0},{"$f":"+GETPIVOTDATA(\" BAS010\",TABLAS!$A$463)","v":0},{"$f":"+GETPIVOTDATA(\" BAS011\",TABLAS!$A$463)","v":0},{"$f":"+GETPIVOTDATA(\" BAS012\",TABLAS!$A$463)","v":0},null,null,null,null,null,null,null,null,null,null,null,null,null,{"$f":"+AD384+1","v":7},{"$f":"+Y385+1","v":8},9,10,11,12,null,null,null,null,null,null,null,null,null,null,null,"007","008","009","010","011","012",null,null,null,null,null,null,null,null,null,null,null,{"$f":"+$BH$382&AP385&$BI$381","v":"=+IMPORTARDATOSDINAMICOS(\" BAS007\";TABLAS!$A$463)"},"=+IMPORTARDATOSDINAMICOS(\" BAS008\";TABLAS!$A$463)","=+IMPORTARDATOSDINAMICOS(\" BAS009\";TABLAS!$A$463)","=+IMPORTARDATOSDINAMICOS(\" BAS010\";TABLAS!$A$463)","=+IMPORTARDATOSDINAMICOS(\" BAS011\";TABLAS!$A$463)","=+IMPORTARDATOSDINAMICOS(\" BAS012\";TABLAS!$A$463)"]
[null,null,null,170,"Chikungunya (2)",{"$f":"+GETPIVOTDATA(\" BAS013\",TABLAS!$A$463)","v":0},{"$f":"+GETPIVOTDATA(\" BAS014\",TABLAS!$A$463)","v":0},{"$f":"+GETPIVOTDATA(\" BAS015\",TABLAS!$A$463)","v":0},{"$f":"+GETPIVOTDATA(\" BAS016\",TABLAS!$A$463)","v":0},{"$f":"+GETPIVOTDATA(\" BAS017\",TABLAS!$A$463)","v":0},{"$f":"+GETPIVOTDATA(\" BAS018\",TABLAS!$A$463)","v":0},null,null,null,null,null,null,null,null,null,null,null,null,null,{"$f":"+AD385+1","v":13},14,15,16,17,18,null,null,null,null,null,null,null,null,null,null,null,"013","014","015","016","017","018",null,null,null,null,null,null,null,null,null,null,null,"=+IMPORTARDATOSDINAMICOS(\" BAS013\";TABLAS!$A$463)","=+IMPORTARDATOSDINAMICOS(\" BAS014\";TABLAS!$A$463)","=+IMPORTARDATOSDINAMICOS(\" BAS015\";TABLAS!$A$463)","=+IMPORTARDATOSDINAMICOS(\" BAS016\";TABLAS!$A$463)","=+IMPORTARDATOSDINAMICOS(\" BAS017\";TABLAS!$A$463)","=+IMPORTARDATOSDINAMICOS(\" BAS018\";TABLAS!$A$463)"]
[null,null,null,171,"Zika (3)",{"$f":"+GETPIVOTDATA(\" BAS019\",TABLAS!$A$463)","v":0},{"$f":"+GETPIVOTDATA(\" BAS020\",TABLAS!$A$463)","v":0},{"$f":"+GETPIVOTDATA(\" BAS021\",TABLAS!$A$463)","v":0},{"$f":"+GETPIVOTDATA(\" BAS022\",TABLAS!$A$463)","v":0},{"$f":"+GETPIVOTDATA(\" BAS023\",TABLAS!$A$463)","v":0},{"$f":"+GETPIVOTDATA(\" BAS024\",TABLAS!$A$463)","v":0},null,null,null,null,null,null,null,null,null,null,null,null,null,{"$f":"+AD386+1","v":19},20,21,22,23,24,null,null,null,null,null,null,null,null,null,null,null,"019","020","021","022","023","024",null,null,null,null,null,null,null,null,null,null,null,"=+IMPORTARDATOSDINAMICOS(\" BAS019\";TABLAS!$A$463)","=+IMPORTARDATOSDINAMICOS(\" BAS020\";TABLAS!$A$463)","=+IMPORTARDATOSDINAMICOS(\" BAS021\";TABLAS!$A$463)","=+IMPORTARDATOSDINAMICOS(\" BAS022\";TABLAS!$A$463)","=+IMPORTARDATOSDINAMICOS(\" BAS023\";TABLAS!$A$463)","=+IMPORTARDATOSDINAMICOS(\" BAS024\";TABLAS!$A$463)"]
[null,null,null,172,"Bartonelosis (6)",{"$f":"+GETPIVOTDATA(\" BAS025\",TABLAS!$A$463)","v":0},{"$f":"+GETPIVOTDATA(\" BAS026\",TABLAS!$A$463)","v":0},{"$f":"+GETPIVOTDATA(\" BAS027\",TABLAS!$A$463)","v":0},{"$f":"+GETPIVOTDATA(\" BAS028\",TABLAS!$A$463)","v":0},{"$f":"+GETPIVOTDATA(\" BAS029\",TABLAS!$A$463)","v":0},{"$f":"+GETPIVOTDATA(\" BAS030\",TABLAS!$A$463)","v":0},null,null,null,null,null,null,null,null,null,null,null,null,null,25,26,27,28,29,30,null,null,null,null,null,null,null,null,null,null,null,"025","026","027","028","029","030",null,null,null,null,null,null,null,null,null,null,null,"=+IMPORTARDATOSDINAMICOS(\" BAS025\";TABLAS!$A$463)","=+IMPORTARDATOSDINAMICOS(\" BAS026\";TABLAS!$A$463)","=+IMPORTARDATOSDINAMICOS(\" BAS027\";TABLAS!$A$463)","=+IMPORTARDATOSDINAMICOS(\" BAS028\";TABLAS!$A$463)","=+IMPORTARDATOSDINAMICOS(\" BAS029\";TABLAS!$A$463)","=+IMPORTARDATOSDINAMICOS(\" BAS030\";TABLAS!$A$463)"]
[null,null,null,173,"Fiebre Amarilla (7)",{"$f":"+GETPIVOTDATA(\" BAS031\",TABLAS!$A$463)","v":0},{"$f":"+GETPIVOTDATA(\" BAS032\",TABLAS!$A$463)","v":0},{"$f":"+GETPIVOTDATA(\" BAS033\",TABLAS!$A$463)","v":0},{"$f":"+GETPIVOTDATA(\" BAS034\",TABLAS!$A$463)","v":0},{"$f":"+GETPIVOTDATA(\" BAS035\",TABLAS!$A$463)","v":0},{"$f":"+GETPIVOTDATA(\" BAS036\",TABLAS!$A$463)","v":0},null,null,null,null,null,null,null,null,null,null,null,null,null,31,32,33,34,35,36,null,null,null,null,null,null,null,null,null,null,null,"031","032","033","034","035","036",null,null,null,null,null,null,null,null,null,null,null,"=+IMPORTARDATOSDINAMICOS(\" BAS031\";TABLAS!$A$463)","=+IMPORTARDATOSDINAMICOS(\" BAS032\";TABLAS!$A$463)","=+IMPORTARDATOSDINAMICOS(\" BAS033\";TABLAS!$A$463)","=+IMPORTARDATOSDINAMICOS(\" BAS034\";TABLAS!$A$463)","=+IMPORTARDATOSDINAMICOS(\" BAS035\";TABLAS!$A$463)","=+IMPORTARDATOSDINAMICOS(\" BAS036\";TABLAS!$A$463)"]
[null,null,null,174,"Chagas (8)",{"$f":"+GETPIVOTDATA(\" BAS037\",TABLAS!$A$463)","v":0},{"$f":"+GETPIVOTDATA(\" BAS038\",TABLAS!$A$463)","v":0},{"$f":"+GETPIVOTDATA(\" BAS039\",TABLAS!$A$463)","v":0},{"$f":"+GETPIVOTDATA(\" BAS040\",TABLAS!$A$463)","v":0},{"$f":"+GETPIVOTDATA(\" BAS041\",TABLAS!$A$463)","v":0},{"$f":"+GETPIVOTDATA(\" BAS042\",TABLAS!$A$463)","v":0},null,null,null,null,null,null,null,null,null,null,null,null,null,37,38,39,40,41,42,null,null,null,null,null,null,null,null,null,null,null,"037","038","039","040","041","042",null,null,null,null,null,null,null,null,null,null,null,"=+IMPORTARDATOSDINAMICOS(\" BAS037\";TABLAS!$A$463)","=+IMPORTARDATOSDINAMICOS(\" BAS038\";TABLAS!$A$463)","=+IMPORTARDATOSDINAMICOS(\" BAS039\";TABLAS!$A$463)","=+IMPORTARDATOSDINAMICOS(\" BAS040\";TABLAS!$A$463)","=+IMPORTARDATOSDINAMICOS(\" BAS041\";TABLAS!$A$463)","=+IMPORTARDATOSDINAMICOS(\" BAS042\";TABLAS!$A$463)"]
[null,null,null,175,"Leishmaniosis (9)",{"$f":"+GETPIVOTDATA(\" BAS043\",TABLAS!$A$463)","v":0},{"$f":"+GETPIVOTDATA(\" BAS044\",TABLAS!$A$463)","v":0},{"$f":"+GETPIVOTDATA(\" BAS045\",TABLAS!$A$463)","v":0},{"$f":"+GETPIVOTDATA(\" BAS046\",TABLAS!$A$463)","v":0},{"$f":"+GETPIVOTDATA(\" BAS047\",TABLAS!$A$463)","v":0},{"$f":"+GETPIVOTDATA(\" BAS048\",TABLAS!$A$463)","v":0},null,null,null,null,null,null,null,null,null,null,null,null,null,43,44,45,46,47,48,null,null,null,null,null,null,null,null,null,null,null,"043","044","045","046","047","048",null,null,null,null,null,null,null,null,null,null,null,"=+IMPORTARDATOSDINAMICOS(\" BAS043\";TABLAS!$A$463)","=+IMPORTARDATOSDINAMICOS(\" BAS044\";TABLAS!$A$463)","=+IMPORTARDATOSDINAMICOS(\" BAS045\";TABLAS!$A$463)","=+IMPORTARDATOSDINAMICOS(\" BAS046\";TABLAS!$A$463)","=+IMPORTARDATOSDINAMICOS(\" BAS047\";TABLAS!$A$463)","=+IMPORTARDATOSDINAMICOS(\" BAS048\";TABLAS!$A$463)"]
[]
[null,null,null,null,"Zoonoticas"]
[null,null,null,null,null,1,2,3,4,5,6]
[null,null,null,null,"Tematica","NIVEL INICIAL",null,"NIVEL PRIMARIO",null,"NIVEL SECUNDARIA"]
[null,null,null,null,null,"Nº","N° de participantes","Nº","N° de participantes","Nº","N° de participantes"]
[null,null,null,178,"Rabia (4)",{"$f":"+GETPIVOTDATA(\" BAS049\",TABLAS!$A$463)","v":0},{"$f":"+GETPIVOTDATA(\" BAS050\",TABLAS!$A$463)","v":0},{"$f":"+GETPIVOTDATA(\" BAS051\",TABLAS!$A$463)","v":0},{"$f":"+GETPIVOTDATA(\" BAS052\",TABLAS!$A$463)","v":0},{"$f":"+GETPIVOTDATA(\" BAS053\",TABLAS!$A$463)","v":0},{"$f":"+GETPIVOTDATA(\" BAS054\",TABLAS!$A$463)","v":0},null,null,null,null,null,null,null,null,null,null,null,null,null,{"$f":"+AD391+1","v":49},{"$f":"+Y397+1","v":50},{"$f":"+Z397+1","v":51},52,53,54,null,null,null,null,null,null,null,null,null,null,null,{"$f":"IF(LEN(Y397)=1,CONCATENATE(\"00\",Y397),IF(LEN(Y397)=2,CONCATENATE(\"0\",Y397),Y397))","v":"049"},"050","051","052","053","054",null,null,null,null,null,null,null,null,null,null,null,{"$f":"+$BH$382&AP397&$BI$381","v":"=+IMPORTARDATOSDINAMICOS(\" BAS049\";TABLAS!$A$463)"},{"$f":"+$BH$382&AQ397&$BI$381","v":"=+IMPORTARDATOSDINAMICOS(\" BAS050\";TABLAS!$A$463)"},{"$f":"+$BH$382&AR397&$BI$381","v":"=+IMPORTARDATOSDINAMICOS(\" BAS051\";TABLAS!$A$463)"},{"$f":"+$BH$382&AS397&$BI$381","v":"=+IMPORTARDATOSDINAMICOS(\" BAS052\";TABLAS!$A$463)"},{"$f":"+$BH$382&AT397&$BI$381","v":"=+IMPORTARDATOSDINAMICOS(\" BAS053\";TABLAS!$A$463)"},{"$f":"+$BH$382&AU397&$BI$381","v":"=+IMPORTARDATOSDINAMICOS(\" BAS054\";TABLAS!$A$463)"}]
[null,null,null,179,"Peste (10)",{"$f":"+GETPIVOTDATA(\" BAS055\",TABLAS!$A$463)","v":0},{"$f":"+GETPIVOTDATA(\" BAS056\",TABLAS!$A$463)","v":0},{"$f":"+GETPIVOTDATA(\" BAS057\",TABLAS!$A$463)","v":0},{"$f":"+GETPIVOTDATA(\" BAS058\",TABLAS!$A$463)","v":0},{"$f":"+GETPIVOTDATA(\" BAS059\",TABLAS!$A$463)","v":0},{"$f":"+GETPIVOTDATA(\" BAS060\",TABLAS!$A$463)","v":0},null,null,null,null,null,null,null,null,null,null,null,null,null,{"$f":"+AD397+1","v":55},{"$f":"+Y398+1","v":56},57,58,59,60,null,null,null,null,null,null,null,null,null,null,null,"055","056","057","058","059","060",null,null,null,null,null,null,null,null,null,null,null,"=+IMPORTARDATOSDINAMICOS(\" BAS055\";TABLAS!$A$463)","=+IMPORTARDATOSDINAMICOS(\" BAS056\";TABLAS!$A$463)","=+IMPORTARDATOSDINAMICOS(\" BAS057\";TABLAS!$A$463)","=+IMPORTARDATOSDINAMICOS(\" BAS058\";TABLAS!$A$463)","=+IMPORTARDATOSDINAMICOS(\" BAS059\";TABLAS!$A$463)","=+IMPORTARDATOSDINAMICOS(\" BAS060\";TABLAS!$A$463)"]
[null,null,null,180,"Leptospirosis (11)",{"$f":"+GETPIVOTDATA(\" BAS061\",TABLAS!$A$463)","v":0},{"$f":"+GETPIVOTDATA(\" BAS062\",TABLAS!$A$463)","v":0},{"$f":"+GETPIVOTDATA(\" BAS063\",TABLAS!$A$463)","v":0},{"$f":"+GETPIVOTDATA(\" BAS064\",TABLAS!$A$463)","v":0},{"$f":"+GETPIVOTDATA(\" BAS065\",TABLAS!$A$463)","v":0},{"$f":"+GETPIVOTDATA(\" BAS066\",TABLAS!$A$463)","v":0},null,null,null,null,null,null,null,null,null,null,null,null,null,{"$f":"+AD398+1","v":61},62,63,64,65,66,null,null,null,null,null,null,null,null,null,null,null,"061","062","063","064","065","066",null,null,null,null,null,null,null,null,null,null,null,"=+IMPORTARDATOSDINAMICOS(\" BAS061\";TABLAS!$A$463)","=+IMPORTARDATOSDINAMICOS(\" BAS062\";TABLAS!$A$463)","=+IMPORTARDATOSDINAMICOS(\" BAS063\";TABLAS!$A$463)","=+IMPORTARDATOSDINAMICOS(\" BAS064\";TABLAS!$A$463)","=+IMPORTARDATOSDINAMICOS(\" BAS065\";TABLAS!$A$463)","=+IMPORTARDATOSDINAMICOS(\" BAS066\";TABLAS!$A$463)"]
[null,null,null,181,"Tifus (12)",{"$f":"+GETPIVOTDATA(\" BAS067\",TABLAS!$A$463)","v":0},{"$f":"+GETPIVOTDATA(\" BAS068\",TABLAS!$A$463)","v":0},{"$f":"+GETPIVOTDATA(\" BAS069\",TABLAS!$A$463)","v":0},{"$f":"+GETPIVOTDATA(\" BAS070\",TABLAS!$A$463)","v":0},{"$f":"+GETPIVOTDATA(\" BAS071\",TABLAS!$A$463)","v":0},{"$f":"+GETPIVOTDATA(\" BAS072\",TABLAS!$A$463)","v":0},null,null,null,null,null,null,null,null,null,null,null,null,null,{"$f":"+AD399+1","v":67},68,69,70,71,72,null,null,null,null,null,null,null,null,null,null,null,"067","068","069","070","071","072",null,null,null,null,null,null,null,null,null,null,null,"=+IMPORTARDATOSDINAMICOS(\" BAS067\";TABLAS!$A$463)","=+IMPORTARDATOSDINAMICOS(\" BAS068\";TABLAS!$A$463)","=+IMPORTARDATOSDINAMICOS(\" BAS069\";TABLAS!$A$463)","=+IMPORTARDATOSDINAMICOS(\" BAS070\";TABLAS!$A$463)","=+IMPORTARDATOSDINAMICOS(\" BAS071\";TABLAS!$A$463)","=+IMPORTARDATOSDINAMICOS(\" BAS072\";TABLAS!$A$463)"]
[null,null,null,182,"Equinococosis (13)",{"$f":"+GETPIVOTDATA(\" BAS073\",TABLAS!$A$463)","v":0},{"$f":"+GETPIVOTDATA(\" BAS074\",TABLAS!$A$463)","v":0},{"$f":"+GETPIVOTDATA(\" BAS075\",TABLAS!$A$463)","v":0},{"$f":"+GETPIVOTDATA(\" BAS076\",TABLAS!$A$463)","v":0},{"$f":"+GETPIVOTDATA(\" BAS077\",TABLAS!$A$463)","v":0},{"$f":"+GETPIVOTDATA(\" BAS078\",TABLAS!$A$463)","v":0},null,null,null,null,null,null,null,null,null,null,null,null,null,73,74,75,76,77,78,null,null,null,null,null,null,null,null,null,null,null,"073","074","075","076","077","078",null,null,null,null,null,null,null,null,null,null,null,"=+IMPORTARDATOSDINAMICOS(\" BAS073\";TABLAS!$A$463)","=+IMPORTARDATOSDINAMICOS(\" BAS074\";TABLAS!$A$463)","=+IMPORTARDATOSDINAMICOS(\" BAS075\";TABLAS!$A$463)","=+IMPORTARDATOSDINAMICOS(\" BAS076\";TABLAS!$A$463)","=+IMPORTARDATOSDINAMICOS(\" BAS077\";TABLAS!$A$463)","=+IMPORTARDATOSDINAMICOS(\" BAS078\";TABLAS!$A$463)"]
[null,null,"fin"]
[]
[null,null,null,null,"TRAZADORES"]
[null,null,null,null,"1. FAMILIAS QUE DESARROLLAN PRÁCTICAS SALUDABLES PARA LA PREVENCIÓN DE LAS ENFERMEDADES METAXÉNICAS"]
[null,null,null,null,"2º Sesión "]
[null,null,null,null,"CONTAR DNI/ (DX1= C0009 + LAB1=\"BLANCO\"+ LAB2=\"BLANCO\"+LAB3=\"BLANCO\") + (DX2=C0010 + LAB1=2+ LAB2=01+LAB3=\"BLANCO\")","+"]
[null,null,null,null,"CONTAR DNI/ (DX1= C0009 + LAB1=\"BLANCO\"+ LAB2=\"BLANCO\"+LAB3=\"BLANCO\") + (DX2=C0010 + LAB1=2+ LAB2=05+LAB3=\"BLANCO\")"]
[]
[null,null,null,null,"Trazador",{"$f":"+GETPIVOTDATA(\" BAS079\",TABLAS!$A$463)","v":1945}]
[]
[null,null,null,null,"2. FAMILIAS QUE DESARROLLAN PRÁCTICAS SALUDABLES PARA LA PREVENCIÓN DE LAS ENFERMEDADES ZOONOTICAS"]
[null,null,null,null,"2º Sesión "]
[null,null,null,null,"CONTAR DNI/ (DX1= C0009 + LAB1=2+ LAB2=\"BLANCO\"+LAB3=\"BLANCO\") + (DX2=C0010 + LAB1=04+ LAB2=\"BLANCO\"+LAB3=\"BLANCO\")"]
[]
[null,null,null,null,"Trazador",{"$f":"+GETPIVOTDATA(\" BAS080\",TABLAS!$A$463)","v":543}]
[]
[null,null,null,null,"3. COMUNIDADES PRIORIZADAS EN EL DISTRITO QUE ESTÁN IMPLEMENTANDO LA VIGILANCIA COMUNITARIA ASOCIADA A ENFERMEDADES METAXÉNICAS Y ZOONOTICAS"]
[null,null,null,null,"rabia"]
[null,null,null,null,"CONTAR APP 108/ (DX1=C0021+LAB1=4+LAB2=FE+LAB3=4)"]
[null,null,null,null,"dengue"]
[null,null,null,null,"CONTAR APP 108/ (DX1=C0021+LAB1=4+LAB2=FE+LAB3=5)"]
[]
[null,null,null,null,"Trazador",{"$f":"+GETPIVOTDATA(\" BAS081\",TABLAS!$A$463)","v":5}]
[]
[null,null,null,null,"4. MUNICIPIOS (COMITÉ MULTISECTORIAL) CAPACITADO Y ARTICULADO PARA MEJORAR O MITIGAR LAS CONDICIONES QUE GENERAN RIESGO DE ENFERMAR O MORIR POR ALGUNA ENFERMEDAD METAXENICA O ZOONOTICA"]
[]
[null,null,null,null,"Dengue (5)"]
[null,null,null,null,"CONTAR APP96/(DX1=C7003+LAB1=5+LAB2=\"BLANCO\"+ LAB3=\"BLANCO\")"]
[null,null,null,null,"Rabia (4)"]
[null,null,null,null,"CONTAR APP96/(DX1=C7003+LAB1=4+LAB2=\"BLANCO\"+ LAB3=\"BLANCO\")"]
[]
[null,null,null,null,"Trazador",{"$f":"+GETPIVOTDATA(\" BAS082\",TABLAS!$A$463)","v":0}]
[]
[null,null,null,null,"5. DOCENTES, DIRECTIVOS Y PADRES DE FAMILIA, CAPACITADOS Y COMPROMETIDOS A DESARROLLAR ACCIONES PARA LA PROMOCIÓN DE PRÁCTICAS SALUDABLES PARA LA PREVENCIÓN DE LAS ENFERMEDADES METAXÉNICA Y ZOONÓTICAS"]
[null,null,null,null,"Dengue (5)"]
[null,null,null,null,"SUMAR LAB1 DE APP144/(DX1=C0005+LAB1+LAB2=IN+ LAB3=5)+"]
[null,null,null,null,"SUMAR LAB1 DE APP144/(DX1=C0005+LAB1+LAB2=TP+ LAB3=5)+"]
[null,null,null,null,"SUMAR LAB1 DE APP144/(DX1=C0005+LAB1+LAB2=TS+ LAB3=5)"]
[]
[null,null,null,null,"Rabia (4)"]
[null,null,null,null,"SUMAR LAB1 DE APP144/(DX1=C0005+LAB1+LAB2=IN+ LAB3=4)"]
[null,null,null,null,"SUMAR LAB1 DE APP144/(DX1=C0005+LAB1+LAB2=TP+ LAB3=4)"]
[null,null,null,null,"SUMAR LAB1 DE APP144/(DX1=C0005+LAB1+LAB2=TS+ LAB3=4)"]
[]
[null,null,null,null,"Trazador",{"$f":"+GETPIVOTDATA(\" BAS083\",TABLAS!$A$463)","v":268}]

{"sheet":"PP018","index":7,"n_rows":176,"n_cols":31,"rows_kept":176,"cut":false,"hidden":false,"merged":[[152,3,152,4],[128,3,128,10],[8,6,8,7],[140,0,156,0],[140,1,156,1],[5,1,5,10],[17,0,139,0],[17,1,30,1],[17,3,17,10],[30,3,30,10],[31,1,139,1],[52,3,52,10],[98,4,99,4],[99,5,99,7],[122,4,122,5],[123,4,123,5],[124,4,124,5],[125,4,125,5]]}
[]
[]
[]
[]
[]
[null,"REPORTE MENSUAL DE ACTIVIDADES - PROMOCIÓN DE LA SALUD"]
[]
[null,null,null,null,"DIRESA/DISA/GERESA ",null,"EJECUTORA",null,null,"MES"]
[null,null,null,null,"CUSCO",null,{"$f":"+TABLAS!O14","v":""},null,null,{"$f":"+TABLAS!N26","v":"ENE - MAR"}]
[null,null,null,null,"RED "]
[null,null,null,null,{"$f":"+TABLAS!O9","v":"03 - LA CONVENCION"},null,null,null,null,"AÑO "]
[null,null,null,null,"MICRO RED",null,"PROVINCIA",null,null,{"$f":"+TABLAS!J16","v":"2025"}]
[null,null,null,null,{"$f":"+TABLAS!O10","v":""},null,{"$f":"+TABLAS!O12","v":""},null,null,{"$f":"+TABLAS!P20","v":0}]
[null,null,null,null,"IPRESS",null,"DISTRITO"]
[null,null,null,null,{"$f":"+TABLAS!O11","v":""},null,{"$f":"+TABLAS!O13","v":""},null,null,{"$f":"IF(J13=1,MID(D16,1,9)&\"_\"&MID(D16,13,20)&\"_\"&MID(J9,1,3)&\"_\"&J12,MID(D16,1,9)&\"_\"&MID(D16,13,20)&\"_\"&MID(J9,1,3)&\"_\"&MID(J9,7,3)&\"_\"&J12)","v":"__ENE_MAR_2025"}]
[]
[]
["PROGRAMA PRESUPUESTAL ENFERMEDADES NO TRANSMISIBLES PP018","ACTIVIDAD FAMILIAS",null,"1. FAMILIAS QUE RECIBEN SESIONES EDUCATIVAS Y DEMOSTRATIVAS EN PRÁCTICAS SALUDABLES FRENTE A LAS ENFERMEDADES NO TRASMISIBLES"]
[null,null,null,null,null,null,null,null,null,null,null,null,null,null,null,null,null,null,null,null,null,null,null,null,null,null,null,null,null,null,"\";TABLAS!$A$311)"]
[null,null,null,null,null,1,null,null,null,null,null,null,null,null,null,null,null,null,null,null,null,null,null,null,null,null,null,null,null,"=+IMPORTARDATOSDINAMICOS(\" BAS"]
[null,null,null,null,"Tématica","Nº registros"]
[null,null,null,1,"Alimentación saludables (ALI)",{"$f":"+GETPIVOTDATA(\" BAS001\",TABLAS!$A$311)","v":3493},null,null,null,null,null,null,null,null,null,null,null,null,null,null,1,null,null,null,{"$f":"IF(LEN(U22)=1,CONCATENATE(\"00\",U22),IF(LEN(U22)=2,CONCATENATE(\"0\",U22),U22))","v":"001"},null,null,null,{"$f":"$AD$20&Y22&$AE$19","v":"=+IMPORTARDATOSDINAMICOS(\" BAS001\";TABLAS!$A$311)"}]
[null,null,null,2,"Actividad Física (AFI)",{"$f":"+GETPIVOTDATA(\" BAS002\",TABLAS!$A$311)","v":2484},null,null,null,null,null,null,null,null,null,null,null,null,null,null,{"$f":"+U22+1","v":2},null,null,null,{"$f":"IF(LEN(U23)=1,CONCATENATE(\"00\",U23),IF(LEN(U23)=2,CONCATENATE(\"0\",U23),U23))","v":"002"},null,null,null,{"$f":"$AD$20&Y23&$AE$19","v":"=+IMPORTARDATOSDINAMICOS(\" BAS002\";TABLAS!$A$311)"}]
[null,null,null,3,"Salud bucal (SBU)",{"$f":"+GETPIVOTDATA(\" BAS003\",TABLAS!$A$311)","v":1509},null,null,null,null,null,null,null,null,null,null,null,null,null,null,{"$f":"+U23+1","v":3},null,null,null,"003",null,null,null,"=+IMPORTARDATOSDINAMICOS(\" BAS003\";TABLAS!$A$311)"]
[null,null,null,4,"Salud ocular (SO)",{"$f":"+GETPIVOTDATA(\" BAS004\",TABLAS!$A$311)","v":577},null,null,null,null,null,null,null,null,null,null,null,null,null,null,4,null,null,null,"004",null,null,null,"=+IMPORTARDATOSDINAMICOS(\" BAS004\";TABLAS!$A$311)"]
[null,null,null,5,"Sueño adecuado (1)",{"$f":"+GETPIVOTDATA(\" BAS005\",TABLAS!$A$311)","v":334},null,null,null,null,null,null,null,null,null,null,null,null,null,null,5,null,null,null,"005",null,null,null,"=+IMPORTARDATOSDINAMICOS(\" BAS005\";TABLAS!$A$311)"]
[null,null,null,6,"Gestión de estres (2)",{"$f":"+GETPIVOTDATA(\" BAS006\",TABLAS!$A$311)","v":191},null,null,null,null,null,null,null,null,null,null,null,null,null,null,6,null,null,null,"006",null,null,null,"=+IMPORTARDATOSDINAMICOS(\" BAS006\";TABLAS!$A$311)"]
[null,null,null,7,"Metales pesados (181)",{"$f":"+GETPIVOTDATA(\" BAS007\",TABLAS!$A$311)","v":0},null,null,null,null,null,null,null,null,null,null,null,null,null,null,7,null,null,null,"007",null,null,null,"=+IMPORTARDATOSDINAMICOS(\" BAS007\";TABLAS!$A$311)"]
[]
[]
[null,null,null,"2. FUNCIONARIOS MUNICIPALES SENSIBILIZADOS PARA LA GENERACION DE ENTORNOS SALUDABLES FRENTE A LAS ENFERMEDADES NO TRASMISIBLES"]
[]
[null,null,null,null,"FASE 1:PLANIFIACIÓN"]
[null,null,null,null,null,1,2]
[null,null,null,null,null,"Reuniones (PP)","Reuniones (FSE)"]
[null,null,null,9,"1º reunión",{"$f":"+GETPIVOTDATA(\" BAS008\",TABLAS!$A$311)","v":2},{"$f":"+GETPIVOTDATA(\" BAS009\",TABLAS!$A$311)","v":4},null,null,null,null,null,null,null,null,null,null,null,null,null,{"$f":"+U28+1","v":8},{"$f":"+U36+1","v":9},null,null,{"$f":"IF(LEN(U36)=1,CONCATENATE(\"00\",U36),IF(LEN(U36)=2,CONCATENATE(\"0\",U36),U36))","v":"008"},"009",null,null,{"$f":"$AD$20&Y36&$AE$19","v":"=+IMPORTARDATOSDINAMICOS(\" BAS008\";TABLAS!$A$311)"},"=+IMPORTARDATOSDINAMICOS(\" BAS009\";TABLAS!$A$311)"]
[null,null,null,10,"2º reunión",{"$f":"+GETPIVOTDATA(\" BAS010\",TABLAS!$A$311)","v":1},{"$f":"+GETPIVOTDATA(\" BAS011\",TABLAS!$A$311)","v":1},null,null,null,null,null,null,null,null,null,null,null,null,null,{"$f":"+V36+1","v":10},{"$f":"+U37+1","v":11},null,null,"010","011",null,null,"=+IMPORTARDATOSDINAMICOS(\" BAS010\";TABLAS!$A$311)","=+IMPORTARDATOSDINAMICOS(\" BAS011\";TABLAS!$A$311)"]
[null,null,null,11,"3º … reunión",{"$f":"+GETPIVOTDATA(\" BAS012\",TABLAS!$A$311)","v":3},{"$f":"+GETPIVOTDATA(\" BAS013\",TABLAS!$A$311)","v":5},null,null,null,null,null,null,null,null,null,null,null,null,null,{"$f":"+V37+1","v":12},13,null,null,"012","013",null,null,"=+IMPORTARDATOSDINAMICOS(\" BAS012\";TABLAS!$A$311)","=+IMPORTARDATOSDINAMICOS(\" BAS013\";TABLAS!$A$311)"]
[]
[null,null,null,null,"FASE 2: REUNIÓN DE ORGANIZACIÓN",null,"NUEVO REGISTRO"]
[]
[null,null,null,null,1,2]
[null,null,null,null,"Reuniones","Participantes"]
[null,null,null,11,{"$f":"+GETPIVOTDATA(\" BAS014\",TABLAS!$A$311)","v":2},{"$f":"+GETPIVOTDATA(\" BAS015\",TABLAS!$A$311)","v":13},null,null,null,null,null,null,null,null,null,null,null,null,null,null,{"$f":"+V38+1","v":14},{"$f":"+U44+1","v":15},null,null,{"$f":"IF(LEN(U44)=1,CONCATENATE(\"00\",U44),IF(LEN(U44)=2,CONCATENATE(\"0\",U44),U44))","v":"014"},"015",null,null,{"$f":"$AD$20&Y44&$AE$19","v":"=+IMPORTARDATOSDINAMICOS(\" BAS014\";TABLAS!$A$311)"},"=+IMPORTARDATOSDINAMICOS(\" BAS015\";TABLAS!$A$311)"]
[]
[]
[null,null,null,null,"FASE 3: REUNIÓN DE  EVALUACIÓN"]
[]
[null,null,null,null,1,2]
[null,null,null,null,"Reuniones","Participantes"]
[null,null,null,12,{"$f":"+GETPIVOTDATA(\" BAS016\",TABLAS!$A$311)","v":0},{"$f":"+GETPIVOTDATA(\" BAS017\",TABLAS!$A$311)","v":0},null,null,null,null,null,null,null,null,null,null,null,null,null,null,{"$f":"+V44+1","v":16},{"$f":"+U51+1","v":17},null,null,{"$f":"IF(LEN(U51)=1,CONCATENATE(\"00\",U51),IF(LEN(U51)=2,CONCATENATE(\"0\",U51),U51))","v":"016"},"017",null,null,{"$f":"$AD$20&Y51&$AE$19","v":"=+IMPORTARDATOSDINAMICOS(\" BAS016\";TABLAS!$A$311)"},"=+IMPORTARDATOSDINAMICOS(\" BAS017\";TABLAS!$A$311)"]
[]
[null,null,null,"3. DOCENTES COMPROMETIDOS QUE DESARROLLAN ACCIONES PARA LA PROMOCIÓN DE LA ALIMENTACIÓN SALUDABLE, ACTIVIDAD FÍSICA, SALUD OCULAR Y SALUD BUCAL"]
[]
[null,null,null,null,"INCIDENCIA"]
[null,null,null,null,1,2]
[null,null,null,null,"Reuniones","Participantes"]
[null,null,null,13,{"$f":"+GETPIVOTDATA(\" BAS018\",TABLAS!$A$311)","v":0},{"$f":"+GETPIVOTDATA(\" BAS019\",TABLAS!$A$311)","v":0},null,null,null,null,null,null,null,null,null,null,null,null,null,null,{"$f":"+V51+1","v":18},{"$f":"+U58+1","v":19},null,null,{"$f":"IF(LEN(U58)=1,CONCATENATE(\"00\",U58),IF(LEN(U58)=2,CONCATENATE(\"0\",U58),U58))","v":"018"},"019",null,null,{"$f":"$AD$20&Y58&$AE$19","v":"=+IMPORTARDATOSDINAMICOS(\" BAS018\";TABLAS!$A$311)"},"=+IMPORTARDATOSDINAMICOS(\" BAS019\";TABLAS!$A$311)"]
[]
[null,null,null,null,"REUNIÓN DE PLANIFICACIÓN",null,"NUEVO REGISTRO"]
[null,null,null,null,1,2]
[null,null,null,null,"Reuniones","Participantes"]
[null,null,null,14,{"$f":"+GETPIVOTDATA(\" BAS020\",TABLAS!$A$311)","v":0},{"$f":"+GETPIVOTDATA(\" BAS021\",TABLAS!$A$311)","v":0},null,null,null,null,null,null,null,null,null,null,null,null,null,null,{"$f":"+V58+1","v":20},{"$f":"+U63+1","v":21},null,null,{"$f":"IF(LEN(U63)=1,CONCATENATE(\"00\",U63),IF(LEN(U63)=2,CONCATENATE(\"0\",U63),U63))","v":"020"},"021",null,null,{"$f":"$AD$20&Y63&$AE$19","v":"=+IMPORTARDATOSDINAMICOS(\" BAS020\";TABLAS!$A$311)"},"=+IMPORTARDATOSDINAMICOS(\" BAS021\";TABLAS!$A$311)"]
[]
[null,null,null,null,"REUNIÓN DE ASISTENCIA TÉCNICA",null,"NUEVO REGISTRO"]
[null,null,null,null,1,1,2]
[null,null,null,null,"Nº REUNIONES ","Reuniones","Participantes"]
[null,null,null,15,"1º reunión",{"$f":"+GETPIVOTDATA(\" BAS022\",TABLAS!$A$311)","v":0},{"$f":"+GETPIVOTDATA(\" BAS023\",TABLAS!$A$311)","v":0},null,null,null,null,null,null,null,null,null,null,null,null,null,{"$f":"+V63+1","v":22},{"$f":"+U68+1","v":23},null,null,{"$f":"IF(LEN(U68)=1,CONCATENATE(\"00\",U68),IF(LEN(U68)=2,CONCATENATE(\"0\",U68),U68))","v":"022"},"023",null,null,{"$f":"$AD$20&Y68&$AE$19","v":"=+IMPORTARDATOSDINAMICOS(\" BAS022\";TABLAS!$A$311)"},"=+IMPORTARDATOSDINAMICOS(\" BAS023\";TABLAS!$A$311)"]
[null,null,null,null,"2º reunión",{"$f":"+GETPIVOTDATA(\" BAS024\",TABLAS!$A$311)","v":0},{"$f":"+GETPIVOTDATA(\" BAS025\",TABLAS!$A$311)","v":0},null,null,null,null,null,null,null,null,null,null,null,null,null,{"$f":"+V68+1","v":24},25,null,null,"024","025",null,null,"=+IMPORTARDATOSDINAMICOS(\" BAS024\";TABLAS!$A$311)","=+IMPORTARDATOSDINAMICOS(\" BAS025\";TABLAS!$A$311)"]
[]
[null,null,null,null,"REUNIÓN DE EVALUACIÓN",null,"NUEVO REGISTRO"]
[]
[null,null,null,null,1,2]
[null,null,null,null,"Reuniones","Participantes"]
[null,null,null,1,{"$f":"+GETPIVOTDATA(\" BAS026\",TABLAS!$A$311)","v":0},{"$f":"+GETPIVOTDATA(\" BAS027\",TABLAS!$A$311)","v":0},null,null,null,null,null,null,null,null,null,null,null,null,null,null,{"$f":"+V69+1","v":26},{"$f":"+U75+1","v":27},null,null,{"$f":"IF(LEN(U75)=1,CONCATENATE(\"00\",U75),IF(LEN(U75)=2,CONCATENATE(\"0\",U75),U75))","v":"026"},"027",null,null,{"$f":"$AD$20&Y75&$AE$19","v":"=+IMPORTARDATOSDINAMICOS(\" BAS026\";TABLAS!$A$311)"},"=+IMPORTARDATOSDINAMICOS(\" BAS027\";TABLAS!$A$311)"]
[]
[null,null,null,null,"REUNIÓN DE INFORME",null,"NUEVO REGISTRO"]
[]
[null,null,null,null,1,2]
[null,null,null,null,"Reuniones","Participantes"]
[null,null,null,1,{"$f":"+GETPIVOTDATA(\" BAS028\",TABLAS!$A$311)","v":0},{"$f":"+GETPIVOTDATA(\" BAS029\",TABLAS!$A$311)","v":0},null,null,null,null,null,null,null,null,null,null,null,null,null,null,{"$f":"+V75+1","v":28},{"$f":"+U81+1","v":29},null,null,{"$f":"IF(LEN(U81)=1,CONCATENATE(\"00\",U81),IF(LEN(U81)=2,CONCATENATE(\"0\",U81),U81))","v":"028"},"029",null,null,{"$f":"$AD$20&Y81&$AE$19","v":"=+IMPORTARDATOSDINAMICOS(\" BAS028\";TABLAS!$A$311)"},"=+IMPORTARDATOSDINAMICOS(\" BAS029\";TABLAS!$A$311)"]
[]
[null,null,null,null,"INCIDENCIA ante la Institución educativa",null,"NUEVO REGISTRO"]
[]
[null,null,null,null,1,2]
[null,null,null,null,"Reuniones","Participantes"]
[null,null,null,1,{"$f":"+GETPIVOTDATA(\" BAS030\",TABLAS!$A$311)","v":26},{"$f":"+GETPIVOTDATA(\" BAS031\",TABLAS!$A$311)","v":48},null,null,null,null,null,null,null,null,null,null,null,null,null,null,{"$f":"+V81+1","v":30},{"$f":"+U87+1","v":31},null,null,{"$f":"IF(LEN(U87)=1,CONCATENATE(\"00\",U87),IF(LEN(U87)=2,CONCATENATE(\"0\",U87),U87))","v":"030"},"031",null,null,{"$f":"$AD$20&Y87&$AE$19","v":"=+IMPORTARDATOSDINAMICOS(\" BAS030\";TABLAS!$A$311)"},"=+IMPORTARDATOSDINAMICOS(\" BAS031\";TABLAS!$A$311)"]
[]
[null,null,null,null,"REUNIÓN DE ASISTENCIA TÉCNICA PARA LA IMPLEMENTACIÓN\nDE ESCUELAS PROMOTORAS DE LA SALUD",null,null,null,null,"NUEVO REGISTRO"]
[null,null,null,null,null,1,2]
[null,null,null,null,"Reunión","Reuniones","Participantes"]
[null,null,null,1,"1ra reunión",{"$f":"+GETPIVOTDATA(\" BAS032\",TABLAS!$A$311)","v":6},{"$f":"+GETPIVOTDATA(\" BAS033\",TABLAS!$A$311)","v":6},null,null,null,null,null,null,null,null,null,null,null,null,null,{"$f":"+V87+1","v":32},{"$f":"+U92+1","v":33},null,null,{"$f":"IF(LEN(U92)=1,CONCATENATE(\"00\",U92),IF(LEN(U92)=2,CONCATENATE(\"0\",U92),U92))","v":"032"},"033",null,null,{"$f":"$AD$20&Y92&$AE$19","v":"=+IMPORTARDATOSDINAMICOS(\" BAS032\";TABLAS!$A$311)"},"=+IMPORTARDATOSDINAMICOS(\" BAS033\";TABLAS!$A$311)"]
[null,null,null,2,"2da reunión",{"$f":"+GETPIVOTDATA(\" BAS034\",TABLAS!$A$311)","v":0},{"$f":"+GETPIVOTDATA(\" BAS035\",TABLAS!$A$311)","v":0},null,null,null,null,null,null,null,null,null,null,null,null,null,{"$f":"+V92+1","v":34},35,null,null,"034","035",null,null,"=+IMPORTARDATOSDINAMICOS(\" BAS034\";TABLAS!$A$311)","=+IMPORTARDATOSDINAMICOS(\" BAS035\";TABLAS!$A$311)"]
[null,null,null,3,"3ra reunión",{"$f":"+GETPIVOTDATA(\" BAS036\",TABLAS!$A$311)","v":0},{"$f":"+GETPIVOTDATA(\" BAS037\",TABLAS!$A$311)","v":0},null,null,null,null,null,null,null,null,null,null,null,null,null,{"$f":"+V93+1","v":36},37,null,null,"036","037",null,null,"=+IMPORTARDATOSDINAMICOS(\" BAS036\";TABLAS!$A$311)","=+IMPORTARDATOSDINAMICOS(\" BAS037\";TABLAS!$A$311)"]
[null,null,null,4,"4ta reunión",{"$f":"+GETPIVOTDATA(\" BAS038\",TABLAS!$A$311)","v":2},{"$f":"+GETPIVOTDATA(\" BAS039\",TABLAS!$A$311)","v":18},null,null,null,null,null,null,null,null,null,null,null,null,null,38,39,null,null,"038","039",null,null,"=+IMPORTARDATOSDINAMICOS(\" BAS038\";TABLAS!$A$311)","=+IMPORTARDATOSDINAMICOS(\" BAS039\";TABLAS!$A$311)"]
[]
[null,null,null,null,"CAPACITACIÒN A DOCENTES Y DIRECTIVOS DE EDUCACIÓN BÁSICA",null,null,"NUEVO REGISTRO"]
[null,null,null,null,null,1,2,3]
[null,null,null,null,"Tématica","Nivel Inicial ","Nivel Primaria","Nivel Secunadaria"]
[null,null,null,null,null,"N° de participantes"]
[null,null,null,1,"Alimentación saludables (ALI)",{"$f":"+GETPIVOTDATA(\" BAS040\",TABLAS!$A$311)","v":3},{"$f":"+GETPIVOTDATA(\" BAS041\",TABLAS!$A$311)","v":0},{"$f":"+GETPIVOTDATA(\" BAS042\",TABLAS!$A$311)","v":0},null,null,null,null,null,null,null,null,null,null,null,null,{"$f":"+V95+1","v":40},{"$f":"+U101+1","v":41},42,null,{"$f":"IF(LEN(U101)=1,CONCATENATE(\"00\",U101),IF(LEN(U101)=2,CONCATENATE(\"0\",U101),U101))","v":"040"},"041","042",null,{"$f":"$AD$20&Y101&$AE$19","v":"=+IMPORTARDATOSDINAMICOS(\" BAS040\";TABLAS!$A$311)"},"=+IMPORTARDATOSDINAMICOS(\" BAS041\";TABLAS!$A$311)","=+IMPORTARDATOSDINAMICOS(\" BAS042\";TABLAS!$A$311)"]
[null,null,null,2,"Actividad Física (AFI)",{"$f":"+GETPIVOTDATA(\" BAS043\",TABLAS!$A$311)","v":0},{"$f":"+GETPIVOTDATA(\" BAS044\",TABLAS!$A$311)","v":0},{"$f":"+GETPIVOTDATA(\" BAS045\",TABLAS!$A$311)","v":0},null,null,null,null,null,null,null,null,null,null,null,null,{"$f":"+W101+1","v":43},44,45,null,"043","044","045",null,"=+IMPORTARDATOSDINAMICOS(\" BAS043\";TABLAS!$A$311)","=+IMPORTARDATOSDINAMICOS(\" BAS044\";TABLAS!$A$311)","=+IMPORTARDATOSDINAMICOS(\" BAS045\";TABLAS!$A$311)"]
[null,null,null,3,"Salud bucal (SBU)",{"$f":"+GETPIVOTDATA(\" BAS046\",TABLAS!$A$311)","v":0},{"$f":"+GETPIVOTDATA(\" BAS047\",TABLAS!$A$311)","v":0},{"$f":"+GETPIVOTDATA(\" BAS048\",TABLAS!$A$311)","v":0},null,null,null,null,null,null,null,null,null,null,null,null,{"$f":"+W102+1","v":46},47,48,null,"046","047","048",null,"=+IMPORTARDATOSDINAMICOS(\" BAS046\";TABLAS!$A$311)","=+IMPORTARDATOSDINAMICOS(\" BAS047\";TABLAS!$A$311)","=+IMPORTARDATOSDINAMICOS(\" BAS048\";TABLAS!$A$311)"]
[null,null,null,4,"Salud ocular (SO)",{"$f":"+GETPIVOTDATA(\" BAS049\",TABLAS!$A$311)","v":0},{"$f":"+GETPIVOTDATA(\" BAS050\",TABLAS!$A$311)","v":0},{"$f":"+GETPIVOTDATA(\" BAS051\",TABLAS!$A$311)","v":0},null,null,null,null,null,null,null,null,null,null,null,null,49,50,51,null,"049","050","051",null,"=+IMPORTARDATOSDINAMICOS(\" BAS049\";TABLAS!$A$311)","=+IMPORTARDATOSDINAMICOS(\" BAS050\";TABLAS!$A$311)","=+IMPORTARDATOSDINAMICOS(\" BAS051\";TABLAS!$A$311)"]
[null,null,null,5,"Sueño adecuado (1)",{"$f":"+GETPIVOTDATA(\" BAS052\",TABLAS!$A$311)","v":0},{"$f":"+GETPIVOTDATA(\" BAS053\",TABLAS!$A$311)","v":0},{"$f":"+GETPIVOTDATA(\" BAS054\",TABLAS!$A$311)","v":0},null,null,null,null,null,null,null,null,null,null,null,null,52,53,54,null,"052","053","054",null,"=+IMPORTARDATOSDINAMICOS(\" BAS052\";TABLAS!$A$311)","=+IMPORTARDATOSDINAMICOS(\" BAS053\";TABLAS!$A$311)","=+IMPORTARDATOSDINAMICOS(\" BAS054\";TABLAS!$A$311)"]
[null,null,null,6,"Gestión de estres (2)",{"$f":"+GETPIVOTDATA(\" BAS055\",TABLAS!$A$311)","v":0},{"$f":"+GETPIVOTDATA(\" BAS056\",TABLAS!$A$311)","v":0},{"$f":"+GETPIVOTDATA(\" BAS057\",TABLAS!$A$311)","v":0},null,null,null,null,null,null,null,null,null,null,null,null,55,56,57,null,"055","056","057",null,"=+IMPORTARDATOSDINAMICOS(\" BAS055\";TABLAS!$A$311)","=+IMPORTARDATOSDINAMICOS(\" BAS056\";TABLAS!$A$311)","=+IMPORTARDATOSDINAMICOS(\" BAS057\";TABLAS!$A$311)"]
[null,null,null,7,"Metales pesados (181)",{"$f":"+GETPIVOTDATA(\" BAS058\",TABLAS!$A$311)","v":0},{"$f":"+GETPIVOTDATA(\" BAS059\",TABLAS!$A$311)","v":0},{"$f":"+GETPIVOTDATA(\" BAS060\",TABLAS!$A$311)","v":0},null,null,null,null,null,null,null,null,null,null,null,null,58,59,60,null,"058","059","060",null,"=+IMPORTARDATOSDINAMICOS(\" BAS058\";TABLAS!$A$311)","=+IMPORTARDATOSDINAMICOS(\" BAS059\";TABLAS!$A$311)","=+IMPORTARDATOSDINAMICOS(\" BAS060\";TABLAS!$A$311)"]
[]
[null,null,null,null,"INCIDENCIA"]
[null,null,null,null,1,2]
[null,null,null,null,"Reuniones","Participantes"]
[null,null,null,1,{"$f":"+GETPIVOTDATA(\" BAS061\",TABLAS!$A$311)","v":11},{"$f":"+GETPIVOTDATA(\" BAS062\",TABLAS!$A$311)","v":16},null,null,null,null,null,null,null,null,null,null,null,null,null,null,{"$f":"+W107+1","v":61},{"$f":"+U112+1","v":62},null,null,{"$f":"IF(LEN(U112)=1,CONCATENATE(\"00\",U112),IF(LEN(U112)=2,CONCATENATE(\"0\",U112),U112))","v":"061"},"062",null,null,{"$f":"$AD$20&Y112&$AE$19","v":"=+IMPORTARDATOSDINAMICOS(\" BAS061\";TABLAS!$A$311)"},"=+IMPORTARDATOSDINAMICOS(\" BAS062\";TABLAS!$A$311)"]
[]
[null,null,null,null,"ACOMPAÑAMIENTO - MONITOREO"]
[]
[null,null,null,null,1,2]
[null,null,null,null,"Reuniones","Participantes"]
[null,null,null,1,{"$f":"+GETPIVOTDATA(\" BAS063\",TABLAS!$A$311)","v":0},{"$f":"+GETPIVOTDATA(\" BAS064\",TABLAS!$A$311)","v":0},null,null,null,null,null,null,null,null,null,null,null,null,null,null,{"$f":"+V112+1","v":63},{"$f":"+U118+1","v":64},null,null,{"$f":"IF(LEN(U118)=1,CONCATENATE(\"00\",U118),IF(LEN(U118)=2,CONCATENATE(\"0\",U118),U118))","v":"063"},"064",null,null,{"$f":"$AD$20&Y118&$AE$19","v":"=+IMPORTARDATOSDINAMICOS(\" BAS063\";TABLAS!$A$311)"},"=+IMPORTARDATOSDINAMICOS(\" BAS064\";TABLAS!$A$311)"]
[]
[null,null,null,null,"EVALUACIÓN DE ESCUELAS PROMOTORAS DE SALUD"]
[]
[null,null,null,null,null,null,1,2,3]
[null,null,null,null,"Tématica",null,"Nivel Inicial ","Nivel Primaria","Nivel Secundaria"]
[null,null,null,1,"IA: Cuando no califica como Escuela Promotora de Salud",null,{"$f":"+GETPIVOTDATA(\" BAS065\",TABLAS!$A$311)","v":0},{"$f":"+GETPIVOTDATA(\" BAS066\",TABLAS!$A$311)","v":0},{"$f":"+GETPIVOTDATA(\" BAS067\",TABLAS!$A$311)","v":0},null,null,null,null,null,null,null,null,null,null,null,{"$f":"+V118+1","v":65},{"$f":"+U124+1","v":66},67,null,{"$f":"IF(LEN(U124)=1,CONCATENATE(\"00\",U124),IF(LEN(U124)=2,CONCATENATE(\"0\",U124),U124))","v":"065"},"066","067",null,{"$f":"$AD$20&Y124&$AE$19","v":"=+IMPORTARDATOSDINAMICOS(\" BAS065\";TABLAS!$A$311)"},"=+IMPORTARDATOSDINAMICOS(\" BAS066\";TABLAS!$A$311)","=+IMPORTARDATOSDINAMICOS(\" BAS067\";TABLAS!$A$311)"]
[null,null,null,2,"CA: Cuando está en Proceso",null,{"$f":"+GETPIVOTDATA(\" BAS068\",TABLAS!$A$311)","v":0},{"$f":"+GETPIVOTDATA(\" BAS069\",TABLAS!$A$311)","v":0},{"$f":"+GETPIVOTDATA(\" BAS070\",TABLAS!$A$311)","v":0},null,null,null,null,null,null,null,null,null,null,null,{"$f":"+W124+1","v":68},69,70,null,"068","069","070",null,"=+IMPORTARDATOSDINAMICOS(\" BAS068\";TABLAS!$A$311)","=+IMPORTARDATOSDINAMICOS(\" BAS069\";TABLAS!$A$311)","=+IMPORTARDATOSDINAMICOS(\" BAS070\";TABLAS!$A$311)"]
[null,null,null,3,"LP: Cuando califica como Escuela Promotora de Salud",null,{"$f":"+GETPIVOTDATA(\" BAS071\",TABLAS!$A$311)","v":0},{"$f":"+GETPIVOTDATA(\" BAS072\",TABLAS!$A$311)","v":0},{"$f":"+GETPIVOTDATA(\" BAS073\",TABLAS!$A$311)","v":0},null,null,null,null,null,null,null,null,null,null,null,{"$f":"+W125+1","v":71},72,73,null,"071","072","073",null,"=+IMPORTARDATOSDINAMICOS(\" BAS071\";TABLAS!$A$311)","=+IMPORTARDATOSDINAMICOS(\" BAS072\";TABLAS!$A$311)","=+IMPORTARDATOSDINAMICOS(\" BAS073\";TABLAS!$A$311)"]
[]
[]
[null,null,null,"4. LIDERES COMUNITARIOS CAPACITADOS REALIZAN VIGILANCIA CIUDADANA PARA LA REDUCCION DE LA CONTAMINACIÓN POR METALES PESADOS, SUSTANCIAS QUÍMICAS E HIDROCARBUROS"]
[]
[null,null,null,null,"FASE 1: REUNIÓN DE INCIDENCIA"]
[null,null,null,null,1,2]
[null,null,null,null,"Reuniones","Participantes"]
[null,null,null,21,{"$f":"+GETPIVOTDATA(\" BAS074\",TABLAS!$A$311)","v":15},{"$f":"+GETPIVOTDATA(\" BAS075\",TABLAS!$A$311)","v":89},null,null,null,null,null,null,null,null,null,null,null,null,null,null,{"$f":"+W126+1","v":74},{"$f":"+U134+1","v":75},null,null,{"$f":"IF(LEN(U134)=1,CONCATENATE(\"00\",U134),IF(LEN(U134)=2,CONCATENATE(\"0\",U134),U134))","v":"074"},"075",null,null,{"$f":"$AD$20&Y134&$AE$19","v":"=+IMPORTARDATOSDINAMICOS(\" BAS074\";TABLAS!$A$311)"},"=+IMPORTARDATOSDINAMICOS(\" BAS075\";TABLAS!$A$311)"]
[]
[null,null,null,null,"SESIONES EDUCATIVAS Y DEMOSTRATIVAS"]
[null,null,null,null,1,1,2]
[null,null,null,null,"Nº de sesiones educativas/demostrativas","Nº","Participantes"]
[null,null,null,22,"1º Sesión",{"$f":"+GETPIVOTDATA(\" BAS076\",TABLAS!$A$311)","v":2},{"$f":"+GETPIVOTDATA(\" BAS077\",TABLAS!$A$311)","v":39},null,null,null,null,null,null,null,null,null,null,null,null,null,{"$f":"+V134+1","v":76},{"$f":"+U139+1","v":77},null,null,{"$f":"IF(LEN(U139)=1,CONCATENATE(\"00\",U139),IF(LEN(U139)=2,CONCATENATE(\"0\",U139),U139))","v":"076"},"077",null,null,{"$f":"$AD$20&Y139&$AE$19","v":"=+IMPORTARDATOSDINAMICOS(\" BAS076\";TABLAS!$A$311)"},"=+IMPORTARDATOSDINAMICOS(\" BAS077\";TABLAS!$A$311)"]
[null,null,null,23,"2º Sesión",{"$f":"+GETPIVOTDATA(\" BAS078\",TABLAS!$A$311)","v":0},{"$f":"+GETPIVOTDATA(\" BAS079\",TABLAS!$A$311)","v":0},null,null,null,null,null,null,null,null,null,null,null,null,null,{"$f":"+V139+1","v":78},79,null,null,"078","079",null,null,"=+IMPORTARDATOSDINAMICOS(\" BAS078\";TABLAS!$A$311)","=+IMPORTARDATOSDINAMICOS(\" BAS079\";TABLAS!$A$311)"]
[]
[null,null,null,null,"REUNIONES DE ACOMPAÑAMIENTO - MONITOREO"]
[null,null,null,null,1,1,2]
[null,null,null,null,"Nº Monitoreo","Nº","Nº organizaciones "]
[null,null,null,24,"1º Monitoreo",{"$f":"+GETPIVOTDATA(\" BAS080\",TABLAS!$A$311)","v":1},{"$f":"+GETPIVOTDATA(\" BAS081\",TABLAS!$A$311)","v":1},null,null,null,null,null,null,null,null,null,null,null,null,null,{"$f":"+V140+1","v":80},{"$f":"+U145+1","v":81},null,null,{"$f":"IF(LEN(U145)=1,CONCATENATE(\"00\",U145),IF(LEN(U145)=2,CONCATENATE(\"0\",U145),U145))","v":"080"},"081",null,null,{"$f":"$AD$20&Y145&$AE$19","v":"=+IMPORTARDATOSDINAMICOS(\" BAS080\";TABLAS!$A$311)"},"=+IMPORTARDATOSDINAMICOS(\" BAS081\";TABLAS!$A$311)"]
[null,null,null,25,"2º Monitoreo",{"$f":"+GETPIVOTDATA(\" BAS082\",TABLAS!$A$311)","v":0},{"$f":"+GETPIVOTDATA(\" BAS083\",TABLAS!$A$311)","v":0},null,null,null,null,null,null,null,null,null,null,null,null,null,{"$f":"+V145+1","v":82},83,null,null,"082","083",null,null,"=+IMPORTARDATOSDINAMICOS(\" BAS082\";TABLAS!$A$311)","=+IMPORTARDATOSDINAMICOS(\" BAS083\";TABLAS!$A$311)"]
[]
[null,null,null,null,"REUNIÓN DE EVALUACIÓN","NUEVO REGISTRO"]
[null,null,null,null,1,2]
[null,null,null,null,"Reuniones","Participantes"]
[null,null,null,26,{"$f":"+GETPIVOTDATA(\" BAS084\",TABLAS!$A$311)","v":0},{"$f":"+GETPIVOTDATA(\" BAS085\",TABLAS!$A$311)","v":0},null,null,null,null,null,null,null,null,null,null,null,null,null,null,{"$f":"+V146+1","v":84},{"$f":"+U151+1","v":85},null,null,{"$f":"IF(LEN(U151)=1,CONCATENATE(\"00\",U151),IF(LEN(U151)=2,CONCATENATE(\"0\",U151),U151))","v":"084"},"085",null,null,{"$f":"$AD$20&Y151&$AE$19","v":"=+IMPORTARDATOSDINAMICOS(\" BAS084\";TABLAS!$A$311)"},"=+IMPORTARDATOSDINAMICOS(\" BAS085\";TABLAS!$A$311)"]
[]
[null,null,null,"TRAZADORES"]
[null,null,null,"1. FAMILIAS QUE RECIBEN SESIONES EDUCATIVAS Y DEMOSTRATIVAS EN PRÁCTICAS SALUDABLES FRENTE A LAS ENFERMEDADES NO TRASMISIBLES"]
[null,null,null,"CONTAR DNI /(DX1=C0009+LAB1=ALI + LAB2=AFI + LAB3=SBU)+ (DX2=C0010+ LAB1=18)"]
[]
[null,null,null,null,"Trazador",{"$f":"+GETPIVOTDATA(\" BAS086\",TABLAS!$A$311)","v":595}]
[]
[null,null,null,"2. FUNCIONARIOS MUNICIPALES SENSIBILIZADOS PARA LA GENERACION DE ENTORNOS SALUDABLES FRENTE A LAS ENFERMEDADES NO TRASMISIBLES\""]
[null,null,null,"SUMAR LAB1 DE APP104/ (DX1= C7003+ LAB1=7+ LAB2=18+LAB3=\"BLANCO\")"]
[]
[null,null,null,null,"Trazador",{"$f":"+GETPIVOTDATA(\" BAS087\",TABLAS!$A$311)","v":0}]
[]
[null,null,null,"3. DOCENTES COMPROMETIDOS QUE DESARROLLAN ACCIONES PARA LA PROMOCIÓN DE LA ALIMENTACIÓN SALUDABLE, ACTIVIDAD FÍSICA, SALUD OCULAR Y SALUD BUCAL"]
[null,null,null,"CONTAR DNI /(DX1=C0005+LAB1=IN+LAB2=18+LAB3=ALI)"]
[]
[null,null,null,null,"Trazador"]
[null,null,null,null,"ALI",{"$f":"+GETPIVOTDATA(\" BAS088\",TABLAS!$A$311)","v":3}]
[null,null,null,null,"AFI",{"$f":"+GETPIVOTDATA(\" BAS089\",TABLAS!$A$311)","v":0}]
[null,null,null,null,"SBU",{"$f":"+GETPIVOTDATA(\" BAS090\",TABLAS!$A$311)","v":0}]
[null,null,null,null,"TOTAL",{"$f":"SUM(F168:F170)","v":3}]
[]
[null,null,null,"4. LIDERES COMUNITARIOS CAPACITADOS REALIZAN VIGILANCIA CIUDADANA PARA LA REDUCCION DE LA CONTAMINACIÓN POR METALES PESADOS, SUSTANCIAS QUÍMICAS E HIDROCARBUROS\""]
[null,null,null,"SUMAR LAB1 DE APP108/ (DX1= C0009+ LAB1+ LAB2=2+LAB3=FSE)+ (DX2=C0010+LAB1=181)"]
[]
[null,null,null,null,"Trazador",{"$f":"+GETPIVOTDATA(\" BAS091\",TABLAS!$A$311)","v":0}]

{"sheet":"PP024","index":8,"n_rows":111,"n_cols":31,"rows_kept":111,"cut":false,"hidden":false,"merged":[[14,5,14,6],[12,5,12,6],[8,5,8,7],[52,3,52,4],[17,2,17,9],[20,3,20,4],[21,3,21,4],[22,3,22,4],[23,3,23,4],[24,3,24,4],[27,2,27,9],[39,3,39,4],[39,5,39,6],[51,3,51,4],[54,3,54,4],[55,3,55,4],[57,2,57,9],[68,5,68,6],[68,7,68,8],[4,1,4,9],[89,3,89,4],[89,5,89,6],[79,7,79,8],[80,3,80,4],[81,3,81,4],[82,3,82,4],[83,3,83,4],[84,3,84,4],[79,5,79,6],[69,3,69,4],[70,3,70,4],[71,3,71,4],[72,3,72,4],[73,3,73,4],[53,3,53,4]]}
[]
[]
[]
[]
[null,"REPORTE MENSUAL DE ACTIVIDADES - PROMOCIÓN DE LA SALUD"]
[]
[]
[null,null,null,"DIRESA/DISA/GERESA ",null,"EJECUTORA",null,null,null,"MES"]
[null,null,null,"CUSCO",null,{"$f":"+TABLAS!O14","v":""},null,null,null,{"$f":"+TABLAS!N26","v":"ENE - MAR"}]
[null,null,null,"RED "]
[null,null,null,{"$f":"+TABLAS!O9","v":"03 - LA CONVENCION"},null,null,null,null,null,"AÑO "]
[null,null,null,"MICRO RED",null,"PROVINCIA",null,null,null,{"$f":"+TABLAS!J16","v":"2025"}]
[null,null,null,{"$f":"+TABLAS!O10","v":""},null,{"$f":"+TABLAS!O12","v":""},null,null,null,{"$f":"+TABLAS!O20","v":0}]
[null,null,null,"IPRESS",null,"DISTRITO"]
[null,null,null,{"$f":"+TABLAS!O11","v":""},null,{"$f":"+TABLAS!O13","v":""},null,null,null,{"$f":"IF(J13=1,MID(C16,1,9)&\"_\"&MID(C16,13,20)&\"_\"&MID(J9,1,3)&\"_\"&J12,MID(C16,1,9)&\"_\"&MID(C16,13,20)&\"_\"&MID(J9,1,3)&\"_\"&MID(J9,7,3)&\"_\"&J12)","v":"__ENE_MAR_2025"}]
[]
[]
["\nPROGRAMA PRESUPUESTAL 024","ACTIVIDAD CAPACITACIÓN A ACTORES SOCIALES","1. FAMILIAS SENSIBILIZADAS PARA LA PROMOCIÓN DE\nPRÁCTICAS Y ENTORNOS SALUDABLES"]
[null,null,null,"Sesiones educativas a familias",null,null,null,null,null,null,null,null,null,null,null,null,null,null,null,null,null,null,null,null,null,null,null,null,null,"\";TABLAS!$A$341)"]
[null,null,null,null,null,1,null,null,null,null,null,null,null,null,null,null,null,null,null,null,null,null,null,null,null,null,null,null,"=+IMPORTARDATOSDINAMICOS(\" BAS"]
[null,null,null,"Tématica",null,"Nº registros"]
[null,null,1,"Evitar consumo y exposición al humo de tabaco (TA)",null,{"$f":"+GETPIVOTDATA(\" BAS001\",TABLAS!$A$341)","v":2530},null,null,null,null,null,null,null,null,1,null,null,null,null,null,null,{"$f":"IF(LEN(O22)=1,CONCATENATE(\"00\",O22),IF(LEN(O22)=2,CONCATENATE(\"0\",O22),O22))","v":"001"},null,null,null,null,null,{"$f":"$AC$20&V22&$AD$19","v":"=+IMPORTARDATOSDINAMICOS(\" BAS001\";TABLAS!$A$341)"}]
[null,null,2,"Reducción del consumo de alcohol (AD)",null,{"$f":"+GETPIVOTDATA(\" BAS002\",TABLAS!$A$341)","v":2283},null,null,null,null,null,null,null,null,{"$f":"+O22+1","v":2},null,null,null,null,null,null,{"$f":"IF(LEN(O23)=1,CONCATENATE(\"00\",O23),IF(LEN(O23)=2,CONCATENATE(\"0\",O23),O23))","v":"002"},null,null,null,null,null,{"$f":"$AC$20&V23&$AD$19","v":"=+IMPORTARDATOSDINAMICOS(\" BAS002\";TABLAS!$A$341)"}]
[null,null,3,"Promoción de la higiene y cuidado del ambiente\n(HA)",null,{"$f":"+GETPIVOTDATA(\" BAS003\",TABLAS!$A$341)","v":1166},null,null,null,null,null,null,null,null,{"$f":"+O23+1","v":3},null,null,null,null,null,null,"003",null,null,null,null,null,"=+IMPORTARDATOSDINAMICOS(\" BAS003\";TABLAS!$A$341)"]
[null,null,4,"Salud sexual y reproductiva (SSI)",null,{"$f":"+GETPIVOTDATA(\" BAS004\",TABLAS!$A$341)","v":788},null,null,null,null,null,null,null,null,4,null,null,null,null,null,null,"004",null,null,null,null,null,"=+IMPORTARDATOSDINAMICOS(\" BAS004\";TABLAS!$A$341)"]
[]
[]
[null,null,"2. FUNCIONARIOS MUNICIPALES SENSIBILIZADOS PARA LA PROMOCIÓN DE PRÁCTICAS Y ENTORNOS SALUDABLES PARA LA PREVENCIÓN DEL CÁNCER"]
[]
[null,null,null,"Reunión de sensibilización",null,"NUEVO REGISTRO"]
[]
[null,null,null,1,2]
[null,null,null,"Reuniones","Participantes"]
[null,null,6,{"$f":"+GETPIVOTDATA(\" BAS005\",TABLAS!$A$341)","v":6},{"$f":"+GETPIVOTDATA(\" BAS006\",TABLAS!$A$341)","v":62},null,null,null,null,null,null,null,null,null,{"$f":"+O25+1","v":5},{"$f":"+O34+1","v":6},null,null,null,null,null,{"$f":"IF(LEN(O34)=1,CONCATENATE(\"00\",O34),IF(LEN(O34)=2,CONCATENATE(\"0\",O34),O34))","v":"005"},"006",null,null,null,null,{"$f":"$AC$20&V34&$AD$19","v":"=+IMPORTARDATOSDINAMICOS(\" BAS005\";TABLAS!$A$341)"},"=+IMPORTARDATOSDINAMICOS(\" BAS006\";TABLAS!$A$341)"]
[]
[]
[null,null,null,"Asistencia técnica"]
[]
[null,null,null,1,2,3,4]
[null,null,null,"Asistencia Tecnica 1",null,"Asistencia Tecnica 2"]
[null,null,null,"N°","Participantes","N°","Participantes"]
[null,null,7,{"$f":"+GETPIVOTDATA(\" BAS007\",TABLAS!$A$341)","v":1},{"$f":"+GETPIVOTDATA(\" BAS008\",TABLAS!$A$341)","v":7},{"$f":"+GETPIVOTDATA(\" BAS009\",TABLAS!$A$341)","v":0},{"$f":"+GETPIVOTDATA(\" BAS010\",TABLAS!$A$341)","v":0},null,null,null,null,null,null,null,{"$f":"+P34+1","v":7},{"$f":"+O42+1","v":8},{"$f":"+P42+1","v":9},10,null,null,null,{"$f":"IF(LEN(O42)=1,CONCATENATE(\"00\",O42),IF(LEN(O42)=2,CONCATENATE(\"0\",O42),O42))","v":"007"},"008","009","010",null,null,{"$f":"$AC$20&V42&$AD$19","v":"=+IMPORTARDATOSDINAMICOS(\" BAS007\";TABLAS!$A$341)"},"=+IMPORTARDATOSDINAMICOS(\" BAS008\";TABLAS!$A$341)","=+IMPORTARDATOSDINAMICOS(\" BAS009\";TABLAS!$A$341)","=+IMPORTARDATOSDINAMICOS(\" BAS010\";TABLAS!$A$341)"]
[]
[null,null,null,"Reunión de monitoreo"]
[]
[null,null,null,1,2]
[null,null,null,"1º  Monitoreo ","2º  Monitoreo"]
[null,null,8,{"$f":"+GETPIVOTDATA(\" BAS011\",TABLAS!$A$341)","v":1},{"$f":"+GETPIVOTDATA(\" BAS012\",TABLAS!$A$341)","v":0},null,null,null,null,null,null,null,null,null,{"$f":"+R42+1","v":11},{"$f":"+O48+1","v":12},null,null,null,null,null,{"$f":"IF(LEN(O48)=1,CONCATENATE(\"00\",O48),IF(LEN(O48)=2,CONCATENATE(\"0\",O48),O48))","v":"011"},"012",null,null,null,null,{"$f":"$AC$20&V48&$AD$19","v":"=+IMPORTARDATOSDINAMICOS(\" BAS011\";TABLAS!$A$341)"},"=+IMPORTARDATOSDINAMICOS(\" BAS012\";TABLAS!$A$341)"]
[]
[null,null,null,"Sesión educativa en comunidad",null,"NUEVO REGISTRO"]
[null,null,null,null,null,1]
[null,null,null,"Tématica",null,"Nº registros"]
[null,null,9,"Evitar consumo y exposición al humo de tabaco (TA)",null,{"$f":"+GETPIVOTDATA(\" BAS013\",TABLAS!$A$341)","v":15},null,null,null,null,null,null,null,null,{"$f":"+P48+1","v":13},null,null,null,null,null,null,{"$f":"IF(LEN(O53)=1,CONCATENATE(\"00\",O53),IF(LEN(O53)=2,CONCATENATE(\"0\",O53),O53))","v":"013"},null,null,null,null,null,{"$f":"$AC$20&V53&$AD$19","v":"=+IMPORTARDATOSDINAMICOS(\" BAS013\";TABLAS!$A$341)"}]
[null,null,10,"Reducción del consumo de alcohol (AD)",null,{"$f":"+GETPIVOTDATA(\" BAS014\",TABLAS!$A$341)","v":5},null,null,null,null,null,null,null,null,{"$f":"+O53+1","v":14},null,null,null,null,null,null,"014",null,null,null,null,null,"=+IMPORTARDATOSDINAMICOS(\" BAS014\";TABLAS!$A$341)"]
[null,null,11,"Promoción de la higiene y cuidado del ambiente\n(HA)",null,{"$f":"+GETPIVOTDATA(\" BAS015\",TABLAS!$A$341)","v":0},null,null,null,null,null,null,null,null,{"$f":"+O54+1","v":15},null,null,null,null,null,null,"015",null,null,null,null,null,"=+IMPORTARDATOSDINAMICOS(\" BAS015\";TABLAS!$A$341)"]
[null,null,12,"Salud sexual y reproductiva (SSI)",null,{"$f":"+GETPIVOTDATA(\" BAS016\",TABLAS!$A$341)","v":2},null,null,null,null,null,null,null,null,16,null,null,null,null,null,null,"016",null,null,null,null,null,"=+IMPORTARDATOSDINAMICOS(\" BAS016\";TABLAS!$A$341)"]
[]
[null,null,"3. DOCENTES CAPACITADOS PARA LA PROMOCIÓN DE PRÁCTICAS Y ENTORNOS SALUDABLES PARA LA PREVENCIÓN DEL CÁNCER"]
[]
[null,null,null,"Reunión de coordinación"]
[null,null,null,null,1,2]
[null,null,null,null,"NIVEL PRIMARIO","NIVEL SECUNDARIA"]
[null,null,13,"Nº REUNIÓN","Reunion","Reunion"]
[null,null,14,"1º Reunión",{"$f":"+GETPIVOTDATA(\" BAS017\",TABLAS!$A$341)","v":5},{"$f":"+GETPIVOTDATA(\" BAS018\",TABLAS!$A$341)","v":5},null,null,null,null,null,null,null,null,{"$f":"+O56+1","v":17},{"$f":"+O64+1","v":18},null,null,null,null,null,{"$f":"IF(LEN(O64)=1,CONCATENATE(\"00\",O64),IF(LEN(O64)=2,CONCATENATE(\"0\",O64),O64))","v":"017"},"018",null,null,null,null,{"$f":"$AC$20&V64&$AD$19","v":"=+IMPORTARDATOSDINAMICOS(\" BAS017\";TABLAS!$A$341)"},"=+IMPORTARDATOSDINAMICOS(\" BAS018\";TABLAS!$A$341)"]
[null,null,15,"2º Reunión",{"$f":"+GETPIVOTDATA(\" BAS019\",TABLAS!$A$341)","v":4},{"$f":"+GETPIVOTDATA(\" BAS020\",TABLAS!$A$341)","v":1},null,null,null,null,null,null,null,null,{"$f":"+P64+1","v":19},{"$f":"+O65+1","v":20},null,null,null,null,null,"019","020",null,null,null,null,"=+IMPORTARDATOSDINAMICOS(\" BAS019\";TABLAS!$A$341)","=+IMPORTARDATOSDINAMICOS(\" BAS020\";TABLAS!$A$341)"]
[]
[null,null,null,"Taller de capacitación a docentes"]
[null,null,null,null,null,1,2,3,4]
[null,null,null,null,null,"NIVEL PRIMARIO",null,"NIVEL SECUNDARIA"]
[null,null,null,"Tématica",null,"Nº","Participantes","Nº","Participantes"]
[null,null,16,"Evitar consumo y exposición al humo de tabaco (TA)",null,{"$f":"+GETPIVOTDATA(\" BAS021\",TABLAS!$A$341)","v":1},{"$f":"+GETPIVOTDATA(\" BAS022\",TABLAS!$A$341)","v":9},{"$f":"+GETPIVOTDATA(\" BAS023\",TABLAS!$A$341)","v":1},{"$f":"+GETPIVOTDATA(\" BAS024\",TABLAS!$A$341)","v":1},null,null,null,null,null,{"$f":"+P65+1","v":21},{"$f":"+O71+1","v":22},{"$f":"+P71+1","v":23},{"$f":"+Q71+1","v":24},null,null,null,{"$f":"IF(LEN(O71)=1,CONCATENATE(\"00\",O71),IF(LEN(O71)=2,CONCATENATE(\"0\",O71),O71))","v":"021"},"022","023","024",null,null,{"$f":"$AC$20&V71&$AD$19","v":"=+IMPORTARDATOSDINAMICOS(\" BAS021\";TABLAS!$A$341)"},"=+IMPORTARDATOSDINAMICOS(\" BAS022\";TABLAS!$A$341)","=+IMPORTARDATOSDINAMICOS(\" BAS023\";TABLAS!$A$341)","=+IMPORTARDATOSDINAMICOS(\" BAS024\";TABLAS!$A$341)"]
[null,null,17,"Reducción del consumo de alcohol (AD)",null,{"$f":"+GETPIVOTDATA(\" BAS025\",TABLAS!$A$341)","v":1},{"$f":"+GETPIVOTDATA(\" BAS026\",TABLAS!$A$341)","v":9},{"$f":"+GETPIVOTDATA(\" BAS027\",TABLAS!$A$341)","v":0},{"$f":"+GETPIVOTDATA(\" BAS028\",TABLAS!$A$341)","v":0},null,null,null,null,null,{"$f":"+R71+1","v":25},{"$f":"+O72+1","v":26},27,28,null,null,null,"025","026","027","028",null,null,"=+IMPORTARDATOSDINAMICOS(\" BAS025\";TABLAS!$A$341)","=+IMPORTARDATOSDINAMICOS(\" BAS026\";TABLAS!$A$341)","=+IMPORTARDATOSDINAMICOS(\" BAS027\";TABLAS!$A$341)","=+IMPORTARDATOSDINAMICOS(\" BAS028\";TABLAS!$A$341)"]
[null,null,18,"Promoción de la higiene y cuidado del ambiente\n(HA)",null,{"$f":"+GETPIVOTDATA(\" BAS029\",TABLAS!$A$341)","v":1},{"$f":"+GETPIVOTDATA(\" BAS030\",TABLAS!$A$341)","v":9},{"$f":"+GETPIVOTDATA(\" BAS031\",TABLAS!$A$341)","v":0},{"$f":"+GETPIVOTDATA(\" BAS032\",TABLAS!$A$341)","v":0},null,null,null,null,null,{"$f":"+R72+1","v":29},30,31,32,null,null,null,"029","030","031","032",null,null,"=+IMPORTARDATOSDINAMICOS(\" BAS029\";TABLAS!$A$341)","=+IMPORTARDATOSDINAMICOS(\" BAS030\";TABLAS!$A$341)","=+IMPORTARDATOSDINAMICOS(\" BAS031\";TABLAS!$A$341)","=+IMPORTARDATOSDINAMICOS(\" BAS032\";TABLAS!$A$341)"]
[null,null,19,"Salud sexual y reproductiva (SSI)",null,{"$f":"+GETPIVOTDATA(\" BAS033\",TABLAS!$A$341)","v":1},{"$f":"+GETPIVOTDATA(\" BAS034\",TABLAS!$A$341)","v":9},{"$f":"+GETPIVOTDATA(\" BAS035\",TABLAS!$A$341)","v":0},{"$f":"+GETPIVOTDATA(\" BAS036\",TABLAS!$A$341)","v":0},null,null,null,null,null,33,34,35,36,null,null,null,"033","034","035","036",null,null,"=+IMPORTARDATOSDINAMICOS(\" BAS033\";TABLAS!$A$341)","=+IMPORTARDATOSDINAMICOS(\" BAS034\";TABLAS!$A$341)","=+IMPORTARDATOSDINAMICOS(\" BAS035\";TABLAS!$A$341)","=+IMPORTARDATOSDINAMICOS(\" BAS036\";TABLAS!$A$341)"]
[]
[]
[null,null,null,"Sesiones educativas a padres de familia"]
[]
[null,null,null,null,null,1,2,3,4]
[null,null,null,null,null,"NIVEL PRIMARIO",null,"NIVEL SECUNDARIA"]
[null,null,null,"Tématica",null,"Nº","Participantes","Nº","Participantes"]
[null,null,20,"Evitar consumo y exposición al humo de tabaco (TA)",null,{"$f":"+GETPIVOTDATA(\" BAS037\",TABLAS!$A$341)","v":2},{"$f":"+GETPIVOTDATA(\" BAS038\",TABLAS!$A$341)","v":60},{"$f":"+GETPIVOTDATA(\" BAS039\",TABLAS!$A$341)","v":0},{"$f":"+GETPIVOTDATA(\" BAS040\",TABLAS!$A$341)","v":0},null,null,null,null,null,{"$f":"+R74+1","v":37},{"$f":"+O82+1","v":38},{"$f":"+P82+1","v":39},{"$f":"+Q82+1","v":40},null,null,null,{"$f":"IF(LEN(O82)=1,CONCATENATE(\"00\",O82),IF(LEN(O82)=2,CONCATENATE(\"0\",O82),O82))","v":"037"},"038","039","040",null,null,{"$f":"$AC$20&V82&$AD$19","v":"=+IMPORTARDATOSDINAMICOS(\" BAS037\";TABLAS!$A$341)"},"=+IMPORTARDATOSDINAMICOS(\" BAS038\";TABLAS!$A$341)","=+IMPORTARDATOSDINAMICOS(\" BAS039\";TABLAS!$A$341)","=+IMPORTARDATOSDINAMICOS(\" BAS040\";TABLAS!$A$341)"]
[null,null,21,"Reducción del consumo de alcohol (AD)",null,{"$f":"+GETPIVOTDATA(\" BAS041\",TABLAS!$A$341)","v":0},{"$f":"+GETPIVOTDATA(\" BAS042\",TABLAS!$A$341)","v":0},{"$f":"+GETPIVOTDATA(\" BAS043\",TABLAS!$A$341)","v":0},{"$f":"+GETPIVOTDATA(\" BAS044\",TABLAS!$A$341)","v":0},null,null,null,null,null,{"$f":"+R82+1","v":41},{"$f":"+O83+1","v":42},43,44,null,null,null,"041","042","043","044",null,null,"=+IMPORTARDATOSDINAMICOS(\" BAS041\";TABLAS!$A$341)","=+IMPORTARDATOSDINAMICOS(\" BAS042\";TABLAS!$A$341)","=+IMPORTARDATOSDINAMICOS(\" BAS043\";TABLAS!$A$341)","=+IMPORTARDATOSDINAMICOS(\" BAS044\";TABLAS!$A$341)"]
[null,null,22,"Promoción de la higiene y cuidado del ambiente\n(HA)",null,{"$f":"+GETPIVOTDATA(\" BAS045\",TABLAS!$A$341)","v":0},{"$f":"+GETPIVOTDATA(\" BAS046\",TABLAS!$A$341)","v":0},{"$f":"+GETPIVOTDATA(\" BAS047\",TABLAS!$A$341)","v":0},{"$f":"+GETPIVOTDATA(\" BAS048\",TABLAS!$A$341)","v":0},null,null,null,null,null,{"$f":"+R83+1","v":45},46,47,48,null,null,null,"045","046","047","048",null,null,"=+IMPORTARDATOSDINAMICOS(\" BAS045\";TABLAS!$A$341)","=+IMPORTARDATOSDINAMICOS(\" BAS046\";TABLAS!$A$341)","=+IMPORTARDATOSDINAMICOS(\" BAS047\";TABLAS!$A$341)","=+IMPORTARDATOSDINAMICOS(\" BAS048\";TABLAS!$A$341)"]
[null,null,23,"Salud sexual y reproductiva (SSI)",null,{"$f":"+GETPIVOTDATA(\" BAS049\",TABLAS!$A$341)","v":0},{"$f":"+GETPIVOTDATA(\" BAS050\",TABLAS!$A$341)","v":0},{"$f":"+GETPIVOTDATA(\" BAS051\",TABLAS!$A$341)","v":0},{"$f":"+GETPIVOTDATA(\" BAS052\",TABLAS!$A$341)","v":0},null,null,null,null,null,49,50,51,52,null,null,null,"049","050","051","052",null,null,"=+IMPORTARDATOSDINAMICOS(\" BAS049\";TABLAS!$A$341)","=+IMPORTARDATOSDINAMICOS(\" BAS050\";TABLAS!$A$341)","=+IMPORTARDATOSDINAMICOS(\" BAS051\";TABLAS!$A$341)","=+IMPORTARDATOSDINAMICOS(\" BAS052\";TABLAS!$A$341)"]
[]
[null,null,null,"Monitoreo"]
[]
[null,null,null,1,2,3,4]
[null,null,null,"NIVEL PRIMARIO",null,"NIVEL SECUNDARIA"]
[null,null,null,"Nº","Participantes","Nº","Participantes"]
[null,null,24,{"$f":"+GETPIVOTDATA(\" BAS053\",TABLAS!$A$341)","v":0},{"$f":"+GETPIVOTDATA(\" BAS054\",TABLAS!$A$341)","v":0},{"$f":"+GETPIVOTDATA(\" BAS055\",TABLAS!$A$341)","v":0},{"$f":"+GETPIVOTDATA(\" BAS056\",TABLAS!$A$341)","v":0},null,null,null,null,null,null,null,{"$f":"+R85+1","v":53},{"$f":"+O92+1","v":54},{"$f":"+P92+1","v":55},{"$f":"+Q92+1","v":56},null,null,null,{"$f":"IF(LEN(O92)=1,CONCATENATE(\"00\",O92),IF(LEN(O92)=2,CONCATENATE(\"0\",O92),O92))","v":"053"},"054","055","056",null,null,{"$f":"$AC$20&V92&$AD$19","v":"=+IMPORTARDATOSDINAMICOS(\" BAS053\";TABLAS!$A$341)"},"=+IMPORTARDATOSDINAMICOS(\" BAS054\";TABLAS!$A$341)","=+IMPORTARDATOSDINAMICOS(\" BAS055\";TABLAS!$A$341)","=+IMPORTARDATOSDINAMICOS(\" BAS056\";TABLAS!$A$341)"]
[]
[]
[]
[null,null,null,"TRAZADORES"]
[null,null,null,"1. FAMILIAS SENSIBILIZADAS PARA LA PROMOCIÓN DE PRÁCTICAS Y ENTORNOS SALUDABLES"]
[null,null,null,"CONTAR DNI /(DX1=C9+LAB1=AD ó LAB2=AD ó LAB3=AD)+ (DX2=C2062+ LAB1=24+ LAB2=\"BLANCO\"+ LAB3=\"BLANCO\")"]
[]
[null,null,null,"Trazador",{"$f":"+GETPIVOTDATA(\" BAS057\",TABLAS!$A$341)","v":0}]
[]
[null,null,null,"2. FUNCIONARIOS MUNICIPALES SENSIBILIZADOS PARA LA PROMOCIÓN DE PRÁCTICAS Y ENTORNOS SALUDABLES PARA LA PREVENCIÓN DEL CÁNCER"]
[null,null,null,"SUMAR LAB1 DE APP96 /(DX1= C7004+LAB1+ LAB2=2+LAB3=24)) "]
[]
[null,null,null,"Trazador",{"$f":"+GETPIVOTDATA(\" BAS058\",TABLAS!$A$341)","v":0}]
[]
[null,null,null,"3. DOCENTES CAPACITADOS PARA LA PROMOCIÓN DE PRÁCTICAS Y ENTORNOS SALUDABLES PARA LA PREVENCIÓN DEL CÁNCER"]
[null,null,null,"SUMAR LAB1 DE APP144 /(DX1=C0005+LAB1+LAB2=TP+LAB3=AD)+ (DX2=C3101+LAB1=24 + LAB2=\"BLANCO\" + LAB3=\"BLANCO\") + "]
[null,null,null,"SUMAR LAB1 DE APP138 /(DX1=C5+LAB1+LAB2=TS+LAB3=AD)+ (DX2=C3095+LAB1=24 + LAB2=\"BLANCO\" + LAB3=\"BLANCO\")"]
[]
[null,null,null,"Trazador",{"$f":"+GETPIVOTDATA(\" BAS059\",TABLAS!$A$341)","v":9}]

{"sheet":"PP131","index":9,"n_rows":152,"n_cols":42,"rows_kept":152,"cut":false,"hidden":false,"merged":[[43,5,43,7],[43,8,43,10],[123,0,124,0],[123,1,124,1],[17,0,72,0],[23,4,23,7],[24,4,24,7],[25,4,25,7],[30,4,30,5],[31,4,31,5],[32,4,32,5],[37,4,37,5],[38,4,38,5],[39,4,39,5],[12,7,12,8],[14,7,14,8],[4,1,4,10],[11,4,11,5],[12,4,12,5],[13,4,13,5],[14,4,14,5],[10,4,10,5],[9,4,9,5],[8,4,8,5],[7,4,7,5],[8,7,8,8]]}
[]
[]
[]
[]
[null,"REPORTE MENSUAL DE ACTIVIDADES - PROMOCIÓN DE LA SALUD"]
[]
[]
[null,null,null,null,"DIRESA/DISA/GERESA ",null,null,"EJECUTORA",null,null,"MES"]
[null,null,null,null,"CUSCO",null,null,{"$f":"+TABLAS!O14","v":""},null,null,{"$f":"+TABLAS!N26","v":"ENE - MAR"}]
[null,null,null,null,"RED "]
[null,null,null,null,{"$f":"+TABLAS!O9","v":"03 - LA CONVENCION"},null,null,null,null,null,"AÑO "]
[null,null,null,null,"MICRO RED",null,null,"PROVINCIA",null,null,{"$f":"+TABLAS!J16","v":"2025"}]
[null,null,null,null,{"$f":"+TABLAS!O10","v":""},null,null,{"$f":"+TABLAS!O12","v":""},null,null,{"$f":"+TABLAS!O20","v":0}]
[null,null,null,null,"IPRESS",null,null,"DISTRITO"]
[null,null,null,null,{"$f":"+TABLAS!O11","v":""},null,null,{"$f":"+TABLAS!O13","v":""},null,null,{"$f":"IF(K13=1,MID(C16,1,9)&\"_\"&MID(C16,13,20)&\"_\"&MID(K9,1,3)&\"_\"&K12,MID(C16,1,9)&\"_\"&MID(C16,13,20)&\"_\"&MID(K9,1,3)&\"_\"&MID(K9,7,3)&\"_\"&K12)","v":"__ENE_MAR_2025"}]
[]
[]
[null,null,null,"1. MADRES, PADRES Y CUIDADORES/AS CON APOYO EN ESTRATEGIAS DE CRIANZA Y CONOCIMIENTOS SOBRE EL DESARROLLO INFANTIL"]
[]
[null,null,null,null,"Consejeria"]
[null,null,null,null,null,null,null,null,null,null,null,null,null,null,null,null,null,null,null,null,null,null,null,null,null,null,null,null,null,null,null,null,null,null,null,null,null,"\";TABLAS!$A$372)"]
[null,null,null,null,"Visita domiciliaria al Recién Nacido (dentro de los 7 días de nacido):",null,null,"NUEVO REGISTRO",null,null,null,null,null,null,null,null,null,null,null,null,null,null,null,null,null,null,null,null,null,null,null,null,null,null,null,null,"=+IMPORTARDATOSDINAMICOS(\" BAS"]
[null,null,null,null,null,1]
[null,null,null,null,"TIPOS DE ACTIVIDAD DE VD/ EDADES",null,null,null,"Oportuno\n>=1 dia y   <=7 dias"]
[null,null,null,1,"Consejería en pautas de crianza y buen trato a traves de visita familiar integral ",null,null,null,{"$f":"+GETPIVOTDATA(\" BAS001\",TABLAS!$A$372)","v":59},null,null,null,null,null,null,null,null,null,null,null,null,1,null,null,null,null,null,null,{"$f":"IF(LEN(V25)=1,CONCATENATE(\"00\",V25),IF(LEN(V25)=2,CONCATENATE(\"0\",V25),V25))","v":"001"},null,null,null,null,null,null,null,{"$f":"$AK$22&AC25&$AL$21","v":"=+IMPORTARDATOSDINAMICOS(\" BAS001\";TABLAS!$A$372)"}]
[null,null,null,2,"Consejería en pautas de crianza y buen trato a traves de teleorientación sincrona ",null,null,null,{"$f":"+GETPIVOTDATA(\" BAS002\",TABLAS!$A$372)","v":5},null,null,null,null,null,null,null,null,null,null,null,null,{"$f":"+V25+1","v":2},null,null,null,null,null,null,{"$f":"IF(LEN(V26)=1,CONCATENATE(\"00\",V26),IF(LEN(V26)=2,CONCATENATE(\"0\",V26),V26))","v":"002"},null,null,null,null,null,null,null,{"$f":"$AK$22&AC26&$AL$21","v":"=+IMPORTARDATOSDINAMICOS(\" BAS002\";TABLAS!$A$372)"}]
[]
[null,null,null,null,"Visita domiciliaria a Niñas (os) de 2 a 6 meses de edad:",null,null,"NUEVO REGISTRO"]
[]
[null,null,null,null,null,null,1,2,3,4,5]
[null,null,null,null,"TIPOS DE ACTIVIDAD DE VD/ EDADES",null,"2 meses ","3 meses ","4 meses ","5 meses ","6 meses "]
[null,null,null,1,"Consejería en pautas de crianza y buen trato a traves de visita familiar integral ",null,{"$f":"+GETPIVOTDATA(\" BAS003\",TABLAS!$A$372)","v":19},{"$f":"+GETPIVOTDATA(\" BAS004\",TABLAS!$A$372)","v":9},{"$f":"+GETPIVOTDATA(\" BAS005\",TABLAS!$A$372)","v":18},{"$f":"+GETPIVOTDATA(\" BAS006\",TABLAS!$A$372)","v":25},{"$f":"+GETPIVOTDATA(\" BAS007\",TABLAS!$A$372)","v":18},null,null,null,null,null,null,null,null,null,null,{"$f":"+V26+1","v":3},{"$f":"+V32+1","v":4},{"$f":"+W32+1","v":5},6,7,null,null,{"$f":"IF(LEN(V32)=1,CONCATENATE(\"00\",V32),IF(LEN(V32)=2,CONCATENATE(\"0\",V32),V32))","v":"003"},"004","005","006","007",null,null,null,{"$f":"$AK$22&AC32&$AL$21","v":"=+IMPORTARDATOSDINAMICOS(\" BAS003\";TABLAS!$A$372)"},"=+IMPORTARDATOSDINAMICOS(\" BAS004\";TABLAS!$A$372)","=+IMPORTARDATOSDINAMICOS(\" BAS005\";TABLAS!$A$372)","=+IMPORTARDATOSDINAMICOS(\" BAS006\";TABLAS!$A$372)","=+IMPORTARDATOSDINAMICOS(\" BAS007\";TABLAS!$A$372)"]
[null,null,null,2,"Consejería en pautas de crianza y buen trato a traves de teleorientación sincrona ",null,{"$f":"+GETPIVOTDATA(\" BAS008\",TABLAS!$A$372)","v":9},{"$f":"+GETPIVOTDATA(\" BAS009\",TABLAS!$A$372)","v":0},{"$f":"+GETPIVOTDATA(\" BAS010\",TABLAS!$A$372)","v":2},{"$f":"+GETPIVOTDATA(\" BAS011\",TABLAS!$A$372)","v":0},{"$f":"+GETPIVOTDATA(\" BAS012\",TABLAS!$A$372)","v":3},null,null,null,null,null,null,null,null,null,null,{"$f":"+Z32+1","v":8},{"$f":"+V33+1","v":9},10,11,12,null,null,"008","009","010","011","012",null,null,null,"=+IMPORTARDATOSDINAMICOS(\" BAS008\";TABLAS!$A$372)","=+IMPORTARDATOSDINAMICOS(\" BAS009\";TABLAS!$A$372)","=+IMPORTARDATOSDINAMICOS(\" BAS010\";TABLAS!$A$372)","=+IMPORTARDATOSDINAMICOS(\" BAS011\";TABLAS!$A$372)","=+IMPORTARDATOSDINAMICOS(\" BAS012\";TABLAS!$A$372)"]
[]
[null,null,null,null,"Visita domiciliaria a Niñas (os) de 7 a 11 meses de edad:",null,null,null,"NUEVO REGISTRO"]
[]
[null,null,null,null,null,null,1,2,3,4,5]
[null,null,null,null,"TIPOS DE ACTIVIDAD DE VD/ EDADES",null,"2 meses ","3 meses ","4 meses ","5 meses ","6 meses "]
[null,null,null,1,"Consejería en pautas de crianza y buen trato a traves de visita familiar integral ",null,{"$f":"+GETPIVOTDATA(\" BAS013\",TABLAS!$A$372)","v":102},{"$f":"+GETPIVOTDATA(\" BAS014\",TABLAS!$A$372)","v":112},{"$f":"+GETPIVOTDATA(\" BAS015\",TABLAS!$A$372)","v":109},{"$f":"+GETPIVOTDATA(\" BAS016\",TABLAS!$A$372)","v":90},{"$f":"+GETPIVOTDATA(\" BAS017\",TABLAS!$A$372)","v":75},null,null,null,null,null,null,null,null,null,null,{"$f":"+Z33+1","v":13},{"$f":"+V39+1","v":14},{"$f":"+W39+1","v":15},16,17,null,null,{"$f":"IF(LEN(V39)=1,CONCATENATE(\"00\",V39),IF(LEN(V39)=2,CONCATENATE(\"0\",V39),V39))","v":"013"},"014","015","016","017",null,null,null,{"$f":"$AK$22&AC39&$AL$21","v":"=+IMPORTARDATOSDINAMICOS(\" BAS013\";TABLAS!$A$372)"},"=+IMPORTARDATOSDINAMICOS(\" BAS014\";TABLAS!$A$372)","=+IMPORTARDATOSDINAMICOS(\" BAS015\";TABLAS!$A$372)","=+IMPORTARDATOSDINAMICOS(\" BAS016\";TABLAS!$A$372)","=+IMPORTARDATOSDINAMICOS(\" BAS017\";TABLAS!$A$372)"]
[null,null,null,2,"Consejería en pautas de crianza y buen trato a traves de teleorientación sincrona ",null,{"$f":"+GETPIVOTDATA(\" BAS018\",TABLAS!$A$372)","v":6},{"$f":"+GETPIVOTDATA(\" BAS019\",TABLAS!$A$372)","v":0},{"$f":"+GETPIVOTDATA(\" BAS020\",TABLAS!$A$372)","v":1},{"$f":"+GETPIVOTDATA(\" BAS021\",TABLAS!$A$372)","v":0},{"$f":"+GETPIVOTDATA(\" BAS022\",TABLAS!$A$372)","v":3},null,null,null,null,null,null,null,null,null,null,{"$f":"+Z39+1","v":18},{"$f":"+V40+1","v":19},20,21,22,null,null,"018","019","020","021","022",null,null,null,"=+IMPORTARDATOSDINAMICOS(\" BAS018\";TABLAS!$A$372)","=+IMPORTARDATOSDINAMICOS(\" BAS019\";TABLAS!$A$372)","=+IMPORTARDATOSDINAMICOS(\" BAS020\";TABLAS!$A$372)","=+IMPORTARDATOSDINAMICOS(\" BAS021\";TABLAS!$A$372)","=+IMPORTARDATOSDINAMICOS(\" BAS022\";TABLAS!$A$372)"]
[null,null,null,null,"Visita domiciliaria a Niñas (os) de 12 a 59 meses de edad:"]
[]
[null,null,null,null,null,1,2,3,4,5,6]
[null,null,null,null,null,"VISITA DOMICILIARIA ",null,null,"TELEORIENTACIÓN"]
[null,null,null,null,"EDAD","1º consejeria ","2º consejeria ","3º consejeria ","1º consejeria ","2º consejeria ","3º consejeria "]
[null,null,null,1,"1 AÑO",{"$f":"+GETPIVOTDATA(\" BAS023\",TABLAS!$A$372)","v":47},{"$f":"+GETPIVOTDATA(\" BAS024\",TABLAS!$A$372)","v":0},{"$f":"+GETPIVOTDATA(\" BAS025\",TABLAS!$A$372)","v":6},{"$f":"+GETPIVOTDATA(\" BAS026\",TABLAS!$A$372)","v":12},{"$f":"+GETPIVOTDATA(\" BAS027\",TABLAS!$A$372)","v":0},{"$f":"+GETPIVOTDATA(\" BAS028\",TABLAS!$A$372)","v":0},null,null,null,null,null,null,null,null,null,null,{"$f":"+Z40+1","v":23},{"$f":"+V46+1","v":24},{"$f":"+W46+1","v":25},26,27,28,null,{"$f":"IF(LEN(V46)=1,CONCATENATE(\"00\",V46),IF(LEN(V46)=2,CONCATENATE(\"0\",V46),V46))","v":"023"},"024","025","026","027","028",null,null,{"$f":"$AK$22&AC46&$AL$21","v":"=+IMPORTARDATOSDINAMICOS(\" BAS023\";TABLAS!$A$372)"},"=+IMPORTARDATOSDINAMICOS(\" BAS024\";TABLAS!$A$372)","=+IMPORTARDATOSDINAMICOS(\" BAS025\";TABLAS!$A$372)","=+IMPORTARDATOSDINAMICOS(\" BAS026\";TABLAS!$A$372)","=+IMPORTARDATOSDINAMICOS(\" BAS027\";TABLAS!$A$372)","=+IMPORTARDATOSDINAMICOS(\" BAS028\";TABLAS!$A$372)"]
[null,null,null,2,"2 AÑOS ",{"$f":"+GETPIVOTDATA(\" BAS029\",TABLAS!$A$372)","v":48},{"$f":"+GETPIVOTDATA(\" BAS030\",TABLAS!$A$372)","v":2},{"$f":"+GETPIVOTDATA(\" BAS031\",TABLAS!$A$372)","v":4},{"$f":"+GETPIVOTDATA(\" BAS032\",TABLAS!$A$372)","v":0},{"$f":"+GETPIVOTDATA(\" BAS033\",TABLAS!$A$372)","v":0},{"$f":"+GETPIVOTDATA(\" BAS034\",TABLAS!$A$372)","v":0},null,null,null,null,null,null,null,null,null,null,{"$f":"+AA46+1","v":29},{"$f":"+V47+1","v":30},31,32,33,34,null,"029","030","031","032","033","034",null,null,"=+IMPORTARDATOSDINAMICOS(\" BAS029\";TABLAS!$A$372)","=+IMPORTARDATOSDINAMICOS(\" BAS030\";TABLAS!$A$372)","=+IMPORTARDATOSDINAMICOS(\" BAS031\";TABLAS!$A$372)","=+IMPORTARDATOSDINAMICOS(\" BAS032\";TABLAS!$A$372)","=+IMPORTARDATOSDINAMICOS(\" BAS033\";TABLAS!$A$372)","=+IMPORTARDATOSDINAMICOS(\" BAS034\";TABLAS!$A$372)"]
[null,null,null,3,"3 AÑOS",{"$f":"+GETPIVOTDATA(\" BAS035\",TABLAS!$A$372)","v":35},{"$f":"+GETPIVOTDATA(\" BAS036\",TABLAS!$A$372)","v":0},{"$f":"+GETPIVOTDATA(\" BAS037\",TABLAS!$A$372)","v":4},{"$f":"+GETPIVOTDATA(\" BAS038\",TABLAS!$A$372)","v":1},{"$f":"+GETPIVOTDATA(\" BAS039\",TABLAS!$A$372)","v":0},{"$f":"+GETPIVOTDATA(\" BAS040\",TABLAS!$A$372)","v":0},null,null,null,null,null,null,null,null,null,null,{"$f":"+AA47+1","v":35},{"$f":"+V48+1","v":36},37,38,39,40,null,"035","036","037","038","039","040",null,null,"=+IMPORTARDATOSDINAMICOS(\" BAS035\";TABLAS!$A$372)","=+IMPORTARDATOSDINAMICOS(\" BAS036\";TABLAS!$A$372)","=+IMPORTARDATOSDINAMICOS(\" BAS037\";TABLAS!$A$372)","=+IMPORTARDATOSDINAMICOS(\" BAS038\";TABLAS!$A$372)","=+IMPORTARDATOSDINAMICOS(\" BAS039\";TABLAS!$A$372)","=+IMPORTARDATOSDINAMICOS(\" BAS040\";TABLAS!$A$372)"]
[null,null,null,4,"4 AÑOS",{"$f":"+GETPIVOTDATA(\" BAS041\",TABLAS!$A$372)","v":25},{"$f":"+GETPIVOTDATA(\" BAS042\",TABLAS!$A$372)","v":1},{"$f":"+GETPIVOTDATA(\" BAS043\",TABLAS!$A$372)","v":1},{"$f":"+GETPIVOTDATA(\" BAS044\",TABLAS!$A$372)","v":2},{"$f":"+GETPIVOTDATA(\" BAS045\",TABLAS!$A$372)","v":0},{"$f":"+GETPIVOTDATA(\" BAS046\",TABLAS!$A$372)","v":0},null,null,null,null,null,null,null,null,null,null,41,42,43,44,45,46,null,"041","042","043","044","045","046",null,null,"=+IMPORTARDATOSDINAMICOS(\" BAS041\";TABLAS!$A$372)","=+IMPORTARDATOSDINAMICOS(\" BAS042\";TABLAS!$A$372)","=+IMPORTARDATOSDINAMICOS(\" BAS043\";TABLAS!$A$372)","=+IMPORTARDATOSDINAMICOS(\" BAS044\";TABLAS!$A$372)","=+IMPORTARDATOSDINAMICOS(\" BAS045\";TABLAS!$A$372)","=+IMPORTARDATOSDINAMICOS(\" BAS046\";TABLAS!$A$372)"]
[]
[null,null,null,"2. PAREJAS CON CONSEJERÍA EN LA PROMOCIÓN DE UNA CONVIVENCIA SALUDABLE"]
[null,null,null,null,"Coordinación con organizaciones de la comunidad",null,null,null,"NUEVO REGISTRO"]
[]
[null,null,null,null,1,2]
[null,null,null,null,"1° reunión ","2° reunión"]
[null,null,null,1,{"$f":"+GETPIVOTDATA(\" BAS047\",TABLAS!$A$372)","v":6},{"$f":"+GETPIVOTDATA(\" BAS048\",TABLAS!$A$372)","v":0},null,null,null,null,null,null,null,null,null,null,null,null,null,null,null,{"$f":"+AA49+1","v":47},{"$f":"+V56+1","v":48},null,null,null,null,null,{"$f":"IF(LEN(V56)=1,CONCATENATE(\"00\",V56),IF(LEN(V56)=2,CONCATENATE(\"0\",V56),V56))","v":"047"},"048",null,null,null,null,null,null,{"$f":"$AK$22&AC56&$AL$21","v":"=+IMPORTARDATOSDINAMICOS(\" BAS047\";TABLAS!$A$372)"},"=+IMPORTARDATOSDINAMICOS(\" BAS048\";TABLAS!$A$372)"]
[]
[null,null,null,null,"Consejería en convivencia saludable en pareja/ registro individual",null,null,"NUEVO REGISTRO"]
[]
[null,null,null,null,1,2,3,4]
[null,null,null,null,"1° reunión ","2° reunión","3° reunión ","4° reunión"]
[null,null,null,1,{"$f":"+GETPIVOTDATA(\" BAS049\",TABLAS!$A$372)","v":112},{"$f":"+GETPIVOTDATA(\" BAS050\",TABLAS!$A$372)","v":30},{"$f":"+GETPIVOTDATA(\" BAS051\",TABLAS!$A$372)","v":16},{"$f":"+GETPIVOTDATA(\" BAS052\",TABLAS!$A$372)","v":1},null,null,null,null,null,null,null,null,null,null,null,null,null,{"$f":"+W56+1","v":49},{"$f":"+V62+1","v":50},{"$f":"+W62+1","v":51},52,53,null,null,{"$f":"IF(LEN(V62)=1,CONCATENATE(\"00\",V62),IF(LEN(V62)=2,CONCATENATE(\"0\",V62),V62))","v":"049"},"050","051","052","053",null,null,null,{"$f":"$AK$22&AC62&$AL$21","v":"=+IMPORTARDATOSDINAMICOS(\" BAS049\";TABLAS!$A$372)"},{"$f":"$AK$22&AD62&$AL$21","v":"=+IMPORTARDATOSDINAMICOS(\" BAS050\";TABLAS!$A$372)"},"=+IMPORTARDATOSDINAMICOS(\" BAS051\";TABLAS!$A$372)","=+IMPORTARDATOSDINAMICOS(\" BAS052\";TABLAS!$A$372)","=+IMPORTARDATOSDINAMICOS(\" BAS053\";TABLAS!$A$372)"]
[]
[null,null,null,null,"Consejería en convivencia saludable en pareja/ registro Grupal",null,null,"NUEVO REGISTRO"]
[null,null,null,null,null,1]
[null,null,null,null,"Consejeria","Nº ","Nº  de parejas participantes"]
[null,null,null,1,"1º Consejeria",{"$f":"+GETPIVOTDATA(\" BAS054\",TABLAS!$A$372)","v":18},{"$f":"+GETPIVOTDATA(\" BAS055\",TABLAS!$A$372)","v":5},null,null,null,null,null,null,null,null,null,null,null,null,null,null,{"$f":"+Z62+1","v":54},{"$f":"+V67+1","v":55},null,null,null,null,null,{"$f":"IF(LEN(V67)=1,CONCATENATE(\"00\",V67),IF(LEN(V67)=2,CONCATENATE(\"0\",V67),V67))","v":"054"},"055",null,null,null,null,null,null,{"$f":"$AK$22&AC67&$AL$21","v":"=+IMPORTARDATOSDINAMICOS(\" BAS054\";TABLAS!$A$372)"},"=+IMPORTARDATOSDINAMICOS(\" BAS055\";TABLAS!$A$372)"]
[null,null,null,2,"2º Consejeria",{"$f":"+GETPIVOTDATA(\" BAS056\",TABLAS!$A$372)","v":9},{"$f":"+GETPIVOTDATA(\" BAS057\",TABLAS!$A$372)","v":1},null,null,null,null,null,null,null,null,null,null,null,null,null,null,{"$f":"+W67+1","v":56},{"$f":"+V68+1","v":57},null,null,null,null,null,"056","057",null,null,null,null,null,null,"=+IMPORTARDATOSDINAMICOS(\" BAS056\";TABLAS!$A$372)","=+IMPORTARDATOSDINAMICOS(\" BAS057\";TABLAS!$A$372)"]
[null,null,null,3,"3º Consejeria",{"$f":"+GETPIVOTDATA(\" BAS058\",TABLAS!$A$372)","v":3},{"$f":"+GETPIVOTDATA(\" BAS059\",TABLAS!$A$372)","v":0},null,null,null,null,null,null,null,null,null,null,null,null,null,null,{"$f":"+W68+1","v":58},59,null,null,null,null,null,"058","059",null,null,null,null,null,null,"=+IMPORTARDATOSDINAMICOS(\" BAS058\";TABLAS!$A$372)","=+IMPORTARDATOSDINAMICOS(\" BAS059\";TABLAS!$A$372)"]
[null,null,null,4,"4º Consejeria",{"$f":"+GETPIVOTDATA(\" BAS060\",TABLAS!$A$372)","v":0},{"$f":"+GETPIVOTDATA(\" BAS061\",TABLAS!$A$372)","v":16},null,null,null,null,null,null,null,null,null,null,null,null,null,null,60,61,null,null,null,null,null,"060","061",null,null,null,null,null,null,"=+IMPORTARDATOSDINAMICOS(\" BAS060\";TABLAS!$A$372)","=+IMPORTARDATOSDINAMICOS(\" BAS061\";TABLAS!$A$372)"]
[]
[]
[null,null,null,"3. LÍDERES ADOLESCENTES PROMUEVEN LA SALUD MENTAL EN SU COMUNIDAD"]
[null,null,null,null,"Coordinación con institución educativa",null,null,"NUEVO REGISTRO"]
[null,null,null,null,null,1,2]
[null,null,null,null,"Reunión","Nº ","Participantes"]
[null,null,null,1,"Reunión de coordinación",{"$f":"+GETPIVOTDATA(\" BAS061\",TABLAS!$A$372)","v":16},{"$f":"+GETPIVOTDATA(\" BAS062\",TABLAS!$A$372)","v":16},null,null,null,null,null,null,null,null,null,null,null,null,null,null,{"$f":"+V70+1","v":61},{"$f":"+V77+1","v":62},null,null,null,null,null,{"$f":"IF(LEN(V77)=1,CONCATENATE(\"00\",V77),IF(LEN(V77)=2,CONCATENATE(\"0\",V77),V77))","v":"061"},"062",null,null,null,null,null,null,{"$f":"$AK$22&AC77&$AL$21","v":"=+IMPORTARDATOSDINAMICOS(\" BAS061\";TABLAS!$A$372)"},"=+IMPORTARDATOSDINAMICOS(\" BAS062\";TABLAS!$A$372)"]
[]
[null,null,null,null,"Reunión de inducción con docentes",null,null,"NUEVO REGISTRO"]
[null,null,null,null,null,1,2]
[null,null,null,null,"Reunión","Nº ","Participantes"]
[null,null,null,1,"1º Reunión",{"$f":"+GETPIVOTDATA(\" BAS063\",TABLAS!$A$372)","v":2},{"$f":"+GETPIVOTDATA(\" BAS064\",TABLAS!$A$372)","v":36},null,null,null,null,null,null,null,null,null,null,null,null,null,null,{"$f":"+W77+1","v":63},{"$f":"+V82+1","v":64},null,null,null,null,null,{"$f":"IF(LEN(V82)=1,CONCATENATE(\"00\",V82),IF(LEN(V82)=2,CONCATENATE(\"0\",V82),V82))","v":"063"},"064",null,null,null,null,null,null,{"$f":"$AK$22&AC82&$AL$21","v":"=+IMPORTARDATOSDINAMICOS(\" BAS063\";TABLAS!$A$372)"},"=+IMPORTARDATOSDINAMICOS(\" BAS064\";TABLAS!$A$372)"]
[null,null,null,2,"2º Reunión",{"$f":"+GETPIVOTDATA(\" BAS065\",TABLAS!$A$372)","v":0},{"$f":"+GETPIVOTDATA(\" BAS066\",TABLAS!$A$372)","v":0},null,null,null,null,null,null,null,null,null,null,null,null,null,null,{"$f":"+W82+1","v":65},66,null,null,null,null,null,"065","066",null,null,null,null,null,null,"=+IMPORTARDATOSDINAMICOS(\" BAS065\";TABLAS!$A$372)","=+IMPORTARDATOSDINAMICOS(\" BAS066\";TABLAS!$A$372)"]
[]
[null,null,null,null,"Taller de capacitación a adolescentes lideres"]
[null,null,null,null,1,2,"NUEVO REGISTRO"]
[null,null,null,null,"Sesión","Nº ","CUANDO SE DESARROLLA EN CDJ"]
[null,null,null,1,"1º Sesión",{"$f":"+GETPIVOTDATA(\" BAS067\",TABLAS!$A$372)","v":0},{"$f":"+GETPIVOTDATA(\" BAS068\",TABLAS!$A$372)","v":0},null,null,null,null,null,null,null,null,null,null,null,null,null,null,{"$f":"+W83+1","v":67},{"$f":"+V88+1","v":68},null,null,null,null,null,{"$f":"IF(LEN(V88)=1,CONCATENATE(\"00\",V88),IF(LEN(V88)=2,CONCATENATE(\"0\",V88),V88))","v":"067"},"068",null,null,null,null,null,null,{"$f":"$AK$22&AC88&$AL$21","v":"=+IMPORTARDATOSDINAMICOS(\" BAS067\";TABLAS!$A$372)"},"=+IMPORTARDATOSDINAMICOS(\" BAS068\";TABLAS!$A$372)"]
[null,null,null,2,"2º Sesión",{"$f":"+GETPIVOTDATA(\" BAS069\",TABLAS!$A$372)","v":0},{"$f":"+GETPIVOTDATA(\" BAS070\",TABLAS!$A$372)","v":0},null,null,null,null,null,null,null,null,null,null,null,null,null,null,{"$f":"+W88+1","v":69},70,null,null,null,null,null,"069","070",null,null,null,null,null,null,"=+IMPORTARDATOSDINAMICOS(\" BAS069\";TABLAS!$A$372)","=+IMPORTARDATOSDINAMICOS(\" BAS070\";TABLAS!$A$372)"]
[]
[null,null,null,null,"Reunión de Monitoreo",null,"NUEVO REGISTRO"]
[null,null,null,null,null,1,2]
[null,null,null,null,"Actividad","Nº ","Participantes"]
[null,null,null,1,"1° monitoreo ",{"$f":"+GETPIVOTDATA(\" BAS071\",TABLAS!$A$372)","v":0},{"$f":"+GETPIVOTDATA(\" BAS072\",TABLAS!$A$372)","v":0},null,null,null,null,null,null,null,null,null,null,null,null,null,null,{"$f":"+W89+1","v":71},{"$f":"+V94+1","v":72},null,null,null,null,null,{"$f":"IF(LEN(V94)=1,CONCATENATE(\"00\",V94),IF(LEN(V94)=2,CONCATENATE(\"0\",V94),V94))","v":"071"},"072",null,null,null,null,null,null,{"$f":"$AK$22&AC94&$AL$21","v":"=+IMPORTARDATOSDINAMICOS(\" BAS071\";TABLAS!$A$372)"},"=+IMPORTARDATOSDINAMICOS(\" BAS072\";TABLAS!$A$372)"]
[null,null,null,2,"2° monitoreo ",{"$f":"+GETPIVOTDATA(\" BAS073\",TABLAS!$A$372)","v":0},{"$f":"+GETPIVOTDATA(\" BAS074\",TABLAS!$A$372)","v":0},null,null,null,null,null,null,null,null,null,null,null,null,null,null,{"$f":"+W94+1","v":73},74,null,null,null,null,null,"073","074",null,null,null,null,null,null,"=+IMPORTARDATOSDINAMICOS(\" BAS073\";TABLAS!$A$372)","=+IMPORTARDATOSDINAMICOS(\" BAS074\";TABLAS!$A$372)"]
[null,null,null,3,"3° monitoreo ",{"$f":"+GETPIVOTDATA(\" BAS075\",TABLAS!$A$372)","v":0},{"$f":"+GETPIVOTDATA(\" BAS076\",TABLAS!$A$372)","v":0},null,null,null,null,null,null,null,null,null,null,null,null,null,null,{"$f":"+W95+1","v":75},76,null,null,null,null,null,"075","076",null,null,null,null,null,null,"=+IMPORTARDATOSDINAMICOS(\" BAS075\";TABLAS!$A$372)","=+IMPORTARDATOSDINAMICOS(\" BAS076\";TABLAS!$A$372)"]
[null,null,null,4,"4° monitoreo ",{"$f":"+GETPIVOTDATA(\" BAS077\",TABLAS!$A$372)","v":0},{"$f":"+GETPIVOTDATA(\" BAS078\",TABLAS!$A$372)","v":0},null,null,null,null,null,null,null,null,null,null,null,null,null,null,77,78,null,null,null,null,null,"077","078",null,null,null,null,null,null,"=+IMPORTARDATOSDINAMICOS(\" BAS077\";TABLAS!$A$372)","=+IMPORTARDATOSDINAMICOS(\" BAS078\";TABLAS!$A$372)"]
[]
[null,null,null,null,"Reunión de Evaluación:",null,"NUEVO REGISTRO"]
[null,null,null,null,null,1,2]
[null,null,null,null,"Actividad","Nº ","Participantes"]
[null,null,null,1,"1° Evaluación",{"$f":"+GETPIVOTDATA(\" BAS079\",TABLAS!$A$372)","v":0},{"$f":"+GETPIVOTDATA(\" BAS080\",TABLAS!$A$372)","v":0},null,null,null,null,null,null,null,null,null,null,null,null,null,null,{"$f":"+W97+1","v":79},{"$f":"+V102+1","v":80},null,null,null,null,null,{"$f":"IF(LEN(V102)=1,CONCATENATE(\"00\",V102),IF(LEN(V102)=2,CONCATENATE(\"0\",V102),V102))","v":"079"},"080",null,null,null,null,null,null,{"$f":"$AK$22&AC102&$AL$21","v":"=+IMPORTARDATOSDINAMICOS(\" BAS079\";TABLAS!$A$372)"},"=+IMPORTARDATOSDINAMICOS(\" BAS080\";TABLAS!$A$372)"]
[null,null,null,2,"2° Evaluación",{"$f":"+GETPIVOTDATA(\" BAS081\",TABLAS!$A$372)","v":0},{"$f":"+GETPIVOTDATA(\" BAS082\",TABLAS!$A$372)","v":0},null,null,null,null,null,null,null,null,null,null,null,null,null,null,{"$f":"+W102+1","v":81},82,null,null,null,null,null,"081","082",null,null,null,null,null,null,"=+IMPORTARDATOSDINAMICOS(\" BAS081\";TABLAS!$A$372)","=+IMPORTARDATOSDINAMICOS(\" BAS082\";TABLAS!$A$372)"]
[]
[]
[null,null,null,"4. AGENTES COMUNITARIOS DE SALUD REALIZAN VIGILANCIA CIUDADANA PARA REDUCIR LA VIOLENCIA FÍSICA CAUSADA POR LA PAREJA"]
[]
[null,null,null,null,"Reunión de Incidencia ante organizaciones comunitarias",null,null,null,"NUEVO REGISTRO"]
[null,null,null,null,1,2]
[null,null,null,null,"Nº ","Participantes"]
[null,null,null,1,{"$f":"+GETPIVOTDATA(\" BAS083\",TABLAS!$A$372)","v":18},{"$f":"+GETPIVOTDATA(\" BAS084\",TABLAS!$A$372)","v":81},null,null,null,null,null,null,null,null,null,null,null,null,null,null,null,{"$f":"+W103+1","v":83},{"$f":"+V111+1","v":84},null,null,null,null,null,{"$f":"IF(LEN(V111)=1,CONCATENATE(\"00\",V111),IF(LEN(V111)=2,CONCATENATE(\"0\",V111),V111))","v":"083"},"084",null,null,null,null,null,null,{"$f":"$AK$22&AC111&$AL$21","v":"=+IMPORTARDATOSDINAMICOS(\" BAS083\";TABLAS!$A$372)"},"=+IMPORTARDATOSDINAMICOS(\" BAS084\";TABLAS!$A$372)"]
[]
[null,null,null,null,"Taller de capacitación a miembros de organizaciones comunitarias",null,null,null,"NUEVO REGISTRO"]
[null,null,null,null,1,2]
[null,null,null,null,"Nº ","Participantes"]
[null,null,null,1,{"$f":"+GETPIVOTDATA(\" BAS085\",TABLAS!$A$372)","v":1},{"$f":"+GETPIVOTDATA(\" BAS086\",TABLAS!$A$372)","v":19},null,null,null,null,null,null,null,null,null,null,null,null,null,null,null,{"$f":"+W111+1","v":85},{"$f":"+V116+1","v":86},null,null,null,null,null,{"$f":"IF(LEN(V116)=1,CONCATENATE(\"00\",V116),IF(LEN(V116)=2,CONCATENATE(\"0\",V116),V116))","v":"085"},"086",null,null,null,null,null,null,{"$f":"$AK$22&AC116&$AL$21","v":"=+IMPORTARDATOSDINAMICOS(\" BAS085\";TABLAS!$A$372)"},"=+IMPORTARDATOSDINAMICOS(\" BAS086\";TABLAS!$A$372)"]
[]
[]
[null,null,null,null,"Monitoreo de la implementación de la vigilancia comunitaria"]
[null,null,null,null,1,2]
[null,null,null,null,"Nº ","Participantes"]
[null,null,null,1,{"$f":"+GETPIVOTDATA(\" BAS087\",TABLAS!$A$372)","v":1},{"$f":"+GETPIVOTDATA(\" BAS088\",TABLAS!$A$372)","v":17},null,null,null,null,null,null,null,null,null,null,null,null,null,null,null,{"$f":"+W116+1","v":87},{"$f":"+V122+1","v":88},null,null,null,null,null,{"$f":"IF(LEN(V122)=1,CONCATENATE(\"00\",V122),IF(LEN(V122)=2,CONCATENATE(\"0\",V122),V122))","v":"087"},"088",null,null,null,null,null,null,{"$f":"$AK$22&AC122&$AL$21","v":"=+IMPORTARDATOSDINAMICOS(\" BAS087\";TABLAS!$A$372)"},"=+IMPORTARDATOSDINAMICOS(\" BAS088\";TABLAS!$A$372)"]
[]
[]
[]
[null,null,null,null,"TRAZADORES"]
[null,null,null,null,"1. MADRES, PADRES Y CUIDADORES/AS CON APOYO EN ESTRATEGIAS DE CRIANZA Y CONOCIMIENTOS SOBRE EL DESARROLLO INFANTIL"]
[null,null,null,null,"CONTAR DNI  (EDAD >=12M y <24M)/ (DX1= 99401.25 + LAB=1) + (DX2=C0011) + "]
[null,null,null,null,"CONTAR DNI  (EDAD >=12M y <24M)/ (DX1= 99401.25 + LAB=1) + (DX2=99499.08) + "]
[null,null,null,null,"CONTAR DNI  (EDAD >=24M y <36M)/(DX1= 99401.25 + LAB=1) + (DX2=C0011) + "]
[null,null,null,null,"CONTAR DNI  (EDAD >=24M y <36M)/(DX1= 99401.25 + LAB=1) + (DX2=99499.08)  +  "]
[null,null,null,null,"CONTAR DNI  (EDAD >=36M y <48M)/ (DX1= 99401.25 + LAB=1) + (DX2=C0011) + "]
[null,null,null,null,"CONTAR DNI  (EDAD >=36M y <48M)/ (DX1= 99401.25 + LAB=1) + (DX2=99499.08) + "]
[null,null,null,null,"CONTAR DNI  (EDAD >=48M y <60M)/ (DX1= 99401.25 + LAB=1) + (DX2=C0011) + "]
[null,null,null,null,"CONTAR DNI  (EDAD >=48M y <60M)/ (DX1= 99401.25 + LAB=1) + (DX2=99499.08)"]
[]
[null,null,null,null,"Trazador",{"$f":"+GETPIVOTDATA(\" BAS089\",TABLAS!$A$372)","v":118}]
[]
[null,null,null,null,"2. PAREJAS CON CONSEJERÍA EN LA PROMOCIÓN DE UNA CONVIVENCIA SALUDABLE"]
[null,null,null,null,"SUMAR LAB2 DE APP136/ (DX1=99401.29+ LAB1=2+ LAB2) + (DX2=C7)"]
[]
[null,null,null,null,"Trazador",{"$f":"+GETPIVOTDATA(\" BAS090\",TABLAS!$A$372)","v":9}]
[]
[null,null,null,null,"3. LÍDERES ADOLESCENTES PROMUEVEN LA SALUD MENTAL EN SU COMUNIDAD"]
[null,null,null,null,"CONTAR DNI/ (DX1=C2111+ LAB1=1+LAB2=CDJ) + (DX2=99402.14)"]
[]
[null,null,null,null,"Trazador",{"$f":"+GETPIVOTDATA(\" BAS091\",TABLAS!$A$372)","v":0}]
[]
[null,null,null,null,"4. AGENTES COMUNITARIOS DE SALUD REALIZAN VIGILANCIA CIUDADANA PARA REDUCIR LA VIOLENCIA FÍSICA CAUSADA POR LA PAREJA"]
[null,null,null,null,"SUMAR LAB1 DE  APP150/ (DX1=C6+ LAB1+ LAB2=VCO) + (DX2=99402.14)"]
[]
[null,null,null,null,"Trazador",{"$f":"+GETPIVOTDATA(\" BAS092\",TABLAS!$A$372)","v":0}]

{"sheet":"OTRAS ACTIVIDADES","index":10,"n_rows":374,"n_cols":55,"rows_kept":374,"cut":false,"hidden":false,"merged":[[334,2,334,14],[325,1,325,14],[17,0,158,0],[21,2,21,8],[22,2,22,8],[26,2,26,8],[27,2,27,8],[33,3,33,8],[33,9,33,12],[47,2,47,4],[48,2,48,4],[49,2,49,4],[53,2,53,4],[54,2,54,4],[153,9,153,10],[153,11,153,12],[138,2,138,3],[138,4,138,5],[138,6,138,7],[138,8,138,9],[147,2,147,3],[147,4,147,5],[147,6,147,7],[178,2,178,3],[4,1,4,13],[14,5,14,7],[16,2,16,3],[16,5,16,8],[93,7,93,8],[120,3,120,4],[120,5,120,6],[120,7,120,8],[129,3,129,4],[129,5,129,6],[129,7,129,8],[71,2,71,5],[72,2,72,5],[76,2,76,5],[77,2,77,5],[93,3,93,4],[7,2,7,3],[8,2,8,3],[9,2,9,3],[10,2,10,3],[11,2,11,3],[12,2,12,3],[93,5,93,6],[13,2,13,3],[179,2,179,3],[184,2,184,8],[185,2,185,8],[186,2,186,8],[153,3,153,4],[153,5,153,6],[153,7,153,8],[193,2,193,8],[161,3,161,4],[177,2,177,3],[194,2,194,8],[195,2,195,8],[196,2,196,8],[197,2,197,8],[198,2,198,8],[187,2,187,8],[188,2,188,8],[189,2,189,8],[190,2,190,8],[191,2,191,8],[192,2,192,8],[217,2,217,3],[218,2,218,3],[219,2,219,3],[220,2,220,3],[221,2,221,3],[222,2,222,3],[203,2,203,4],[204,2,204,4],[205,2,205,4],[211,2,211,4],[212,2,212,4],[216,2,216,3],[237,2,237,5],[238,2,238,5],[239,2,239,5],[240,2,240,5],[241,2,241,5],[246,2,246,5],[223,2,223,3],[227,2,227,4],[228,2,228,4],[229,2,229,4],[230,2,230,4],[231,2,231,4],[257,2,257,5],[258,2,258,5],[259,2,259,5],[263,2,263,5],[264,2,264,5],[265,2,265,5],[247,2,247,5],[248,2,248,5],[249,2,249,5],[250,2,250,5],[255,2,255,5],[256,2,256,5],[275,2,275,6],[280,2,280,6],[281,2,281,6],[282,2,282,6],[283,2,283,6],[284,2,284,6],[266,2,266,5],[267,2,267,5],[271,2,271,6],[272,2,272,6],[273,2,273,6],[274,2,274,6],[314,2,314,6],[315,2,315,6],[289,3,289,6],[289,7,289,10],[289,11,289,14],[290,3,290,4],[290,5,290,6],[290,7,290,8],[290,9,290,10],[290,11,290,12],[290,13,290,14],[14,2,14,3],[12,5,12,7],[8,5,8,7],[354,2,354,4],[358,3,358,8],[359,3,359,4],[359,5,359,6],[359,7,359,8],[330,2,330,7],[349,2,349,4],[350,2,350,4],[351,2,351,4],[352,2,352,4],[353,2,353,4],[316,2,316,6],[321,2,321,7],[322,2,322,7],[323,2,323,7],[328,2,328,7],[329,2,329,7],[301,3,301,4],[301,5,301,6],[312,2,312,6],[313,2,313,6]]}
[]
[]
[]
[]
[null,"REPORTE MENSUAL DE ACTIVIDADES - PROMOCIÓN DE LA SALUD"]
[]
[]
[null,null,"DIRESA/DISA/GERESA ",null,null,"EJECUTORA",null,null,null,"MES"]
[null,null,"CUSCO",null,null,{"$f":"+TABLAS!O14","v":""},null,null,null,{"$f":"+TABLAS!N26","v":"ENE - MAR"}]
[null,null,"RED "]
[null,null,{"$f":"+TABLAS!O9","v":"03 - LA CONVENCION"},null,null,null,null,null,null,"AÑO "]
[null,null,"MICRO RED",null,null,"PROVINCIA",null,null,null,{"$f":"+TABLAS!J16","v":"2025"}]
[null,null,{"$f":"+TABLAS!O10","v":""},null,null,{"$f":"+TABLAS!O12","v":""},null,null,null,{"$f":"+TABLAS!O20","v":0}]
[null,null,"IPRESS",null,null,"DISTRITO"]
[null,null,{"$f":"+TABLAS!O11","v":""},null,null,{"$f":"+TABLAS!O13","v":""},null,null,null,{"$f":"IF(J13=1,MID(C16,1,9)&\"_\"&MID(C16,13,20)&\"_\"&MID(J9,1,3)&\"_\"&J12,MID(C16,1,9)&\"_\"&MID(C16,13,20)&\"_\"&MID(J9,1,3)&\"_\"&MID(J9,7,3)&\"_\"&J12)","v":"__ENE_MAR_2025"}]
[]
[]
[null,"ACTIVIDADES REALIZADAS CON EL GOBIERNO LOCAL"]
[]
[null,null,"Actualización y homologación de padrón nominal de niños (as) menores de 6 años",null,null,null,null,null,null,null,null,null,null,null,null,null,null,null,null,null,null,null,null,null,null,null,null,null,null,null,null,null,null,null,null,null,null,null,null,null,null,null,null,null,"\";TABLAS!$A$402)"]
[null,null,null,null,null,null,null,null,null,1,2,null,null,null,null,null,null,null,null,null,null,null,null,null,null,null,null,null,null,null,null,null,null,null,null,null,null,null,null,null,null,null,null,"=+IMPORTARDATOSDINAMICOS(\" BAS"]
[null,null,"ACTIVIDAD",null,null,null,null,null,null,"1ra asistencia técnica","2da asistencia técnica"]
[null,5,"Asistencia técnica y abogacía por el personal del EE.SS. Al equipo de gestión municipal que gestiona el padrón nominal ",null,null,null,null,null,null,{"$f":"+GETPIVOTDATA(\" BAS001\",TABLAS!$A$402)","v":1},{"$f":"+GETPIVOTDATA(\" BAS002\",TABLAS!$A$402)","v":0},null,null,null,null,null,null,null,1,{"$f":"+S23+1","v":2},null,null,null,null,null,null,null,null,null,null,null,{"$f":"IF(LEN(S23)=1,CONCATENATE(\"00\",S23),IF(LEN(S23)=2,CONCATENATE(\"0\",S23),S23))","v":"001"},{"$f":"IF(LEN(T23)=1,CONCATENATE(\"00\",T23),IF(LEN(T23)=2,CONCATENATE(\"0\",T23),T23))","v":"002"},null,null,null,null,null,null,null,null,null,null,{"$f":"$AR$21&AF23&$AS$20","v":"=+IMPORTARDATOSDINAMICOS(\" BAS001\";TABLAS!$A$402)"},{"$f":"$AR$21&AG23&$AS$20","v":"=+IMPORTARDATOSDINAMICOS(\" BAS002\";TABLAS!$A$402)"}]
[]
[null,null,"Implementación y funcionamiento de los centros de promoción y vigilancia comunal para el cuidado integral de la madre y el niño"]
[null,null,null,null,null,null,null,null,null,1,2]
[null,null,"ACTIVIDAD",null,null,null,null,null,null,"1ra asistencia técnica","2da asistencia técnica"]
[null,6,"Asistencia técnica y abogacía por el personal del EE.SS. Al equipo de gestión municipal que gestiona la implementación y funcionamiento del CPVC (1, 2, 3,)",null,null,null,null,null,null,{"$f":"+GETPIVOTDATA(\" BAS003\",TABLAS!$A$402)","v":0},{"$f":"+GETPIVOTDATA(\" BAS004\",TABLAS!$A$402)","v":0},null,null,null,null,null,null,null,{"$f":"+T23+1","v":3},{"$f":"+S28+1","v":4},null,null,null,null,null,null,null,null,null,null,null,{"$f":"IF(LEN(S28)=1,CONCATENATE(\"00\",S28),IF(LEN(S28)=2,CONCATENATE(\"0\",S28),S28))","v":"003"},{"$f":"IF(LEN(T28)=1,CONCATENATE(\"00\",T28),IF(LEN(T28)=2,CONCATENATE(\"0\",T28),T28))","v":"004"},null,null,null,null,null,null,null,null,null,null,{"$f":"$AR$21&AF28&$AS$20","v":"=+IMPORTARDATOSDINAMICOS(\" BAS003\";TABLAS!$A$402)"},{"$f":"$AR$21&AG28&$AS$20","v":"=+IMPORTARDATOSDINAMICOS(\" BAS004\";TABLAS!$A$402)"}]
[]
[null,null,"Principales actividades para el funcionamiento del CPVC"]
[]
[null,null,"EN SESIONES DEMOSTRATIVAS",null,"usp_TRAMA_BASE_PROMSA_RPT01_PP001_7_3"]
[null,null,null,1,2,3,4,5,6,7,8,9,10]
[null,null,"EN SESIONES DEMOSTRATIVAS",null,null,null,null,null,null,"GESTANTE (NORMAL/RIESGO)"]
[null,null,"TIPOS DE ACTIVIDAD DE SD / EDADES","Total de participantes","RN","1 - 5 meses","6 - 8 meses","9 - 11 meses","S/D","Total de participantes","I Trim","II Trim","III Trim"]
[null,7,"Lactancia Materna Exclusiva",{"$f":"+GETPIVOTDATA(\" BAS005\",TABLAS!$A$402)","v":0},{"$f":"+GETPIVOTDATA(\" BAS006\",TABLAS!$A$402)","v":0},{"$f":"+GETPIVOTDATA(\" BAS007\",TABLAS!$A$402)","v":0},{"$f":"+GETPIVOTDATA(\" BAS008\",TABLAS!$A$402)","v":0},{"$f":"+GETPIVOTDATA(\" BAS009\",TABLAS!$A$402)","v":0},{"$f":"+GETPIVOTDATA(\" BAS010\",TABLAS!$A$402)","v":0},{"$f":"+GETPIVOTDATA(\" BAS011\",TABLAS!$A$402)","v":0},{"$f":"+GETPIVOTDATA(\" BAS012\",TABLAS!$A$402)","v":0},{"$f":"+GETPIVOTDATA(\" BAS013\",TABLAS!$A$402)","v":0},{"$f":"+GETPIVOTDATA(\" BAS014\",TABLAS!$A$402)","v":0},null,null,null,null,null,{"$f":"+T28+1","v":5},{"$f":"+S36+1","v":6},{"$f":"+T36+1","v":7},8,9,10,11,12,13,14,null,null,null,{"$f":"IF(LEN(S36)=1,CONCATENATE(\"00\",S36),IF(LEN(S36)=2,CONCATENATE(\"0\",S36),S36))","v":"005"},{"$f":"IF(LEN(T36)=1,CONCATENATE(\"00\",T36),IF(LEN(T36)=2,CONCATENATE(\"0\",T36),T36))","v":"006"},{"$f":"IF(LEN(U36)=1,CONCATENATE(\"00\",U36),IF(LEN(U36)=2,CONCATENATE(\"0\",U36),U36))","v":"007"},"008","009","010","011","012","013","014",null,null,{"$f":"$AR$21&AF36&$AS$20","v":"=+IMPORTARDATOSDINAMICOS(\" BAS005\";TABLAS!$A$402)"},"=+IMPORTARDATOSDINAMICOS(\" BAS006\";TABLAS!$A$402)","=+IMPORTARDATOSDINAMICOS(\" BAS007\";TABLAS!$A$402)","=+IMPORTARDATOSDINAMICOS(\" BAS008\";TABLAS!$A$402)","=+IMPORTARDATOSDINAMICOS(\" BAS009\";TABLAS!$A$402)","=+IMPORTARDATOSDINAMICOS(\" BAS010\";TABLAS!$A$402)","=+IMPORTARDATOSDINAMICOS(\" BAS011\";TABLAS!$A$402)","=+IMPORTARDATOSDINAMICOS(\" BAS012\";TABLAS!$A$402)","=+IMPORTARDATOSDINAMICOS(\" BAS013\";TABLAS!$A$402)","=+IMPORTARDATOSDINAMICOS(\" BAS014\";TABLAS!$A$402)"]
[null,8,"Preparacion de alimentos",{"$f":"+GETPIVOTDATA(\" BAS015\",TABLAS!$A$402)","v":1},{"$f":"+GETPIVOTDATA(\" BAS016\",TABLAS!$A$402)","v":0},{"$f":"+GETPIVOTDATA(\" BAS017\",TABLAS!$A$402)","v":0},{"$f":"+GETPIVOTDATA(\" BAS018\",TABLAS!$A$402)","v":0},{"$f":"+GETPIVOTDATA(\" BAS019\",TABLAS!$A$402)","v":0},{"$f":"+GETPIVOTDATA(\" BAS020\",TABLAS!$A$402)","v":0},{"$f":"+GETPIVOTDATA(\" BAS021\",TABLAS!$A$402)","v":1},{"$f":"+GETPIVOTDATA(\" BAS022\",TABLAS!$A$402)","v":1},{"$f":"+GETPIVOTDATA(\" BAS023\",TABLAS!$A$402)","v":1},{"$f":"+GETPIVOTDATA(\" BAS024\",TABLAS!$A$402)","v":1},null,null,null,null,null,{"$f":"+AB36+1","v":15},{"$f":"+S37+1","v":16},17,18,19,20,21,22,23,24,null,null,null,{"$f":"IF(LEN(S37)=1,CONCATENATE(\"00\",S37),IF(LEN(S37)=2,CONCATENATE(\"0\",S37),S37))","v":"015"},{"$f":"IF(LEN(T37)=1,CONCATENATE(\"00\",T37),IF(LEN(T37)=2,CONCATENATE(\"0\",T37),T37))","v":"016"},"017","018","019","020","021","022","023","024",null,null,"=+IMPORTARDATOSDINAMICOS(\" BAS015\";TABLAS!$A$402)","=+IMPORTARDATOSDINAMICOS(\" BAS016\";TABLAS!$A$402)","=+IMPORTARDATOSDINAMICOS(\" BAS017\";TABLAS!$A$402)","=+IMPORTARDATOSDINAMICOS(\" BAS018\";TABLAS!$A$402)","=+IMPORTARDATOSDINAMICOS(\" BAS019\";TABLAS!$A$402)","=+IMPORTARDATOSDINAMICOS(\" BAS020\";TABLAS!$A$402)","=+IMPORTARDATOSDINAMICOS(\" BAS021\";TABLAS!$A$402)","=+IMPORTARDATOSDINAMICOS(\" BAS022\";TABLAS!$A$402)","=+IMPORTARDATOSDINAMICOS(\" BAS023\";TABLAS!$A$402)","=+IMPORTARDATOSDINAMICOS(\" BAS024\";TABLAS!$A$402)"]
[]
[null,null,"EN SESIONES EDUCATIVAS"]
[null,null,null,1,2]
[null,null,"EN SESIONES EDUCATIVAS","N° de sesión educativa","Participantes"]
[null,9,"Cuidado de la madre y el niño",{"$f":"+GETPIVOTDATA(\" BAS025\",TABLAS!$A$402)","v":0},{"$f":"+GETPIVOTDATA(\" BAS026\",TABLAS!$A$402)","v":0},null,null,null,null,null,null,null,null,null,null,null,null,null,{"$f":"+AB37+1","v":25},{"$f":"+S42+1","v":26},null,null,null,null,null,null,null,null,null,null,null,{"$f":"IF(LEN(S42)=1,CONCATENATE(\"00\",S42),IF(LEN(S42)=2,CONCATENATE(\"0\",S42),S42))","v":"025"},{"$f":"IF(LEN(T42)=1,CONCATENATE(\"00\",T42),IF(LEN(T42)=2,CONCATENATE(\"0\",T42),T42))","v":"026"},null,null,null,null,null,null,null,null,null,null,{"$f":"$AR$21&AF42&$AS$20","v":"=+IMPORTARDATOSDINAMICOS(\" BAS025\";TABLAS!$A$402)"},"=+IMPORTARDATOSDINAMICOS(\" BAS026\";TABLAS!$A$402)"]
[null,10,"Importancia del juego y afecto (1°)",{"$f":"+GETPIVOTDATA(\" BAS027\",TABLAS!$A$402)","v":0},{"$f":"+GETPIVOTDATA(\" BAS028\",TABLAS!$A$402)","v":0},null,null,null,null,null,null,null,null,null,null,null,null,null,{"$f":"+T42+1","v":27},{"$f":"+S43+1","v":28},null,null,null,null,null,null,null,null,null,null,null,{"$f":"IF(LEN(S43)=1,CONCATENATE(\"00\",S43),IF(LEN(S43)=2,CONCATENATE(\"0\",S43),S43))","v":"027"},"028",null,null,null,null,null,null,null,null,null,null,"=+IMPORTARDATOSDINAMICOS(\" BAS027\";TABLAS!$A$402)","=+IMPORTARDATOSDINAMICOS(\" BAS028\";TABLAS!$A$402)"]
[null,11,"Importancia del juego y afecto (2°)",{"$f":"+GETPIVOTDATA(\" BAS029\",TABLAS!$A$402)","v":0},{"$f":"+GETPIVOTDATA(\" BAS030\",TABLAS!$A$402)","v":0},null,null,null,null,null,null,null,null,null,null,null,null,null,{"$f":"+T43+1","v":29},{"$f":"+S44+1","v":30},null,null,null,null,null,null,null,null,null,null,null,"029","030",null,null,null,null,null,null,null,null,null,null,"=+IMPORTARDATOSDINAMICOS(\" BAS029\";TABLAS!$A$402)","=+IMPORTARDATOSDINAMICOS(\" BAS030\";TABLAS!$A$402)"]
[]
[null,null,"Vigilancia comunal",null,null,"usp_TRAMA_BASE_PROMSA_RPT01_PP001_7_5"]
[null,null,null,null,null,1,2]
[null,null,"ACTIVIDAD",null,null,"Actualización de Registro","N° DE GESTANTES / NIÑOS "]
[null,12,"Actualización de registro comunal de vigilancia de prácticas en gestantes",null,null,{"$f":"+GETPIVOTDATA(\" BAS031\",TABLAS!$A$402)","v":0},{"$f":"+GETPIVOTDATA(\" BAS032\",TABLAS!$A$402)","v":0},null,null,null,null,null,null,null,null,null,null,null,{"$f":"+T44+1","v":31},{"$f":"+S49+1","v":32},null,null,null,null,null,null,null,null,null,null,null,{"$f":"IF(LEN(S49)=1,CONCATENATE(\"00\",S49),IF(LEN(S49)=2,CONCATENATE(\"0\",S49),S49))","v":"031"},"032",null,null,null,null,null,null,null,null,null,null,{"$f":"$AR$21&AF49&$AS$20","v":"=+IMPORTARDATOSDINAMICOS(\" BAS031\";TABLAS!$A$402)"},{"$f":"$AR$21&AG49&$AS$20","v":"=+IMPORTARDATOSDINAMICOS(\" BAS032\";TABLAS!$A$402)"}]
[null,13,"Actualización de registro comunal de vigilancia de prácticas en niños (as)",null,null,{"$f":"+GETPIVOTDATA(\" BAS033\",TABLAS!$A$402)","v":0},{"$f":"+GETPIVOTDATA(\" BAS034\",TABLAS!$A$402)","v":0},null,null,null,null,null,null,null,null,null,null,null,{"$f":"+T49+1","v":33},{"$f":"+S50+1","v":34},null,null,null,null,null,null,null,null,null,null,null,"033","034",null,null,null,null,null,null,null,null,null,null,{"$f":"$AR$21&AF50&$AS$20","v":"=+IMPORTARDATOSDINAMICOS(\" BAS033\";TABLAS!$A$402)"},{"$f":"$AR$21&AG50&$AS$20","v":"=+IMPORTARDATOSDINAMICOS(\" BAS034\";TABLAS!$A$402)"}]
[]
[null,null,"TOMA DE DECISIONES",null,null,"usp_TRAMA_BASE_PROMSA_RPT01_PP001_7_6"]
[null,null,null,null,null,1,2,3,4,5,6]
[null,null,"ACTIVIDAD",null,null,"1°","N° de participantes","2°","N° de participantes",">2°","N° de participantes"]
[null,14,"Actividad en Centro de Promoción y Vigilancia Comunal ",null,null,{"$f":"+GETPIVOTDATA(\" BAS035\",TABLAS!$A$402)","v":0},{"$f":"+GETPIVOTDATA(\" BAS036\",TABLAS!$A$402)","v":0},{"$f":"+GETPIVOTDATA(\" BAS037\",TABLAS!$A$402)","v":0},{"$f":"+GETPIVOTDATA(\" BAS038\",TABLAS!$A$402)","v":0},{"$f":"+GETPIVOTDATA(\" BAS039\",TABLAS!$A$402)","v":0},{"$f":"+GETPIVOTDATA(\" BAS040\",TABLAS!$A$402)","v":0},null,null,null,null,null,null,null,{"$f":"+T50+1","v":35},{"$f":"+S55+1","v":36},{"$f":"+T55+1","v":37},38,39,40,null,null,null,null,null,null,null,{"$f":"IF(LEN(S55)=1,CONCATENATE(\"00\",S55),IF(LEN(S55)=2,CONCATENATE(\"0\",S55),S55))","v":"035"},{"$f":"IF(LEN(T55)=1,CONCATENATE(\"00\",T55),IF(LEN(T55)=2,CONCATENATE(\"0\",T55),T55))","v":"036"},{"$f":"IF(LEN(U55)=1,CONCATENATE(\"00\",U55),IF(LEN(U55)=2,CONCATENATE(\"0\",U55),U55))","v":"037"},"038","039","040",null,null,null,null,null,null,{"$f":"$AR$21&AF55&$AS$20","v":"=+IMPORTARDATOSDINAMICOS(\" BAS035\";TABLAS!$A$402)"},"=+IMPORTARDATOSDINAMICOS(\" BAS036\";TABLAS!$A$402)","=+IMPORTARDATOSDINAMICOS(\" BAS037\";TABLAS!$A$402)","=+IMPORTARDATOSDINAMICOS(\" BAS038\";TABLAS!$A$402)","=+IMPORTARDATOSDINAMICOS(\" BAS039\";TABLAS!$A$402)","=+IMPORTARDATOSDINAMICOS(\" BAS040\";TABLAS!$A$402)"]
[]
[null,null,"Estímulos no monetarios a los agentes comunitarios de salud",null,null,null,"usp_TRAMA_BASE_PROMSA_RPT01_PP001_7_7"]
[null,null,null,1,2]
[null,null,"ACTIVIDAD","1ra asistencia técnica","2da asistencia técnica"]
[null,15,"Asistencia técnica y abogacía por el personal del EE.SS. Al equipo de gestión municipal que gestiona el reconocimiento a los ACS",{"$f":"+GETPIVOTDATA(\" BAS041\",TABLAS!$A$402)","v":0},{"$f":"+GETPIVOTDATA(\" BAS042\",TABLAS!$A$402)","v":0},null,null,null,null,null,null,null,null,null,null,null,null,null,{"$f":"+X55+1","v":41},{"$f":"+S60+1","v":42},null,null,null,null,null,null,null,null,null,null,null,{"$f":"IF(LEN(S60)=1,CONCATENATE(\"00\",S60),IF(LEN(S60)=2,CONCATENATE(\"0\",S60),S60))","v":"041"},{"$f":"IF(LEN(T60)=1,CONCATENATE(\"00\",T60),IF(LEN(T60)=2,CONCATENATE(\"0\",T60),T60))","v":"042"},null,null,null,null,null,null,null,null,null,null,{"$f":"$AR$21&AF60&$AS$20","v":"=+IMPORTARDATOSDINAMICOS(\" BAS041\";TABLAS!$A$402)"},{"$f":"$AR$21&AG60&$AS$20","v":"=+IMPORTARDATOSDINAMICOS(\" BAS042\";TABLAS!$A$402)"}]
[]
[null,null,"Monitoreo por el personal del EESS al equipo de gestión municipal que gestiona el reconocimiento a los ACS.",null,null,null,null,null,null,"usp_TRAMA_BASE_PROMSA_RPT01_PP001_7_8"]
[null,null,null,1,2,3,4,5,6]
[null,null,"ACTIVIDAD","Entrega de Kit básico","N° de ACS","Entrega de Materiales educativos","N° de ACS","Entrega de Kit básico y Entrega de Materiales educativos","N° de ACS"]
[null,16,"01 Monitoreo por el personal del EESS al equipo de gestión municipal que gestiona el\nreconocimiento a los ACS.",{"$f":"+GETPIVOTDATA(\" BAS043\",TABLAS!$A$402)","v":0},{"$f":"+GETPIVOTDATA(\" BAS044\",TABLAS!$A$402)","v":0},{"$f":"+GETPIVOTDATA(\" BAS045\",TABLAS!$A$402)","v":0},{"$f":"+GETPIVOTDATA(\" BAS046\",TABLAS!$A$402)","v":0},{"$f":"+GETPIVOTDATA(\" BAS047\",TABLAS!$A$402)","v":0},{"$f":"+GETPIVOTDATA(\" BAS048\",TABLAS!$A$402)","v":0},null,null,null,null,null,null,null,null,null,{"$f":"+T60+1","v":43},{"$f":"+S65+1","v":44},{"$f":"+T65+1","v":45},46,47,48,null,null,null,null,null,null,null,{"$f":"IF(LEN(S65)=1,CONCATENATE(\"00\",S65),IF(LEN(S65)=2,CONCATENATE(\"0\",S65),S65))","v":"043"},{"$f":"IF(LEN(T65)=1,CONCATENATE(\"00\",T65),IF(LEN(T65)=2,CONCATENATE(\"0\",T65),T65))","v":"044"},{"$f":"IF(LEN(U65)=1,CONCATENATE(\"00\",U65),IF(LEN(U65)=2,CONCATENATE(\"0\",U65),U65))","v":"045"},"046","047","048",null,null,null,null,null,null,{"$f":"$AR$21&AF65&$AS$20","v":"=+IMPORTARDATOSDINAMICOS(\" BAS043\";TABLAS!$A$402)"},"=+IMPORTARDATOSDINAMICOS(\" BAS044\";TABLAS!$A$402)","=+IMPORTARDATOSDINAMICOS(\" BAS045\";TABLAS!$A$402)","=+IMPORTARDATOSDINAMICOS(\" BAS046\";TABLAS!$A$402)","=+IMPORTARDATOSDINAMICOS(\" BAS047\";TABLAS!$A$402)","=+IMPORTARDATOSDINAMICOS(\" BAS048\";TABLAS!$A$402)"]
[]
[null,null,"Realizar ferias integrales de salud y nutrición (diagnóstico y tratamiento de anemia, desparasitación masiva, promoción de la salud y alimentación adecuada)"]
[]
[null,null,"Asistencia técnica y abogacía por el personal del EESS al equipo de gestión municipal que gestiona la realización de las ferias integrales de salud y nutrición.",null,null,null,null,null,null,null,null,"usp_TRAMA_BASE_PROMSA_RPT01_PP001_7_10"]
[]
[null,null,null,null,null,null,1,2]
[null,null,"ACTIVIDAD",null,null,null,"1ra asistencia técnica","2da asistencia técnica"]
[null,17,"Asistencia técnica y abogacía por el personal del EE.SS: al equipo de gestión municipal que gestiona la realización de las ferias integrales de salud y nutrición",null,null,null,{"$f":"+GETPIVOTDATA(\" BAS049\",TABLAS!$A$402)","v":0},{"$f":"+GETPIVOTDATA(\" BAS050\",TABLAS!$A$402)","v":0},null,null,null,null,null,null,null,null,null,null,{"$f":"+X65+1","v":49},{"$f":"+S73+1","v":50},null,null,null,null,null,null,null,null,null,null,null,{"$f":"IF(LEN(S73)=1,CONCATENATE(\"00\",S73),IF(LEN(S73)=2,CONCATENATE(\"0\",S73),S73))","v":"049"},{"$f":"IF(LEN(T73)=1,CONCATENATE(\"00\",T73),IF(LEN(T73)=2,CONCATENATE(\"0\",T73),T73))","v":"050"},null,null,null,null,null,null,null,null,null,null,{"$f":"$AR$21&AF73&$AS$20","v":"=+IMPORTARDATOSDINAMICOS(\" BAS049\";TABLAS!$A$402)"},{"$f":"$AR$21&AG73&$AS$20","v":"=+IMPORTARDATOSDINAMICOS(\" BAS050\";TABLAS!$A$402)"}]
[]
[null,null,"Ejecución de ferias integrales de salud y nutrición realizadas por la Municipalidad:"]
[null,null,null,null,null,null,1]
[null,null,"ACTIVIDAD",null,null,null,"N° de Ferias realizadas"]
[null,18,"Ejecución de ferias integrales de salud y nutrición realizadas por la Municipalidad: ",null,null,null,{"$f":"+GETPIVOTDATA(\" BAS051\",TABLAS!$A$402)","v":0},{"$f":"+GETPIVOTDATA(\" BAS052\",TABLAS!$A$402)","v":0},null,null,null,null,null,null,null,null,null,null,{"$f":"+T73+1","v":51},{"$f":"+S78+1","v":52},null,null,null,null,null,null,null,null,null,null,null,{"$f":"IF(LEN(S78)=1,CONCATENATE(\"00\",S78),IF(LEN(S78)=2,CONCATENATE(\"0\",S78),S78))","v":"051"},{"$f":"IF(LEN(T78)=1,CONCATENATE(\"00\",T78),IF(LEN(T78)=2,CONCATENATE(\"0\",T78),T78))","v":"052"},null,null,null,null,null,null,null,null,null,null,{"$f":"$AR$21&AF78&$AS$20","v":"=+IMPORTARDATOSDINAMICOS(\" BAS051\";TABLAS!$A$402)"},{"$f":"$AR$21&AG78&$AS$20","v":"=+IMPORTARDATOSDINAMICOS(\" BAS052\";TABLAS!$A$402)"}]
[]
[null,null,"REGISTRO DE ACTIVIDADES PARA ACCIONES EN METAXÉNICAS: INTERVENCIONES EN CASAS RENUENTES (CR).",null,null,null,null,null,"usp_TRAMA_BASE_PROMSA_RPT08_OTRAS_2_1 (MODIFICACIÓN)"]
[]
[null,null,null,1,2]
[null,null,"Actividades","Número de casas RENUENTES","Número de casas RECONVERTIDA"]
[null,19,"Consejeria",{"$f":"+GETPIVOTDATA(\" BAS053\",TABLAS!$A$402)","v":49},{"$f":"+GETPIVOTDATA(\" BAS054\",TABLAS!$A$402)","v":49},null,null,null,null,null,null,null,null,null,null,null,null,null,{"$f":"+T78+1","v":53},{"$f":"+S84+1","v":54},null,null,null,null,null,null,null,null,null,null,null,{"$f":"IF(LEN(S84)=1,CONCATENATE(\"00\",S84),IF(LEN(S84)=2,CONCATENATE(\"0\",S84),S84))","v":"053"},{"$f":"IF(LEN(T84)=1,CONCATENATE(\"00\",T84),IF(LEN(T84)=2,CONCATENATE(\"0\",T84),T84))","v":"054"},null,null,null,null,null,null,null,null,null,null,{"$f":"$AR$21&AF84&$AS$20","v":"=+IMPORTARDATOSDINAMICOS(\" BAS053\";TABLAS!$A$402)"},{"$f":"$AR$21&AG84&$AS$20","v":"=+IMPORTARDATOSDINAMICOS(\" BAS054\";TABLAS!$A$402)"}]
[]
[null,null,"Intervenciones en establecimientos de salud relacionados a seguridad vial y cultura de tránsito",null,null,null,null,"usp_TRAMA_BASE_PROMSA_RPT08_OTRAS_3_2"]
[null,null,null,1]
[null,null,null,"N° de participantes"]
[null,20,"Consejeria familiar",{"$f":"+GETPIVOTDATA(\" BAS055\",TABLAS!$A$402)","v":0},null,null,null,null,null,null,null,null,null,null,null,null,null,null,{"$f":"+T84+1","v":55},null,null,null,null,null,null,null,null,null,null,null,null,{"$f":"IF(LEN(S89)=1,CONCATENATE(\"00\",S89),IF(LEN(S89)=2,CONCATENATE(\"0\",S89),S89))","v":"055"},null,null,null,null,null,null,null,null,null,null,null,{"$f":"$AR$21&AF89&$AS$20","v":"=+IMPORTARDATOSDINAMICOS(\" BAS055\";TABLAS!$A$402)"}]
[]
[]
[null,null,"Intervenciones relacionadas a gestión de riesgo de desastres",null,null,"usp_TRAMA_BASE_PROMSA_RPT08_OTRAS_6_5"]
[null,null,null,1,2,3,4,5,6]
[null,null,null,"Temporada de bajas temperaturas",null,"Temporada de lluvias",null,"Familias afectadas por desastres"]
[null,null,null,"Nº registros","Nº de participantes","Nº registros","Nº de participantes","Nº registros","Nº de participantes"]
[null,21,"Orientación familiar",{"$f":"+GETPIVOTDATA(\" BAS056\",TABLAS!$A$402)","v":0},{"$f":"+GETPIVOTDATA(\" BAS057\",TABLAS!$A$402)","v":0},{"$f":"+GETPIVOTDATA(\" BAS058\",TABLAS!$A$402)","v":0},{"$f":"+GETPIVOTDATA(\" BAS059\",TABLAS!$A$402)","v":0},{"$f":"+GETPIVOTDATA(\" BAS060\",TABLAS!$A$402)","v":0},{"$f":"+GETPIVOTDATA(\" BAS061\",TABLAS!$A$402)","v":0},null,null,null,null,null,null,null,null,null,{"$f":"+S89+1","v":56},{"$f":"+S96+1","v":57},{"$f":"+T96+1","v":58},59,60,61,null,null,null,null,null,null,null,{"$f":"IF(LEN(S96)=1,CONCATENATE(\"00\",S96),IF(LEN(S96)=2,CONCATENATE(\"0\",S96),S96))","v":"056"},{"$f":"IF(LEN(T96)=1,CONCATENATE(\"00\",T96),IF(LEN(T96)=2,CONCATENATE(\"0\",T96),T96))","v":"057"},{"$f":"IF(LEN(U96)=1,CONCATENATE(\"00\",U96),IF(LEN(U96)=2,CONCATENATE(\"0\",U96),U96))","v":"058"},"059","060","061",null,null,null,null,null,null,{"$f":"$AR$21&AF96&$AS$20","v":"=+IMPORTARDATOSDINAMICOS(\" BAS056\";TABLAS!$A$402)"},"=+IMPORTARDATOSDINAMICOS(\" BAS057\";TABLAS!$A$402)","=+IMPORTARDATOSDINAMICOS(\" BAS058\";TABLAS!$A$402)","=+IMPORTARDATOSDINAMICOS(\" BAS059\";TABLAS!$A$402)","=+IMPORTARDATOSDINAMICOS(\" BAS060\";TABLAS!$A$402)","=+IMPORTARDATOSDINAMICOS(\" BAS061\";TABLAS!$A$402)"]
[]
[null,"3. ACTIVIDADES DE PROMOCIÓN DE LA SALUD EN INSTITUCIONES EDUCATIVAS"]
[]
[null,null,"Implementación y funcionamiento de quioscos, cafeterías y comedores saludables en instituciones educativas"]
[]
[null,null,"Reunión de concertación con la Red Educativa/Institución Educativa"]
[null,null,1,2]
[null,null,"Nº registros","Nº de participantes"]
[null,23,null,{"$f":"+GETPIVOTDATA(\" BAS062\",TABLAS!$A$402)","v":0},null,null,null,null,null,null,null,null,null,null,null,null,null,null,{"$f":"+X96+1","v":62},{"$f":"+S105+1","v":63},null,null,null,null,null,null,null,null,null,null,null,{"$f":"IF(LEN(S105)=1,CONCATENATE(\"00\",S105),IF(LEN(S105)=2,CONCATENATE(\"0\",S105),S105))","v":"062"},{"$f":"IF(LEN(T105)=1,CONCATENATE(\"00\",T105),IF(LEN(T105)=2,CONCATENATE(\"0\",T105),T105))","v":"063"},null,null,null,null,null,null,null,null,null,null,{"$f":"$AR$21&AF105&$AS$20","v":"=+IMPORTARDATOSDINAMICOS(\" BAS062\";TABLAS!$A$402)"},{"$f":"$AR$21&AG105&$AS$20","v":"=+IMPORTARDATOSDINAMICOS(\" BAS063\";TABLAS!$A$402)"}]
[]
[null,null,"Reunión de planificación con la Institución Educativa"]
[]
[null,null,1]
[null,null,"Nº registros","Nº de participantes"]
[null,24,null,{"$f":"+GETPIVOTDATA(\" BAS064\",TABLAS!$A$402)","v":0},null,null,null,null,null,null,null,null,null,null,null,null,null,null,{"$f":"+T105+1","v":64},{"$f":"+S111+1","v":65},null,null,null,null,null,null,null,null,null,null,null,{"$f":"IF(LEN(S111)=1,CONCATENATE(\"00\",S111),IF(LEN(S111)=2,CONCATENATE(\"0\",S111),S111))","v":"064"},{"$f":"IF(LEN(T111)=1,CONCATENATE(\"00\",T111),IF(LEN(T111)=2,CONCATENATE(\"0\",T111),T111))","v":"065"},null,null,null,null,null,null,null,null,null,null,{"$f":"$AR$21&AF111&$AS$20","v":"=+IMPORTARDATOSDINAMICOS(\" BAS064\";TABLAS!$A$402)"},{"$f":"$AR$21&AG111&$AS$20","v":"=+IMPORTARDATOSDINAMICOS(\" BAS065\";TABLAS!$A$402)"}]
[]
[null,null,"Reunión de ejecución/asistencia técnica con la Institución Educativa"]
[]
[null,null,1]
[null,null,"Nº registros","Nº de participantes"]
[null,25,null,{"$f":"+GETPIVOTDATA(\" BAS066\",TABLAS!$A$402)","v":0},null,null,null,null,null,null,null,null,null,null,null,null,null,null,{"$f":"+T111+1","v":66},{"$f":"+S117+1","v":67},null,null,null,null,null,null,null,null,null,null,null,{"$f":"IF(LEN(S117)=1,CONCATENATE(\"00\",S117),IF(LEN(S117)=2,CONCATENATE(\"0\",S117),S117))","v":"066"},{"$f":"IF(LEN(T117)=1,CONCATENATE(\"00\",T117),IF(LEN(T117)=2,CONCATENATE(\"0\",T117),T117))","v":"067"},null,null,null,null,null,null,null,null,null,null,{"$f":"$AR$21&AF117&$AS$20","v":"=+IMPORTARDATOSDINAMICOS(\" BAS066\";TABLAS!$A$402)"},{"$f":"$AR$21&AG117&$AS$20","v":"=+IMPORTARDATOSDINAMICOS(\" BAS067\";TABLAS!$A$402)"}]
[]
[null,null,"Reunión de monitoreo a quioscos, cafeterías o comedores escolares"]
[null,null,null,1,2,3,4,5,6]
[null,null,null,"NIVEL INICIAL",null,"NIVEL PRIMARIO",null,"NIVEL SECUNDARIA"]
[null,null,"Nivel de Logro","1º visita","2º visita","1º visita","2º visita","1º visita","2º visita"]
[null,26," IA = cuando No es Saludable",{"$f":"+GETPIVOTDATA(\" BAS068\",TABLAS!$A$402)","v":0},{"$f":"+GETPIVOTDATA(\" BAS069\",TABLAS!$A$402)","v":0},{"$f":"+GETPIVOTDATA(\" BAS070\",TABLAS!$A$402)","v":0},{"$f":"+GETPIVOTDATA(\" BAS071\",TABLAS!$A$402)","v":0},{"$f":"+GETPIVOTDATA(\" BAS072\",TABLAS!$A$402)","v":0},{"$f":"+GETPIVOTDATA(\" BAS073\",TABLAS!$A$402)","v":0},null,null,null,null,null,null,null,null,null,{"$f":"+T117+1","v":68},{"$f":"+S123+1","v":69},70,71,72,73,null,null,null,null,null,null,null,{"$f":"IF(LEN(S123)=1,CONCATENATE(\"00\",S123),IF(LEN(S123)=2,CONCATENATE(\"0\",S123),S123))","v":"068"},"069","070","071","072","073",null,null,null,null,null,null,{"$f":"$AR$21&AF123&$AS$20","v":"=+IMPORTARDATOSDINAMICOS(\" BAS068\";TABLAS!$A$402)"},"=+IMPORTARDATOSDINAMICOS(\" BAS069\";TABLAS!$A$402)","=+IMPORTARDATOSDINAMICOS(\" BAS070\";TABLAS!$A$402)","=+IMPORTARDATOSDINAMICOS(\" BAS071\";TABLAS!$A$402)","=+IMPORTARDATOSDINAMICOS(\" BAS072\";TABLAS!$A$402)","=+IMPORTARDATOSDINAMICOS(\" BAS073\";TABLAS!$A$402)"]
[null,27,"CA = cuando está en Proceso",{"$f":"+GETPIVOTDATA(\" BAS074\",TABLAS!$A$402)","v":0},{"$f":"+GETPIVOTDATA(\" BAS075\",TABLAS!$A$402)","v":0},{"$f":"+GETPIVOTDATA(\" BAS076\",TABLAS!$A$402)","v":0},{"$f":"+GETPIVOTDATA(\" BAS077\",TABLAS!$A$402)","v":0},{"$f":"+GETPIVOTDATA(\" BAS078\",TABLAS!$A$402)","v":0},{"$f":"+GETPIVOTDATA(\" BAS079\",TABLAS!$A$402)","v":0},null,null,null,null,null,null,null,null,null,{"$f":"+X123+1","v":74},75,76,77,78,79,null,null,null,null,null,null,null,"074","075","076","077","078","079",null,null,null,null,null,null,"=+IMPORTARDATOSDINAMICOS(\" BAS074\";TABLAS!$A$402)","=+IMPORTARDATOSDINAMICOS(\" BAS075\";TABLAS!$A$402)","=+IMPORTARDATOSDINAMICOS(\" BAS076\";TABLAS!$A$402)","=+IMPORTARDATOSDINAMICOS(\" BAS077\";TABLAS!$A$402)","=+IMPORTARDATOSDINAMICOS(\" BAS078\";TABLAS!$A$402)","=+IMPORTARDATOSDINAMICOS(\" BAS079\";TABLAS!$A$402)"]
[null,28," LP = cuando es Saludable",{"$f":"+GETPIVOTDATA(\" BAS080\",TABLAS!$A$402)","v":0},{"$f":"+GETPIVOTDATA(\" BAS081\",TABLAS!$A$402)","v":0},{"$f":"+GETPIVOTDATA(\" BAS082\",TABLAS!$A$402)","v":0},{"$f":"+GETPIVOTDATA(\" BAS083\",TABLAS!$A$402)","v":0},{"$f":"+GETPIVOTDATA(\" BAS084\",TABLAS!$A$402)","v":0},{"$f":"+GETPIVOTDATA(\" BAS085\",TABLAS!$A$402)","v":0},null,null,null,null,null,null,null,null,null,{"$f":"+X124+1","v":80},81,82,83,84,85,null,null,null,null,null,null,null,"080","081","082","083","084","085",null,null,null,null,null,null,"=+IMPORTARDATOSDINAMICOS(\" BAS080\";TABLAS!$A$402)","=+IMPORTARDATOSDINAMICOS(\" BAS081\";TABLAS!$A$402)","=+IMPORTARDATOSDINAMICOS(\" BAS082\";TABLAS!$A$402)","=+IMPORTARDATOSDINAMICOS(\" BAS083\";TABLAS!$A$402)","=+IMPORTARDATOSDINAMICOS(\" BAS084\";TABLAS!$A$402)","=+IMPORTARDATOSDINAMICOS(\" BAS085\";TABLAS!$A$402)"]
[]
[null,null,"Reunión de evaluación a quioscos, cafeterías o comedores escolares",null,null,null,"usp_TRAMA_BASE_PROMSA_RPT08_OTRAS_5_2"]
[]
[null,null,null,1,2,3,4,5,6]
[null,null,null,"NIVEL INICIAL",null,"NIVEL PRIMARIO",null,"NIVEL SECUNDARIA"]
[null,null,"Nivel de Logro","1º Evaluación","2º Evaluación","1º Evaluación","2º Evaluación","1º Evaluación","2º Evaluación"]
[null,26," IA = cuando No es Saludable",{"$f":"+GETPIVOTDATA(\" BAS086\",TABLAS!$A$402)","v":0},{"$f":"+GETPIVOTDATA(\" BAS087\",TABLAS!$A$402)","v":0},{"$f":"+GETPIVOTDATA(\" BAS088\",TABLAS!$A$402)","v":0},{"$f":"+GETPIVOTDATA(\" BAS089\",TABLAS!$A$402)","v":0},{"$f":"+GETPIVOTDATA(\" BAS090\",TABLAS!$A$402)","v":0},{"$f":"+GETPIVOTDATA(\" BAS091\",TABLAS!$A$402)","v":0},null,null,null,null,null,null,null,null,null,{"$f":"+X125+1","v":86},{"$f":"+S132+1","v":87},88,89,90,91,null,null,null,null,null,null,null,{"$f":"IF(LEN(S132)=1,CONCATENATE(\"00\",S132),IF(LEN(S132)=2,CONCATENATE(\"0\",S132),S132))","v":"086"},"087","088","089","090","091",null,null,null,null,null,null,{"$f":"$AR$21&AF132&$AS$20","v":"=+IMPORTARDATOSDINAMICOS(\" BAS086\";TABLAS!$A$402)"},"=+IMPORTARDATOSDINAMICOS(\" BAS087\";TABLAS!$A$402)","=+IMPORTARDATOSDINAMICOS(\" BAS088\";TABLAS!$A$402)","=+IMPORTARDATOSDINAMICOS(\" BAS089\";TABLAS!$A$402)","=+IMPORTARDATOSDINAMICOS(\" BAS090\";TABLAS!$A$402)","=+IMPORTARDATOSDINAMICOS(\" BAS091\";TABLAS!$A$402)"]
[null,27,"CA = cuando está en Proceso",{"$f":"+GETPIVOTDATA(\" BAS092\",TABLAS!$A$402)","v":0},{"$f":"+GETPIVOTDATA(\" BAS093\",TABLAS!$A$402)","v":0},{"$f":"+GETPIVOTDATA(\" BAS094\",TABLAS!$A$402)","v":0},{"$f":"+GETPIVOTDATA(\" BAS095\",TABLAS!$A$402)","v":0},{"$f":"+GETPIVOTDATA(\" BAS096\",TABLAS!$A$402)","v":0},{"$f":"+GETPIVOTDATA(\" BAS097\",TABLAS!$A$402)","v":0},null,null,null,null,null,null,null,null,null,{"$f":"+X132+1","v":92},93,94,95,96,97,null,null,null,null,null,null,null,"092","093","094","095","096","097",null,null,null,null,null,null,"=+IMPORTARDATOSDINAMICOS(\" BAS092\";TABLAS!$A$402)","=+IMPORTARDATOSDINAMICOS(\" BAS093\";TABLAS!$A$402)","=+IMPORTARDATOSDINAMICOS(\" BAS094\";TABLAS!$A$402)","=+IMPORTARDATOSDINAMICOS(\" BAS095\";TABLAS!$A$402)","=+IMPORTARDATOSDINAMICOS(\" BAS096\";TABLAS!$A$402)","=+IMPORTARDATOSDINAMICOS(\" BAS097\";TABLAS!$A$402)"]
[null,28," LP = cuando es Saludable",{"$f":"+GETPIVOTDATA(\" BAS098\",TABLAS!$A$402)","v":0},{"$f":"+GETPIVOTDATA(\" BAS099\",TABLAS!$A$402)","v":0},{"$f":"+GETPIVOTDATA(\" BAS100\",TABLAS!$A$402)","v":0},{"$f":"+GETPIVOTDATA(\" BAS101\",TABLAS!$A$402)","v":0},{"$f":"+GETPIVOTDATA(\" BAS102\",TABLAS!$A$402)","v":0},{"$f":"+GETPIVOTDATA(\" BAS103\",TABLAS!$A$402)","v":0},null,null,null,null,null,null,null,null,null,{"$f":"+X133+1","v":98},99,100,101,102,103,null,null,null,null,null,null,null,"098","099",100,101,102,103,null,null,null,null,null,null,"=+IMPORTARDATOSDINAMICOS(\" BAS098\";TABLAS!$A$402)","=+IMPORTARDATOSDINAMICOS(\" BAS099\";TABLAS!$A$402)","=+IMPORTARDATOSDINAMICOS(\" BAS100\";TABLAS!$A$402)","=+IMPORTARDATOSDINAMICOS(\" BAS101\";TABLAS!$A$402)","=+IMPORTARDATOSDINAMICOS(\" BAS102\";TABLAS!$A$402)","=+IMPORTARDATOSDINAMICOS(\" BAS103\";TABLAS!$A$402)"]
[]
[null,null,"Taller Educativo para Expendedores de Alimentos",null,null,"usp_TRAMA_BASE_PROMSA_RPT08_OTRAS_5_5"]
[]
[null,null,1,2,3,4,5,6,7,8]
[null,null,"NIVEL INICIAL",null,"NIVEL PRIMARIO",null,"NIVEL SECUNDARIA",null,"NIVEL SECUNDARIA"]
[null,null,"Nº","Nº de II.EE","Nº","Nº de II.EE","Nº","Nº de II.EE","Nº","Nº de II.EE"]
[null,29,{"$f":"+GETPIVOTDATA(\" BAS104\",TABLAS!$A$402)","v":1},{"$f":"+GETPIVOTDATA(\" BAS105\",TABLAS!$A$402)","v":1},{"$f":"+GETPIVOTDATA(\" BAS106\",TABLAS!$A$402)","v":0},{"$f":"+GETPIVOTDATA(\" BAS107\",TABLAS!$A$402)","v":0},{"$f":"+GETPIVOTDATA(\" BAS108\",TABLAS!$A$402)","v":0},{"$f":"+GETPIVOTDATA(\" BAS109\",TABLAS!$A$402)","v":0},{"$f":"+GETPIVOTDATA(\" BAS110\",TABLAS!$A$402)","v":0},{"$f":"+GETPIVOTDATA(\" BAS111\",TABLAS!$A$402)","v":0},null,null,null,null,null,null,null,null,{"$f":"+X134+1","v":104},{"$f":"+S141+1","v":105},106,107,108,109,110,111,null,null,null,null,null,{"$f":"IF(LEN(S141)=1,CONCATENATE(\"00\",S141),IF(LEN(S141)=2,CONCATENATE(\"0\",S141),S141))","v":104},105,106,107,108,109,110,111,null,null,null,null,{"$f":"$AR$21&AF141&$AS$20","v":"=+IMPORTARDATOSDINAMICOS(\" BAS104\";TABLAS!$A$402)"},"=+IMPORTARDATOSDINAMICOS(\" BAS105\";TABLAS!$A$402)","=+IMPORTARDATOSDINAMICOS(\" BAS106\";TABLAS!$A$402)","=+IMPORTARDATOSDINAMICOS(\" BAS107\";TABLAS!$A$402)","=+IMPORTARDATOSDINAMICOS(\" BAS108\";TABLAS!$A$402)","=+IMPORTARDATOSDINAMICOS(\" BAS109\";TABLAS!$A$402)","=+IMPORTARDATOSDINAMICOS(\" BAS110\";TABLAS!$A$402)","=+IMPORTARDATOSDINAMICOS(\" BAS111\";TABLAS!$A$402)"]
[]
[null,"4. ACTIVIDADES DE PROMOCIÓN DE LA SALUD EN ESCENARIO COMUNIDADES"]
[]
[null,null,"Capacitación a agentes comunitarios en gestión de riesgo de desastres:",null,null,null,"usp_TRAMA_BASE_PROMSA_RPT08_OTRAS_6_2"]
[]
[null,null,1,2,3,4,5,6]
[null,null,"1º TALLER",null,"2º TALLER",null,"3º TALLER"]
[null,null,"Nº","Participantes","Nº","Participantes","Nº","Participantes"]
[null,30,{"$f":"+GETPIVOTDATA(\" BAS112\",TABLAS!$A$402)","v":0},{"$f":"+GETPIVOTDATA(\" BAS113\",TABLAS!$A$402)","v":0},{"$f":"+GETPIVOTDATA(\" BAS114\",TABLAS!$A$402)","v":0},{"$f":"+GETPIVOTDATA(\" BAS115\",TABLAS!$A$402)","v":0},{"$f":"+GETPIVOTDATA(\" BAS116\",TABLAS!$A$402)","v":0},{"$f":"+GETPIVOTDATA(\" BAS117\",TABLAS!$A$402)","v":0},null,null,null,null,null,null,null,null,null,null,{"$f":"+Z141+1","v":112},{"$f":"+S150+1","v":113},114,115,116,117,null,null,null,null,null,null,null,{"$f":"IF(LEN(S150)=1,CONCATENATE(\"00\",S150),IF(LEN(S150)=2,CONCATENATE(\"0\",S150),S150))","v":112},113,114,115,116,117,null,null,null,null,null,null,{"$f":"$AR$21&AF150&$AS$20","v":"=+IMPORTARDATOSDINAMICOS(\" BAS112\";TABLAS!$A$402)"},"=+IMPORTARDATOSDINAMICOS(\" BAS113\";TABLAS!$A$402)","=+IMPORTARDATOSDINAMICOS(\" BAS114\";TABLAS!$A$402)","=+IMPORTARDATOSDINAMICOS(\" BAS115\";TABLAS!$A$402)","=+IMPORTARDATOSDINAMICOS(\" BAS116\";TABLAS!$A$402)","=+IMPORTARDATOSDINAMICOS(\" BAS117\";TABLAS!$A$402)"]
[]
[null,null,"Junta vecinal","usp_TRAMA_BASE_PROMSA_RPT08_OTRAS_6_3"]
[null,null,null,1,2,3,4,5,6,7,8,9,10]
[null,null,null,"Materno",null,"Tuberculosis",null,"Daños no transmisibles",null,"Dengue y otras arbovirosis",null,"Cáncer"]
[null,null,null,"N°","Participantes","N°","Participantes","N°","Participantes","N°","Participantes","N°","Participantes"]
[null,31,"Planificación participativa",{"$f":"+GETPIVOTDATA(\" BAS118\",TABLAS!$A$402)","v":0},{"$f":"+GETPIVOTDATA(\" BAS119\",TABLAS!$A$402)","v":0},{"$f":"+GETPIVOTDATA(\" BAS120\",TABLAS!$A$402)","v":0},{"$f":"+GETPIVOTDATA(\" BAS121\",TABLAS!$A$402)","v":0},{"$f":"+GETPIVOTDATA(\" BAS122\",TABLAS!$A$402)","v":0},{"$f":"+GETPIVOTDATA(\" BAS123\",TABLAS!$A$402)","v":0},{"$f":"+GETPIVOTDATA(\" BAS124\",TABLAS!$A$402)","v":0},{"$f":"+GETPIVOTDATA(\" BAS125\",TABLAS!$A$402)","v":0},{"$f":"+GETPIVOTDATA(\" BAS126\",TABLAS!$A$402)","v":0},{"$f":"+GETPIVOTDATA(\" BAS127\",TABLAS!$A$402)","v":0},null,null,null,null,null,{"$f":"+X150+1","v":118},{"$f":"+S156+1","v":119},120,121,122,123,124,125,126,127,null,null,null,{"$f":"IF(LEN(S156)=1,CONCATENATE(\"00\",S156),IF(LEN(S156)=2,CONCATENATE(\"0\",S156),S156))","v":118},119,120,121,122,123,124,125,126,127,null,null,{"$f":"$AR$21&AF156&$AS$20","v":"=+IMPORTARDATOSDINAMICOS(\" BAS118\";TABLAS!$A$402)"},"=+IMPORTARDATOSDINAMICOS(\" BAS119\";TABLAS!$A$402)","=+IMPORTARDATOSDINAMICOS(\" BAS120\";TABLAS!$A$402)","=+IMPORTARDATOSDINAMICOS(\" BAS121\";TABLAS!$A$402)","=+IMPORTARDATOSDINAMICOS(\" BAS122\";TABLAS!$A$402)","=+IMPORTARDATOSDINAMICOS(\" BAS123\";TABLAS!$A$402)","=+IMPORTARDATOSDINAMICOS(\" BAS124\";TABLAS!$A$402)","=+IMPORTARDATOSDINAMICOS(\" BAS125\";TABLAS!$A$402)","=+IMPORTARDATOSDINAMICOS(\" BAS126\";TABLAS!$A$402)","=+IMPORTARDATOSDINAMICOS(\" BAS127\";TABLAS!$A$402)"]
[null,32,"Practicas saludables",{"$f":"+GETPIVOTDATA(\" BAS128\",TABLAS!$A$402)","v":0},{"$f":"+GETPIVOTDATA(\" BAS129\",TABLAS!$A$402)","v":0},{"$f":"+GETPIVOTDATA(\" BAS130\",TABLAS!$A$402)","v":0},{"$f":"+GETPIVOTDATA(\" BAS131\",TABLAS!$A$402)","v":0},{"$f":"+GETPIVOTDATA(\" BAS132\",TABLAS!$A$402)","v":0},{"$f":"+GETPIVOTDATA(\" BAS133\",TABLAS!$A$402)","v":0},{"$f":"+GETPIVOTDATA(\" BAS134\",TABLAS!$A$402)","v":0},{"$f":"+GETPIVOTDATA(\" BAS135\",TABLAS!$A$402)","v":0},{"$f":"+GETPIVOTDATA(\" BAS136\",TABLAS!$A$402)","v":0},{"$f":"+GETPIVOTDATA(\" BAS137\",TABLAS!$A$402)","v":0},null,null,null,null,null,{"$f":"+AB156+1","v":128},129,130,131,132,133,134,135,136,137,null,null,null,128,129,130,131,132,133,134,135,136,137,null,null,"=+IMPORTARDATOSDINAMICOS(\" BAS128\";TABLAS!$A$402)","=+IMPORTARDATOSDINAMICOS(\" BAS129\";TABLAS!$A$402)","=+IMPORTARDATOSDINAMICOS(\" BAS130\";TABLAS!$A$402)","=+IMPORTARDATOSDINAMICOS(\" BAS131\";TABLAS!$A$402)","=+IMPORTARDATOSDINAMICOS(\" BAS132\";TABLAS!$A$402)","=+IMPORTARDATOSDINAMICOS(\" BAS133\";TABLAS!$A$402)","=+IMPORTARDATOSDINAMICOS(\" BAS134\";TABLAS!$A$402)","=+IMPORTARDATOSDINAMICOS(\" BAS135\";TABLAS!$A$402)","=+IMPORTARDATOSDINAMICOS(\" BAS136\";TABLAS!$A$402)","=+IMPORTARDATOSDINAMICOS(\" BAS137\";TABLAS!$A$402)"]
[]
[null,null,"Sesiones Educativas a Gestantes alojadas en la Casa Materna"]
[]
[null,null,null,1,2]
[null,null,null,"ACTIVIDAD CON GESTANTES"]
[null,null,null,"N°","Participantes"]
[null,33,"Sesión ",{"$f":"+GETPIVOTDATA(\" BAS138\",TABLAS!$A$402)","v":3},{"$f":"+GETPIVOTDATA(\" BAS139\",TABLAS!$A$402)","v":3},null,null,null,null,null,null,null,null,null,null,null,null,null,{"$f":"+AB157+1","v":138},{"$f":"+S164+1","v":139},null,null,null,null,null,null,null,null,null,null,null,{"$f":"IF(LEN(S164)=1,CONCATENATE(\"00\",S164),IF(LEN(S164)=2,CONCATENATE(\"0\",S164),S164))","v":138},139,null,null,null,null,null,null,null,null,null,null,{"$f":"$AR$21&AF164&$AS$20","v":"=+IMPORTARDATOSDINAMICOS(\" BAS138\";TABLAS!$A$402)"},{"$f":"$AR$21&AG164&$AS$20","v":"=+IMPORTARDATOSDINAMICOS(\" BAS139\";TABLAS!$A$402)"}]
[]
[null,null,"Adolescentes que participan de sesiones educativas de salud sexual en el CDJ"]
[]
[null,null,null,1,2]
[null,null,null,"N°","Participantes"]
[null,34,"Sesión ",{"$f":"+GETPIVOTDATA(\" BAS140\",TABLAS!$A$402)","v":0},{"$f":"+GETPIVOTDATA(\" BAS141\",TABLAS!$A$402)","v":0},null,null,null,null,null,null,null,null,null,null,null,null,null,{"$f":"+T164+1","v":140},{"$f":"+S170+1","v":141},null,null,null,null,null,null,null,null,null,null,null,{"$f":"IF(LEN(S170)=1,CONCATENATE(\"00\",S170),IF(LEN(S170)=2,CONCATENATE(\"0\",S170),S170))","v":140},141,null,null,null,null,null,null,null,null,null,null,{"$f":"$AR$21&AF170&$AS$20","v":"=+IMPORTARDATOSDINAMICOS(\" BAS140\";TABLAS!$A$402)"},{"$f":"$AR$21&AG170&$AS$20","v":"=+IMPORTARDATOSDINAMICOS(\" BAS141\";TABLAS!$A$402)"}]
[]
[null,null,"Consejería sobre estilos de vida y ambientes saludables para la prevención de transmisión de COVID-19"]
[]
[null,null,"Para el registro de la consejería únicamente en lavado de manos social"]
[]
[null,null,null,null,1]
[null,null,null,null,"Nº registros"]
[null,35,"Consejeria (VISITA DOMICILIARIA)",null,{"$f":"+GETPIVOTDATA(\" BAS142\",TABLAS!$A$402)","v":459},null,null,null,null,null,null,null,null,null,null,null,null,null,{"$f":"+T170+1","v":142},null,null,null,null,null,null,null,null,null,null,null,null,{"$f":"IF(LEN(S178)=1,CONCATENATE(\"00\",S178),IF(LEN(S178)=2,CONCATENATE(\"0\",S178),S178))","v":142},null,null,null,null,null,null,null,null,null,null,null,{"$f":"$AR$21&AF178&$AS$20","v":"=+IMPORTARDATOSDINAMICOS(\" BAS142\";TABLAS!$A$402)"}]
[null,36,"Consejeria (TELEORIENTACIÓN SINCRONA)",null,{"$f":"+GETPIVOTDATA(\" BAS143\",TABLAS!$A$402)","v":0},null,null,null,null,null,null,null,null,null,null,null,null,null,{"$f":"+S178+1","v":143},null,null,null,null,null,null,null,null,null,null,null,null,143,null,null,null,null,null,null,null,null,null,null,null,{"$f":"$AR$21&AF179&$AS$20","v":"=+IMPORTARDATOSDINAMICOS(\" BAS143\";TABLAS!$A$402)"}]
[null,37,"TRAZADOR ",null,{"$f":"+GETPIVOTDATA(\" BAS144\",TABLAS!$A$402)","v":459},null,null,null,null,null,null,null,null,null,null,null,null,null,{"$f":"+S179+1","v":144},null,null,null,null,null,null,null,null,null,null,null,null,144,null,null,null,null,null,null,null,null,null,null,null,{"$f":"$AR$21&AF180&$AS$20","v":"=+IMPORTARDATOSDINAMICOS(\" BAS144\";TABLAS!$A$402)"}]
[]
[null,null,"Para el registro de la consejería en otras temáticas",null,"ADENDA"]
[]
[null,null,null,null,null,null,null,null,null,1]
[null,null,"Tematica",null,null,null,null,null,null,"Nº registros"]
[null,38,"(VD)Medidas preventivas frente al COVID-19: higiene respiratoria, uso adecuado de la mascarilla facial, distanciamiento social (1)",null,null,null,null,null,null,{"$f":"+GETPIVOTDATA(\" BAS145\",TABLAS!$A$402)","v":11},null,null,null,null,null,null,null,null,{"$f":"+S180+1","v":145},null,null,null,null,null,null,null,null,null,null,null,null,{"$f":"IF(LEN(S186)=1,CONCATENATE(\"00\",S186),IF(LEN(S186)=2,CONCATENATE(\"0\",S186),S186))","v":145},null,null,null,null,null,null,null,null,null,null,null,{"$f":"$AR$21&AF186&$AS$20","v":"=+IMPORTARDATOSDINAMICOS(\" BAS145\";TABLAS!$A$402)"}]
[null,39,"(T.S) Medidas preventivas frente al COVID-19: higiene respiratoria, uso adecuado de la mascarilla facial, distanciamiento social (1)",null,null,null,null,null,null,{"$f":"+GETPIVOTDATA(\" BAS146\",TABLAS!$A$402)","v":0},null,null,null,null,null,null,null,null,{"$f":"+S186+1","v":146},null,null,null,null,null,null,null,null,null,null,null,null,146,null,null,null,null,null,null,null,null,null,null,null,{"$f":"$AR$21&AF187&$AS$20","v":"=+IMPORTARDATOSDINAMICOS(\" BAS146\";TABLAS!$A$402)"}]
[null,40,"Total"]
[null,41,"(VD) Correcto uso del pulsioxímetros (2)",null,null,null,null,null,null,{"$f":"+GETPIVOTDATA(\" BAS147\",TABLAS!$A$402)","v":0},null,null,null,null,null,null,null,null,{"$f":"+S187+1","v":147},null,null,null,null,null,null,null,null,null,null,null,null,147,null,null,null,null,null,null,null,null,null,null,null,{"$f":"$AR$21&AF189&$AS$20","v":"=+IMPORTARDATOSDINAMICOS(\" BAS147\";TABLAS!$A$402)"}]
[null,42,"(TS)Correcto uso del pulsioxímetros (2)",null,null,null,null,null,null,{"$f":"+GETPIVOTDATA(\" BAS148\",TABLAS!$A$402)","v":0},null,null,null,null,null,null,null,null,{"$f":"+S189+1","v":148},null,null,null,null,null,null,null,null,null,null,null,null,148,null,null,null,null,null,null,null,null,null,null,null,{"$f":"$AR$21&AF190&$AS$20","v":"=+IMPORTARDATOSDINAMICOS(\" BAS148\";TABLAS!$A$402)"}]
[null,43,"Total"]
[null,44,"(VD) Inmunización (3)",null,null,null,null,null,null,{"$f":"+GETPIVOTDATA(\" BAS149\",TABLAS!$A$402)","v":0},null,null,null,null,null,null,null,null,{"$f":"+S190+1","v":149},null,null,null,null,null,null,null,null,null,null,null,null,149,null,null,null,null,null,null,null,null,null,null,null,{"$f":"$AR$21&AF192&$AS$20","v":"=+IMPORTARDATOSDINAMICOS(\" BAS149\";TABLAS!$A$402)"}]
[null,45,"(TS)Inmunización (3)",null,null,null,null,null,null,{"$f":"+GETPIVOTDATA(\" BAS150\",TABLAS!$A$402)","v":0},null,null,null,null,null,null,null,null,150,null,null,null,null,null,null,null,null,null,null,null,null,150,null,null,null,null,null,null,null,null,null,null,null,{"$f":"$AR$21&AF193&$AS$20","v":"=+IMPORTARDATOSDINAMICOS(\" BAS150\";TABLAS!$A$402)"}]
[null,46,"Total"]
[null,47,"(VD)Cuidado de PAMARs y PCDs con COVID (4)",null,null,null,null,null,null,{"$f":"+GETPIVOTDATA(\" BAS151\",TABLAS!$A$402)","v":0},null,null,null,null,null,null,null,null,{"$f":"+S193+1","v":151},null,null,null,null,null,null,null,null,null,null,null,null,151,null,null,null,null,null,null,null,null,null,null,null,{"$f":"$AR$21&AF195&$AS$20","v":"=+IMPORTARDATOSDINAMICOS(\" BAS151\";TABLAS!$A$402)"}]
[null,48,"(TS)Cuidado de PAMARs y PCDs con COVID (4)",null,null,null,null,null,null,{"$f":"+GETPIVOTDATA(\" BAS152\",TABLAS!$A$402)","v":0},null,null,null,null,null,null,null,null,152,null,null,null,null,null,null,null,null,null,null,null,null,152,null,null,null,null,null,null,null,null,null,null,null,{"$f":"$AR$21&AF196&$AS$20","v":"=+IMPORTARDATOSDINAMICOS(\" BAS152\";TABLAS!$A$402)"}]
[null,49,"Total"]
[]
[null,50,"TRAZADOR ",null,null,null,null,null,null,{"$f":"+GETPIVOTDATA(\" BAS153\",TABLAS!$A$402)","v":11},null,null,null,null,null,null,null,null,{"$f":"+S196+1","v":153},null,null,null,null,null,null,null,null,null,null,null,null,{"$f":"IF(LEN(S199)=1,CONCATENATE(\"00\",S199),IF(LEN(S199)=2,CONCATENATE(\"0\",S199),S199))","v":153},null,null,null,null,null,null,null,null,null,null,null,{"$f":"$AR$21&AF199&$AS$20","v":"=+IMPORTARDATOSDINAMICOS(\" BAS153\";TABLAS!$A$402)"}]
[]
[null,null,"Conformación de comités comunitarios de salud para el fortalecimiento de acciones frente a problemas de salud pública "]
[]
[null,null,null,null,null,1]
[null,null,"Tipo de CCS",null,null,"Nº registros"]
[null,51,"Si el Comité Comunitario de Salud es nuevo (1)",null,null,{"$f":"+GETPIVOTDATA(\" BAS154\",TABLAS!$A$402)","v":0},null,null,null,null,null,null,null,null,null,null,null,null,{"$f":"+S199+1","v":154},null,null,null,null,null,null,null,null,null,null,null,null,{"$f":"IF(LEN(S205)=1,CONCATENATE(\"00\",S205),IF(LEN(S205)=2,CONCATENATE(\"0\",S205),S205))","v":154},null,null,null,null,null,null,null,null,null,null,null,{"$f":"$AR$21&AF205&$AS$20","v":"=+IMPORTARDATOSDINAMICOS(\" BAS154\";TABLAS!$A$402)"}]
[null,52,"Si el Comité Comunitario se está reactivando (2)",null,null,{"$f":"+GETPIVOTDATA(\" BAS155\",TABLAS!$A$402)","v":0},null,null,null,null,null,null,null,null,null,null,null,null,{"$f":"+S205+1","v":155},null,null,null,null,null,null,null,null,null,null,null,null,155,null,null,null,null,null,null,null,null,null,null,null,{"$f":"$AR$21&AF206&$AS$20","v":"=+IMPORTARDATOSDINAMICOS(\" BAS155\";TABLAS!$A$402)"}]
[]
[]
[]
[null,null,"Reporte sobre centros de aislamiento temporal y seguimiento (CATS)"]
[null,null,null,null,null,1,2]
[null,null,"Estado del CATS",null,null,"Nº registros","Nº de referencias"]
[null,56,"Si el CATS se encuentra en proceso de implementación (1)",null,null,{"$f":"+GETPIVOTDATA(\" BAS156\",TABLAS!$A$402)","v":0},{"$f":"+GETPIVOTDATA(\" BAS157\",TABLAS!$A$402)","v":0},null,null,null,null,null,null,null,null,null,null,null,{"$f":"+S206+1","v":156},{"$f":"+S213+1","v":157},null,null,null,null,null,null,null,null,null,null,null,{"$f":"IF(LEN(S213)=1,CONCATENATE(\"00\",S213),IF(LEN(S213)=2,CONCATENATE(\"0\",S213),S213))","v":156},{"$f":"IF(LEN(T213)=1,CONCATENATE(\"00\",T213),IF(LEN(T213)=2,CONCATENATE(\"0\",T213),T213))","v":157},null,null,null,null,null,null,null,null,null,null,{"$f":"$AR$21&AF213&$AS$20","v":"=+IMPORTARDATOSDINAMICOS(\" BAS156\";TABLAS!$A$402)"},{"$f":"$AR$21&AG213&$AS$20","v":"=+IMPORTARDATOSDINAMICOS(\" BAS157\";TABLAS!$A$402)"}]
[]
[null,null,"Capacitación dirigida a miembros de comités comunitarios de salud sobre estilo de vida saludable y ambientes saludables en el contexto COVID-19"]
[null,null,null,null,1,2]
[null,null,"Tématica",null,"Nº registros","Nº de participantes "]
[null,58,"Medidas preventivas frente al COVID-19\n(1)",null,{"$f":"+GETPIVOTDATA(\" BAS158\",TABLAS!$A$402)","v":0},{"$f":"+GETPIVOTDATA(\" BAS159\",TABLAS!$A$402)","v":0},null,null,null,null,null,null,null,null,null,null,null,null,{"$f":"+T213+1","v":158},{"$f":"+S218+1","v":159},null,null,null,null,null,null,null,null,null,null,null,{"$f":"IF(LEN(S218)=1,CONCATENATE(\"00\",S218),IF(LEN(S218)=2,CONCATENATE(\"0\",S218),S218))","v":158},159,null,null,null,null,null,null,null,null,null,null,{"$f":"$AR$21&AF218&$AS$20","v":"=+IMPORTARDATOSDINAMICOS(\" BAS158\";TABLAS!$A$402)"},"=+IMPORTARDATOSDINAMICOS(\" BAS159\";TABLAS!$A$402)"]
[null,59,"Correcto uso del pulsioxímetros\n(2)",null,{"$f":"+GETPIVOTDATA(\" BAS160\",TABLAS!$A$402)","v":0},{"$f":"+GETPIVOTDATA(\" BAS161\",TABLAS!$A$402)","v":0},null,null,null,null,null,null,null,null,null,null,null,null,{"$f":"+T218+1","v":160},{"$f":"+S219+1","v":161},null,null,null,null,null,null,null,null,null,null,null,160,161,null,null,null,null,null,null,null,null,null,null,"=+IMPORTARDATOSDINAMICOS(\" BAS160\";TABLAS!$A$402)","=+IMPORTARDATOSDINAMICOS(\" BAS161\";TABLAS!$A$402)"]
[null,60,"Autocuidado\n(3)",null,{"$f":"+GETPIVOTDATA(\" BAS162\",TABLAS!$A$402)","v":0},{"$f":"+GETPIVOTDATA(\" BAS163\",TABLAS!$A$402)","v":0},null,null,null,null,null,null,null,null,null,null,null,null,{"$f":"+T219+1","v":162},163,null,null,null,null,null,null,null,null,null,null,null,162,163,null,null,null,null,null,null,null,null,null,null,"=+IMPORTARDATOSDINAMICOS(\" BAS162\";TABLAS!$A$402)","=+IMPORTARDATOSDINAMICOS(\" BAS163\";TABLAS!$A$402)"]
[null,61,"Alimentación Saludable y Estilos de vida saludable\n(4)",null,{"$f":"+GETPIVOTDATA(\" BAS164\",TABLAS!$A$402)","v":0},{"$f":"+GETPIVOTDATA(\" BAS165\",TABLAS!$A$402)","v":0},null,null,null,null,null,null,null,null,null,null,null,null,164,165,null,null,null,null,null,null,null,null,null,null,null,164,165,null,null,null,null,null,null,null,null,null,null,"=+IMPORTARDATOSDINAMICOS(\" BAS164\";TABLAS!$A$402)","=+IMPORTARDATOSDINAMICOS(\" BAS165\";TABLAS!$A$402)"]
[null,62,"Esquema de vacunación\n(5)",null,{"$f":"+GETPIVOTDATA(\" BAS166\",TABLAS!$A$402)","v":0},{"$f":"+GETPIVOTDATA(\" BAS167\",TABLAS!$A$402)","v":0},null,null,null,null,null,null,null,null,null,null,null,null,166,167,null,null,null,null,null,null,null,null,null,null,null,166,167,null,null,null,null,null,null,null,null,null,null,"=+IMPORTARDATOSDINAMICOS(\" BAS166\";TABLAS!$A$402)","=+IMPORTARDATOSDINAMICOS(\" BAS167\";TABLAS!$A$402)"]
[null,63,"Cuidado de PAMARs y PCDs con COVID en casa\n(6)",null,{"$f":"+GETPIVOTDATA(\" BAS168\",TABLAS!$A$402)","v":0},{"$f":"+GETPIVOTDATA(\" BAS169\",TABLAS!$A$402)","v":0},null,null,null,null,null,null,null,null,null,null,null,null,168,169,null,null,null,null,null,null,null,null,null,null,null,168,169,null,null,null,null,null,null,null,null,null,null,"=+IMPORTARDATOSDINAMICOS(\" BAS168\";TABLAS!$A$402)","=+IMPORTARDATOSDINAMICOS(\" BAS169\";TABLAS!$A$402)"]
[null,64,"TRAZADOR ",null,{"$f":"+GETPIVOTDATA(\" BAS170\",TABLAS!$A$402)","v":0},null,null,null,null,null,null,null,null,null,null,null,null,null,170,null,null,null,null,null,null,null,null,null,null,null,null,170,0,null,null,null,null,null,null,null,null,null,null,{"$f":"$AR$21&AF224&$AS$20","v":"=+IMPORTARDATOSDINAMICOS(\" BAS170\";TABLAS!$A$402)"}]
[]
[null,null,"SESIONES DEMOSTRATIVAS EN LAVADO DE MANOS SOCIAL"]
[null,null,null,1,2]
[null,null,"Grupo ",null,null,"Nº ","Nº de participantes "]
[null,1,"APP138 Actividad con Agentes Comunitarios de Salud",null,null,{"$f":"+GETPIVOTDATA(\" BAS171\",TABLAS!$A$402)","v":2},{"$f":"+GETPIVOTDATA(\" BAS172\",TABLAS!$A$402)","v":11},null,null,null,null,null,null,null,null,null,null,null,{"$f":"+S224+1","v":171},{"$f":"+S229+1","v":172},null,null,null,null,null,null,null,null,null,null,null,{"$f":"IF(LEN(S229)=1,CONCATENATE(\"00\",S229),IF(LEN(S229)=2,CONCATENATE(\"0\",S229),S229))","v":171},172,null,null,null,null,null,null,null,null,null,null,{"$f":"$AR$21&AF229&$AS$20","v":"=+IMPORTARDATOSDINAMICOS(\" BAS171\";TABLAS!$A$402)"},"=+IMPORTARDATOSDINAMICOS(\" BAS172\";TABLAS!$A$402)"]
[null,2,"APP150 Actividad con Autoridades y lideres comunales",null,null,{"$f":"+GETPIVOTDATA(\" BAS173\",TABLAS!$A$402)","v":0},{"$f":"+GETPIVOTDATA(\" BAS174\",TABLAS!$A$402)","v":0},null,null,null,null,null,null,null,null,null,null,null,{"$f":"+T229+1","v":173},{"$f":"+S230+1","v":174},null,null,null,null,null,null,null,null,null,null,null,173,174,null,null,null,null,null,null,null,null,null,null,"=+IMPORTARDATOSDINAMICOS(\" BAS173\";TABLAS!$A$402)","=+IMPORTARDATOSDINAMICOS(\" BAS174\";TABLAS!$A$402)"]
[null,3,"APP108 Actividad en Comunidad",null,null,{"$f":"+GETPIVOTDATA(\" BAS175\",TABLAS!$A$402)","v":0},{"$f":"+GETPIVOTDATA(\" BAS176\",TABLAS!$A$402)","v":0},null,null,null,null,null,null,null,null,null,null,null,{"$f":"+T230+1","v":175},176,null,null,null,null,null,null,null,null,null,null,null,175,176,null,null,null,null,null,null,null,null,null,null,"=+IMPORTARDATOSDINAMICOS(\" BAS175\";TABLAS!$A$402)","=+IMPORTARDATOSDINAMICOS(\" BAS176\";TABLAS!$A$402)"]
[null,4,"APP93 Actividad en instituciones Educativas",null,null,{"$f":"+GETPIVOTDATA(\" BAS177\",TABLAS!$A$402)","v":0},{"$f":"+GETPIVOTDATA(\" BAS178\",TABLAS!$A$402)","v":0},null,null,null,null,null,null,null,null,null,null,null,177,178,null,null,null,null,null,null,null,null,null,null,null,177,178,null,null,null,null,null,null,null,null,null,null,"=+IMPORTARDATOSDINAMICOS(\" BAS177\";TABLAS!$A$402)","=+IMPORTARDATOSDINAMICOS(\" BAS178\";TABLAS!$A$402)"]
[]
[null,"5. ACTIVIDADES DE PROMOCIÓN DE LA SALUD EN ESCENARIO CENTROS\n LABORALES"]
[]
[null,null,"Reunión de sensibilización con directivos de los establecimientos"]
[null,null,null,1]
[null,null,"institución donde se interviene",null,null,null,"Asitencia Técnica"]
[null,65,"1= Instituciones Prestadoras de servicios de Salud (IPRESS) públicas:",null,null,null,{"$f":"+GETPIVOTDATA(\" BAS179\",TABLAS!$A$402)","v":0},null,null,null,null,null,null,null,null,null,null,null,{"$f":"+T232+1","v":179},null,null,null,null,null,null,null,null,null,null,null,null,{"$f":"IF(LEN(S239)=1,CONCATENATE(\"00\",S239),IF(LEN(S239)=2,CONCATENATE(\"0\",S239),S239))","v":179},null,null,null,null,null,null,null,null,null,null,null,{"$f":"$AR$21&AF239&$AS$20","v":"=+IMPORTARDATOSDINAMICOS(\" BAS179\";TABLAS!$A$402)"}]
[null,66,"2= Instituciones Prestadoras de servicios de Salud (IPRESS) privadas:",null,null,null,{"$f":"+GETPIVOTDATA(\" BAS180\",TABLAS!$A$402)","v":0},null,null,null,null,null,null,null,null,null,null,null,{"$f":"+S239+1","v":180},null,null,null,null,null,null,null,null,null,null,null,null,180,null,null,null,null,null,null,null,null,null,null,null,{"$f":"$AR$21&AF240&$AS$20","v":"=+IMPORTARDATOSDINAMICOS(\" BAS180\";TABLAS!$A$402)"}]
[null,67,"3= Instituciones No Prestadoras de servicios de salud públicas:",null,null,null,{"$f":"+GETPIVOTDATA(\" BAS181\",TABLAS!$A$402)","v":0},null,null,null,null,null,null,null,null,null,null,null,{"$f":"+S240+1","v":181},null,null,null,null,null,null,null,null,null,null,null,null,181,null,null,null,null,null,null,null,null,null,null,null,{"$f":"$AR$21&AF241&$AS$20","v":"=+IMPORTARDATOSDINAMICOS(\" BAS181\";TABLAS!$A$402)"}]
[null,68,"4= Instituciones No Prestadoras de servicios de salud privadas.",null,null,null,{"$f":"+GETPIVOTDATA(\" BAS182\",TABLAS!$A$402)","v":0},null,null,null,null,null,null,null,null,null,null,null,182,null,null,null,null,null,null,null,null,null,null,null,null,182,null,null,null,null,null,null,null,null,null,null,null,{"$f":"$AR$21&AF242&$AS$20","v":"=+IMPORTARDATOSDINAMICOS(\" BAS182\";TABLAS!$A$402)"}]
[]
[null,null,"Reunión de coordinación con el Comité de lactancia materna de la institución (o quien haga sus veces"]
[]
[null,null,null,null,null,null,1]
[null,null,"institución donde se interviene",null,null,null,"Asitencia Técnica"]
[null,69,"1= Instituciones Prestadoras de servicios de Salud (IPRESS) públicas:",null,null,null,{"$f":"+GETPIVOTDATA(\" BAS183\",TABLAS!$A$402)","v":0},null,null,null,null,null,null,null,null,null,null,null,{"$f":"+S242+1","v":183},null,null,null,null,null,null,null,null,null,null,null,null,{"$f":"IF(LEN(S248)=1,CONCATENATE(\"00\",S248),IF(LEN(S248)=2,CONCATENATE(\"0\",S248),S248))","v":183},null,null,null,null,null,null,null,null,null,null,null,{"$f":"$AR$21&AF248&$AS$20","v":"=+IMPORTARDATOSDINAMICOS(\" BAS183\";TABLAS!$A$402)"}]
[null,70,"2= Instituciones Prestadoras de servicios de Salud (IPRESS) privadas:",null,null,null,{"$f":"+GETPIVOTDATA(\" BAS184\",TABLAS!$A$402)","v":0},null,null,null,null,null,null,null,null,null,null,null,{"$f":"+S248+1","v":184},null,null,null,null,null,null,null,null,null,null,null,null,184,null,null,null,null,null,null,null,null,null,null,null,{"$f":"$AR$21&AF249&$AS$20","v":"=+IMPORTARDATOSDINAMICOS(\" BAS184\";TABLAS!$A$402)"}]
[null,71,"3= Instituciones No Prestadoras de servicios de salud públicas:",null,null,null,{"$f":"+GETPIVOTDATA(\" BAS185\",TABLAS!$A$402)","v":0},null,null,null,null,null,null,null,null,null,null,null,{"$f":"+S249+1","v":185},null,null,null,null,null,null,null,null,null,null,null,null,185,null,null,null,null,null,null,null,null,null,null,null,{"$f":"$AR$21&AF250&$AS$20","v":"=+IMPORTARDATOSDINAMICOS(\" BAS185\";TABLAS!$A$402)"}]
[null,72,"4= Instituciones No Prestadoras de servicios de salud privadas.",null,null,null,{"$f":"+GETPIVOTDATA(\" BAS186\",TABLAS!$A$402)","v":0},null,null,null,null,null,null,null,null,null,null,null,186,null,null,null,null,null,null,null,null,null,null,null,null,186,null,null,null,null,null,null,null,null,null,null,null,{"$f":"$AR$21&AF251&$AS$20","v":"=+IMPORTARDATOSDINAMICOS(\" BAS186\";TABLAS!$A$402)"}]
[]
[null,null,"Taller de planificación participativa para la elaboración del Plan de Trabajo"]
[]
[null,null,null,null,null,null,1]
[null,null,"institución donde se interviene",null,null,null,"Asitencia Técnica"]
[null,73,"1= Instituciones Prestadoras de servicios de Salud (IPRESS) públicas:",null,null,null,{"$f":"+GETPIVOTDATA(\" BAS187\",TABLAS!$A$402)","v":0},null,null,null,null,null,null,null,null,null,null,null,{"$f":"+S251+1","v":187},null,null,null,null,null,null,null,null,null,null,null,null,{"$f":"IF(LEN(S257)=1,CONCATENATE(\"00\",S257),IF(LEN(S257)=2,CONCATENATE(\"0\",S257),S257))","v":187},null,null,null,null,null,null,null,null,null,null,null,{"$f":"$AR$21&AF257&$AS$20","v":"=+IMPORTARDATOSDINAMICOS(\" BAS187\";TABLAS!$A$402)"}]
[null,74,"2= Instituciones Prestadoras de servicios de Salud (IPRESS) privadas:",null,null,null,{"$f":"+GETPIVOTDATA(\" BAS188\",TABLAS!$A$402)","v":0},null,null,null,null,null,null,null,null,null,null,null,{"$f":"+S257+1","v":188},null,null,null,null,null,null,null,null,null,null,null,null,188,null,null,null,null,null,null,null,null,null,null,null,{"$f":"$AR$21&AF258&$AS$20","v":"=+IMPORTARDATOSDINAMICOS(\" BAS188\";TABLAS!$A$402)"}]
[null,75,"3= Instituciones No Prestadoras de servicios de salud públicas:",null,null,null,{"$f":"+GETPIVOTDATA(\" BAS189\",TABLAS!$A$402)","v":0},null,null,null,null,null,null,null,null,null,null,null,{"$f":"+S258+1","v":189},null,null,null,null,null,null,null,null,null,null,null,null,189,null,null,null,null,null,null,null,null,null,null,null,{"$f":"$AR$21&AF259&$AS$20","v":"=+IMPORTARDATOSDINAMICOS(\" BAS189\";TABLAS!$A$402)"}]
[null,76,"4= Instituciones No Prestadoras de servicios de salud privadas.",null,null,null,{"$f":"+GETPIVOTDATA(\" BAS190\",TABLAS!$A$402)","v":0},null,null,null,null,null,null,null,null,null,null,null,190,null,null,null,null,null,null,null,null,null,null,null,null,190,null,null,null,null,null,null,null,null,null,null,null,{"$f":"$AR$21&AF260&$AS$20","v":"=+IMPORTARDATOSDINAMICOS(\" BAS190\";TABLAS!$A$402)"}]
[]
[null,null,"Asistencia técnica al Comité de Lactancia Materna"]
[null,null,null,null,null,null,1]
[null,null,"institución donde se interviene",null,null,null,"Asitencia Técnica"]
[null,73,"1= Instituciones Prestadoras de servicios de Salud (IPRESS) públicas:",null,null,null,{"$f":"+GETPIVOTDATA(\" BAS191\",TABLAS!$A$402)","v":0},null,null,null,null,null,null,null,null,null,null,null,{"$f":"+S260+1","v":191},null,null,null,null,null,null,null,null,null,null,null,null,{"$f":"IF(LEN(S265)=1,CONCATENATE(\"00\",S265),IF(LEN(S265)=2,CONCATENATE(\"0\",S265),S265))","v":191},null,null,null,null,null,null,null,null,null,null,null,{"$f":"$AR$21&AF265&$AS$20","v":"=+IMPORTARDATOSDINAMICOS(\" BAS191\";TABLAS!$A$402)"}]
[null,74,"2= Instituciones Prestadoras de servicios de Salud (IPRESS) privadas:",null,null,null,{"$f":"+GETPIVOTDATA(\" BAS192\",TABLAS!$A$402)","v":0},null,null,null,null,null,null,null,null,null,null,null,{"$f":"+S265+1","v":192},null,null,null,null,null,null,null,null,null,null,null,null,192,null,null,null,null,null,null,null,null,null,null,null,{"$f":"$AR$21&AF266&$AS$20","v":"=+IMPORTARDATOSDINAMICOS(\" BAS192\";TABLAS!$A$402)"}]
[null,75,"3= Instituciones No Prestadoras de servicios de salud públicas:",null,null,null,{"$f":"+GETPIVOTDATA(\" BAS193\",TABLAS!$A$402)","v":0},null,null,null,null,null,null,null,null,null,null,null,{"$f":"+S266+1","v":193},null,null,null,null,null,null,null,null,null,null,null,null,193,null,null,null,null,null,null,null,null,null,null,null,{"$f":"$AR$21&AF267&$AS$20","v":"=+IMPORTARDATOSDINAMICOS(\" BAS193\";TABLAS!$A$402)"}]
[null,76,"4= Instituciones No Prestadoras de servicios de salud privadas.",null,null,null,{"$f":"+GETPIVOTDATA(\" BAS194\",TABLAS!$A$402)","v":0},null,null,null,null,null,null,null,null,null,null,null,194,null,null,null,null,null,null,null,null,null,null,null,null,194,null,null,null,null,null,null,null,null,null,null,null,{"$f":"$AR$21&AF268&$AS$20","v":"=+IMPORTARDATOSDINAMICOS(\" BAS194\";TABLAS!$A$402)"}]
[]
[null,null,"Reunión de Monitoreo de la implementación de los acuerdos asumidos"]
[null,null,null,null,null,null,null,1,2,3]
[null,null,"institución donde se interviene",null,null,null,null,"Cuando se monitorea solamente la implementación","Cuando se monitorea el funcionamiento","Nº de usuarios"]
[null,77,"1= Instituciones Prestadoras de servicios de Salud (IPRESS) públicas:",null,null,null,null,{"$f":"+GETPIVOTDATA(\" BAS195\",TABLAS!$A$402)","v":0},{"$f":"+GETPIVOTDATA(\" BAS196\",TABLAS!$A$402)","v":0},{"$f":"+GETPIVOTDATA(\" BAS197\",TABLAS!$A$402)","v":0},null,null,null,null,null,null,null,null,{"$f":"+S268+1","v":195},{"$f":"+S273+1","v":196},{"$f":"+T273+1","v":197},null,null,null,null,null,null,null,null,null,null,{"$f":"IF(LEN(S273)=1,CONCATENATE(\"00\",S273),IF(LEN(S273)=2,CONCATENATE(\"0\",S273),S273))","v":195},196,197,null,null,null,null,null,null,null,null,null,{"$f":"$AR$21&AF273&$AS$20","v":"=+IMPORTARDATOSDINAMICOS(\" BAS195\";TABLAS!$A$402)"},"=+IMPORTARDATOSDINAMICOS(\" BAS196\";TABLAS!$A$402)","=+IMPORTARDATOSDINAMICOS(\" BAS197\";TABLAS!$A$402)"]
[null,78,"2= Instituciones Prestadoras de servicios de Salud (IPRESS) privadas:",null,null,null,null,{"$f":"+GETPIVOTDATA(\" BAS198\",TABLAS!$A$402)","v":0},{"$f":"+GETPIVOTDATA(\" BAS199\",TABLAS!$A$402)","v":0},{"$f":"+GETPIVOTDATA(\" BAS200\",TABLAS!$A$402)","v":0},null,null,null,null,null,null,null,null,{"$f":"+U273+1","v":198},{"$f":"+S274+1","v":199},200,null,null,null,null,null,null,null,null,null,null,198,199,200,null,null,null,null,null,null,null,null,null,"=+IMPORTARDATOSDINAMICOS(\" BAS198\";TABLAS!$A$402)","=+IMPORTARDATOSDINAMICOS(\" BAS199\";TABLAS!$A$402)","=+IMPORTARDATOSDINAMICOS(\" BAS200\";TABLAS!$A$402)"]
[null,79,"3= Instituciones No Prestadoras de servicios de salud públicas:",null,null,null,null,{"$f":"+GETPIVOTDATA(\" BAS201\",TABLAS!$A$402)","v":0},{"$f":"+GETPIVOTDATA(\" BAS202\",TABLAS!$A$402)","v":0},{"$f":"+GETPIVOTDATA(\" BAS203\",TABLAS!$A$402)","v":0},null,null,null,null,null,null,null,null,{"$f":"+U274+1","v":201},202,203,null,null,null,null,null,null,null,null,null,null,201,202,203,null,null,null,null,null,null,null,null,null,"=+IMPORTARDATOSDINAMICOS(\" BAS201\";TABLAS!$A$402)","=+IMPORTARDATOSDINAMICOS(\" BAS202\";TABLAS!$A$402)","=+IMPORTARDATOSDINAMICOS(\" BAS203\";TABLAS!$A$402)"]
[null,80,"4= Instituciones No Prestadoras de servicios de salud privadas.",null,null,null,null,{"$f":"+GETPIVOTDATA(\" BAS204\",TABLAS!$A$402)","v":0},{"$f":"+GETPIVOTDATA(\" BAS205\",TABLAS!$A$402)","v":0},{"$f":"+GETPIVOTDATA(\" BAS206\",TABLAS!$A$402)","v":0},null,null,null,null,null,null,null,null,204,205,206,null,null,null,null,null,null,null,null,null,null,204,205,206,null,null,null,null,null,null,null,null,null,"=+IMPORTARDATOSDINAMICOS(\" BAS204\";TABLAS!$A$402)","=+IMPORTARDATOSDINAMICOS(\" BAS205\";TABLAS!$A$402)","=+IMPORTARDATOSDINAMICOS(\" BAS206\";TABLAS!$A$402)"]
[]
[null,null,"Reunión de Evaluación de logros alcanzados"]
[]
[null,null,null,1]
[null,null,"institución donde se interviene",null,null,null,null,"Reunión de evaluación"]
[null,81,"1= Instituciones Prestadoras de servicios de Salud (IPRESS) públicas:",null,null,null,null,{"$f":"+GETPIVOTDATA(\" BAS207\",TABLAS!$A$402)","v":0},null,null,null,null,null,null,null,null,null,null,{"$f":"+U276+1","v":207},null,null,null,null,null,null,null,null,null,null,null,null,{"$f":"IF(LEN(S282)=1,CONCATENATE(\"00\",S282),IF(LEN(S282)=2,CONCATENATE(\"0\",S282),S282))","v":207},null,null,null,null,null,null,null,null,null,null,null,{"$f":"$AR$21&AF282&$AS$20","v":"=+IMPORTARDATOSDINAMICOS(\" BAS207\";TABLAS!$A$402)"}]
[null,82,"2= Instituciones Prestadoras de servicios de Salud (IPRESS) privadas:",null,null,null,null,{"$f":"+GETPIVOTDATA(\" BAS208\",TABLAS!$A$402)","v":0},null,null,null,null,null,null,null,null,null,null,{"$f":"+S282+1","v":208},null,null,null,null,null,null,null,null,null,null,null,null,208,null,null,null,null,null,null,null,null,null,null,null,{"$f":"$AR$21&AF283&$AS$20","v":"=+IMPORTARDATOSDINAMICOS(\" BAS208\";TABLAS!$A$402)"}]
[null,83,"3= Instituciones No Prestadoras de servicios de salud públicas:",null,null,null,null,{"$f":"+GETPIVOTDATA(\" BAS209\",TABLAS!$A$402)","v":0},null,null,null,null,null,null,null,null,null,null,{"$f":"+S283+1","v":209},null,null,null,null,null,null,null,null,null,null,null,null,209,null,null,null,null,null,null,null,null,null,null,null,{"$f":"$AR$21&AF284&$AS$20","v":"=+IMPORTARDATOSDINAMICOS(\" BAS209\";TABLAS!$A$402)"}]
[null,84,"4= Instituciones No Prestadoras de servicios de salud privadas.",null,null,null,null,{"$f":"+GETPIVOTDATA(\" BAS210\",TABLAS!$A$402)","v":0},null,null,null,null,null,null,null,null,null,null,210,null,null,null,null,null,null,null,null,null,null,null,null,210,null,null,null,null,null,null,null,null,null,null,null,{"$f":"$AR$21&AF285&$AS$20","v":"=+IMPORTARDATOSDINAMICOS(\" BAS210\";TABLAS!$A$402)"}]
[]
[null,null,"Campaña de Recojo y Eliminación de Criaderos en Centros Laborales",null,null,null,"usp_TRAMA_BASE_PROMSA_RPT08_OTRAS_7_6"]
[]
[null,null,null,1,2,3,4,5,6,7,8,9,10,11,12]
[null,null,null,"DENGUE",null,null,null,"CHIKUNGUNYA",null,null,null,"ZIKA",null,null,null,null,null,null,null,null,null,null,null,null,null,null,null,null,null,null,null,null,null,null,null,null,null,null,null,null,null,null,null,null,"\";TABLAS!$A$433)"]
[null,null,null,"Campaña 1",null,"Campaña 2",null,"Campaña 1",null,"Campaña 2",null,"Campaña 1",null,"Campaña 2",null,null,null,null,null,null,null,null,null,null,null,null,null,null,null,null,null,null,null,null,null,null,null,null,null,null,null,null,null,"=+IMPORTARDATOSDINAMICOS(\" BAS"]
[null,null,null,"Nº","Toneladas de Criadero","Nº","Toneladas de Criadero","Nº","Toneladas de Criadero","Nº","Toneladas de Criadero","Nº","Toneladas de Criadero","Nº","Toneladas de Criadero"]
[null,85,"Establecimientos de salud",{"$f":"+GETPIVOTDATA(\" BAS001\",TABLAS!$A$433)","v":0},{"$f":"+GETPIVOTDATA(\" BAS002\",TABLAS!$A$433)","v":0},{"$f":"+GETPIVOTDATA(\" BAS003\",TABLAS!$A$433)","v":0},{"$f":"+GETPIVOTDATA(\" BAS004\",TABLAS!$A$433)","v":0},{"$f":"+GETPIVOTDATA(\" BAS005\",TABLAS!$A$433)","v":0},{"$f":"+GETPIVOTDATA(\" BAS006\",TABLAS!$A$433)","v":0},{"$f":"+GETPIVOTDATA(\" BAS007\",TABLAS!$A$433)","v":0},{"$f":"+GETPIVOTDATA(\" BAS008\",TABLAS!$A$433)","v":0},{"$f":"+GETPIVOTDATA(\" BAS009\",TABLAS!$A$433)","v":0},{"$f":"+GETPIVOTDATA(\" BAS010\",TABLAS!$A$433)","v":0},{"$f":"+GETPIVOTDATA(\" BAS011\",TABLAS!$A$433)","v":0},{"$f":"+GETPIVOTDATA(\" BAS012\",TABLAS!$A$433)","v":0},null,null,null,1,{"$f":"+S293+1","v":2},{"$f":"+T293+1","v":3},{"$f":"+U293+1","v":4},5,6,7,8,9,10,11,12,null,{"$f":"IF(LEN(S293)=1,CONCATENATE(\"00\",S293),IF(LEN(S293)=2,CONCATENATE(\"0\",S293),S293))","v":"001"},"002","003","004","005","006","007","008","009","010","011","012",{"$f":"$AR$291&AF293&$AS$290","v":"=+IMPORTARDATOSDINAMICOS(\" BAS001\";TABLAS!$A$433)"},{"$f":"$AR$291&AG293&$AS$290","v":"=+IMPORTARDATOSDINAMICOS(\" BAS002\";TABLAS!$A$433)"},"=+IMPORTARDATOSDINAMICOS(\" BAS003\";TABLAS!$A$433)","=+IMPORTARDATOSDINAMICOS(\" BAS004\";TABLAS!$A$433)","=+IMPORTARDATOSDINAMICOS(\" BAS005\";TABLAS!$A$433)","=+IMPORTARDATOSDINAMICOS(\" BAS006\";TABLAS!$A$433)","=+IMPORTARDATOSDINAMICOS(\" BAS007\";TABLAS!$A$433)","=+IMPORTARDATOSDINAMICOS(\" BAS008\";TABLAS!$A$433)","=+IMPORTARDATOSDINAMICOS(\" BAS009\";TABLAS!$A$433)","=+IMPORTARDATOSDINAMICOS(\" BAS010\";TABLAS!$A$433)","=+IMPORTARDATOSDINAMICOS(\" BAS011\";TABLAS!$A$433)",{"$f":"$AR$291&AQ293&$AS$290","v":"=+IMPORTARDATOSDINAMICOS(\" BAS012\";TABLAS!$A$433)"}]
[null,86,"Comisarias",{"$f":"+GETPIVOTDATA(\" BAS013\",TABLAS!$A$433)","v":0},{"$f":"+GETPIVOTDATA(\" BAS014\",TABLAS!$A$433)","v":0},{"$f":"+GETPIVOTDATA(\" BAS015\",TABLAS!$A$433)","v":0},{"$f":"+GETPIVOTDATA(\" BAS016\",TABLAS!$A$433)","v":0},{"$f":"+GETPIVOTDATA(\" BAS017\",TABLAS!$A$433)","v":0},{"$f":"+GETPIVOTDATA(\" BAS018\",TABLAS!$A$433)","v":0},{"$f":"+GETPIVOTDATA(\" BAS019\",TABLAS!$A$433)","v":0},{"$f":"+GETPIVOTDATA(\" BAS020\",TABLAS!$A$433)","v":0},{"$f":"+GETPIVOTDATA(\" BAS021\",TABLAS!$A$433)","v":0},{"$f":"+GETPIVOTDATA(\" BAS022\",TABLAS!$A$433)","v":0},{"$f":"+GETPIVOTDATA(\" BAS023\",TABLAS!$A$433)","v":0},{"$f":"+GETPIVOTDATA(\" BAS024\",TABLAS!$A$433)","v":0},null,null,null,{"$f":"+AD293+1","v":13},{"$f":"+S294+1","v":14},15,16,17,18,19,20,21,22,23,24,null,"013","014","015","016","017","018","019","020","021","022","023","024",{"$f":"$AR$291&AF294&$AS$290","v":"=+IMPORTARDATOSDINAMICOS(\" BAS013\";TABLAS!$A$433)"},"=+IMPORTARDATOSDINAMICOS(\" BAS014\";TABLAS!$A$433)","=+IMPORTARDATOSDINAMICOS(\" BAS015\";TABLAS!$A$433)","=+IMPORTARDATOSDINAMICOS(\" BAS016\";TABLAS!$A$433)","=+IMPORTARDATOSDINAMICOS(\" BAS017\";TABLAS!$A$433)","=+IMPORTARDATOSDINAMICOS(\" BAS018\";TABLAS!$A$433)","=+IMPORTARDATOSDINAMICOS(\" BAS019\";TABLAS!$A$433)","=+IMPORTARDATOSDINAMICOS(\" BAS020\";TABLAS!$A$433)","=+IMPORTARDATOSDINAMICOS(\" BAS021\";TABLAS!$A$433)","=+IMPORTARDATOSDINAMICOS(\" BAS022\";TABLAS!$A$433)","=+IMPORTARDATOSDINAMICOS(\" BAS023\";TABLAS!$A$433)","=+IMPORTARDATOSDINAMICOS(\" BAS024\";TABLAS!$A$433)"]
[null,87,"Penales",{"$f":"+GETPIVOTDATA(\" BAS025\",TABLAS!$A$433)","v":0},{"$f":"+GETPIVOTDATA(\" BAS026\",TABLAS!$A$433)","v":0},{"$f":"+GETPIVOTDATA(\" BAS027\",TABLAS!$A$433)","v":0},{"$f":"+GETPIVOTDATA(\" BAS028\",TABLAS!$A$433)","v":0},{"$f":"+GETPIVOTDATA(\" BAS029\",TABLAS!$A$433)","v":0},{"$f":"+GETPIVOTDATA(\" BAS030\",TABLAS!$A$433)","v":0},{"$f":"+GETPIVOTDATA(\" BAS031\",TABLAS!$A$433)","v":0},{"$f":"+GETPIVOTDATA(\" BAS032\",TABLAS!$A$433)","v":0},{"$f":"+GETPIVOTDATA(\" BAS033\",TABLAS!$A$433)","v":0},{"$f":"+GETPIVOTDATA(\" BAS034\",TABLAS!$A$433)","v":0},{"$f":"+GETPIVOTDATA(\" BAS035\",TABLAS!$A$433)","v":0},{"$f":"+GETPIVOTDATA(\" BAS036\",TABLAS!$A$433)","v":0},null,null,null,{"$f":"+AD294+1","v":25},26,27,28,29,30,31,32,33,34,35,36,null,"025","026","027","028","029","030","031","032","033","034","035","036","=+IMPORTARDATOSDINAMICOS(\" BAS025\";TABLAS!$A$433)","=+IMPORTARDATOSDINAMICOS(\" BAS026\";TABLAS!$A$433)","=+IMPORTARDATOSDINAMICOS(\" BAS027\";TABLAS!$A$433)","=+IMPORTARDATOSDINAMICOS(\" BAS028\";TABLAS!$A$433)","=+IMPORTARDATOSDINAMICOS(\" BAS029\";TABLAS!$A$433)","=+IMPORTARDATOSDINAMICOS(\" BAS030\";TABLAS!$A$433)","=+IMPORTARDATOSDINAMICOS(\" BAS031\";TABLAS!$A$433)","=+IMPORTARDATOSDINAMICOS(\" BAS032\";TABLAS!$A$433)","=+IMPORTARDATOSDINAMICOS(\" BAS033\";TABLAS!$A$433)","=+IMPORTARDATOSDINAMICOS(\" BAS034\";TABLAS!$A$433)","=+IMPORTARDATOSDINAMICOS(\" BAS035\";TABLAS!$A$433)","=+IMPORTARDATOSDINAMICOS(\" BAS036\";TABLAS!$A$433)"]
[null,88,"Centros Laborales privados ",{"$f":"+GETPIVOTDATA(\" BAS037\",TABLAS!$A$433)","v":0},{"$f":"+GETPIVOTDATA(\" BAS038\",TABLAS!$A$433)","v":0},{"$f":"+GETPIVOTDATA(\" BAS039\",TABLAS!$A$433)","v":0},{"$f":"+GETPIVOTDATA(\" BAS040\",TABLAS!$A$433)","v":0},{"$f":"+GETPIVOTDATA(\" BAS041\",TABLAS!$A$433)","v":0},{"$f":"+GETPIVOTDATA(\" BAS042\",TABLAS!$A$433)","v":0},{"$f":"+GETPIVOTDATA(\" BAS043\",TABLAS!$A$433)","v":0},{"$f":"+GETPIVOTDATA(\" BAS044\",TABLAS!$A$433)","v":0},{"$f":"+GETPIVOTDATA(\" BAS045\",TABLAS!$A$433)","v":0},{"$f":"+GETPIVOTDATA(\" BAS046\",TABLAS!$A$433)","v":0},{"$f":"+GETPIVOTDATA(\" BAS047\",TABLAS!$A$433)","v":0},{"$f":"+GETPIVOTDATA(\" BAS048\",TABLAS!$A$433)","v":0},null,null,null,37,38,39,40,41,42,43,44,45,46,47,48,null,"037","038","039","040","041","042","043","044","045","046","047","048","=+IMPORTARDATOSDINAMICOS(\" BAS037\";TABLAS!$A$433)","=+IMPORTARDATOSDINAMICOS(\" BAS038\";TABLAS!$A$433)","=+IMPORTARDATOSDINAMICOS(\" BAS039\";TABLAS!$A$433)","=+IMPORTARDATOSDINAMICOS(\" BAS040\";TABLAS!$A$433)","=+IMPORTARDATOSDINAMICOS(\" BAS041\";TABLAS!$A$433)","=+IMPORTARDATOSDINAMICOS(\" BAS042\";TABLAS!$A$433)","=+IMPORTARDATOSDINAMICOS(\" BAS043\";TABLAS!$A$433)","=+IMPORTARDATOSDINAMICOS(\" BAS044\";TABLAS!$A$433)","=+IMPORTARDATOSDINAMICOS(\" BAS045\";TABLAS!$A$433)","=+IMPORTARDATOSDINAMICOS(\" BAS046\";TABLAS!$A$433)","=+IMPORTARDATOSDINAMICOS(\" BAS047\";TABLAS!$A$433)","=+IMPORTARDATOSDINAMICOS(\" BAS048\";TABLAS!$A$433)"]
[]
[null,"6. ACTIVIDADES DE PROMOCIÓN DE LA SALUD EN ESCENARIO MUNICIPIOS"]
[]
[null,"Ejecución de ferias de proyectos productivos a cargo de la Municipalidad, acompañado por el personal de salud para promover la alimentación saludable en las familias.",null,null,null,null,null,null,null,null,null,"usp_TRAMA_BASE_PROMSA_RPT08_OTRAS_8_6"]
[null,null,null,1,2,3,4]
[null,null,null,"FONCODES",null,"SIN FONCODES"]
[null,null,null,"N°","N° DE FAMILIAS ","N°","N° DE FAMILIAS "]
[null,89,"1: Cuyes",{"$f":"+GETPIVOTDATA(\" BAS049\",TABLAS!$A$433)","v":0},{"$f":"+GETPIVOTDATA(\" BAS050\",TABLAS!$A$433)","v":0},{"$f":"+GETPIVOTDATA(\" BAS051\",TABLAS!$A$433)","v":0},{"$f":"+GETPIVOTDATA(\" BAS052\",TABLAS!$A$433)","v":0},null,null,null,null,null,null,null,null,null,null,null,{"$f":"+AD296+1","v":49},{"$f":"+S304+1","v":50},{"$f":"+T304+1","v":51},{"$f":"+U304+1","v":52},null,null,null,null,null,null,null,null,null,{"$f":"IF(LEN(S304)=1,CONCATENATE(\"00\",S304),IF(LEN(S304)=2,CONCATENATE(\"0\",S304),S304))","v":"049"},"050","051","052",null,null,null,null,null,null,null,null,{"$f":"$AR$291&AF304&$AS$290","v":"=+IMPORTARDATOSDINAMICOS(\" BAS049\";TABLAS!$A$433)"},"=+IMPORTARDATOSDINAMICOS(\" BAS050\";TABLAS!$A$433)","=+IMPORTARDATOSDINAMICOS(\" BAS051\";TABLAS!$A$433)","=+IMPORTARDATOSDINAMICOS(\" BAS052\";TABLAS!$A$433)"]
[null,90,"2: Gallinas /huevos de corral",{"$f":"+GETPIVOTDATA(\" BAS053\",TABLAS!$A$433)","v":0},{"$f":"+GETPIVOTDATA(\" BAS054\",TABLAS!$A$433)","v":0},{"$f":"+GETPIVOTDATA(\" BAS055\",TABLAS!$A$433)","v":0},{"$f":"+GETPIVOTDATA(\" BAS056\",TABLAS!$A$433)","v":0},null,null,null,null,null,null,null,null,null,null,null,{"$f":"+V304+1","v":53},{"$f":"+S305+1","v":54},55,56,null,null,null,null,null,null,null,null,null,"053","054","055","056",null,null,null,null,null,null,null,null,"=+IMPORTARDATOSDINAMICOS(\" BAS053\";TABLAS!$A$433)","=+IMPORTARDATOSDINAMICOS(\" BAS054\";TABLAS!$A$433)","=+IMPORTARDATOSDINAMICOS(\" BAS055\";TABLAS!$A$433)","=+IMPORTARDATOSDINAMICOS(\" BAS056\";TABLAS!$A$433)"]
[null,91,"3: Cerdos",{"$f":"+GETPIVOTDATA(\" BAS057\",TABLAS!$A$433)","v":0},{"$f":"+GETPIVOTDATA(\" BAS058\",TABLAS!$A$433)","v":0},{"$f":"+GETPIVOTDATA(\" BAS059\",TABLAS!$A$433)","v":0},{"$f":"+GETPIVOTDATA(\" BAS060\",TABLAS!$A$433)","v":0},null,null,null,null,null,null,null,null,null,null,null,{"$f":"+V305+1","v":57},58,59,60,null,null,null,null,null,null,null,null,null,"057","058","059","060",null,null,null,null,null,null,null,null,"=+IMPORTARDATOSDINAMICOS(\" BAS057\";TABLAS!$A$433)","=+IMPORTARDATOSDINAMICOS(\" BAS058\";TABLAS!$A$433)","=+IMPORTARDATOSDINAMICOS(\" BAS059\";TABLAS!$A$433)","=+IMPORTARDATOSDINAMICOS(\" BAS060\";TABLAS!$A$433)"]
[null,92,"4: Peces (truchas)",{"$f":"+GETPIVOTDATA(\" BAS061\",TABLAS!$A$433)","v":0},{"$f":"+GETPIVOTDATA(\" BAS062\",TABLAS!$A$433)","v":0},{"$f":"+GETPIVOTDATA(\" BAS063\",TABLAS!$A$433)","v":0},{"$f":"+GETPIVOTDATA(\" BAS064\",TABLAS!$A$433)","v":0},null,null,null,null,null,null,null,null,null,null,null,61,62,63,64,null,null,null,null,null,null,null,null,null,"061","062","063","064",null,null,null,null,null,null,null,null,"=+IMPORTARDATOSDINAMICOS(\" BAS061\";TABLAS!$A$433)","=+IMPORTARDATOSDINAMICOS(\" BAS062\";TABLAS!$A$433)","=+IMPORTARDATOSDINAMICOS(\" BAS063\";TABLAS!$A$433)","=+IMPORTARDATOSDINAMICOS(\" BAS064\";TABLAS!$A$433)"]
[null,93,"5: Proyectos productivos hortalizas",{"$f":"+GETPIVOTDATA(\" BAS065\",TABLAS!$A$433)","v":0},{"$f":"+GETPIVOTDATA(\" BAS066\",TABLAS!$A$433)","v":0},{"$f":"+GETPIVOTDATA(\" BAS067\",TABLAS!$A$433)","v":0},{"$f":"+GETPIVOTDATA(\" BAS068\",TABLAS!$A$433)","v":0},null,null,null,null,null,null,null,null,null,null,null,65,{"$f":"+S308+1","v":66},{"$f":"+T308+1","v":67},68,null,null,null,null,null,null,null,null,null,"065","066","067","068",null,null,null,null,null,null,null,null,"=+IMPORTARDATOSDINAMICOS(\" BAS065\";TABLAS!$A$433)","=+IMPORTARDATOSDINAMICOS(\" BAS066\";TABLAS!$A$433)","=+IMPORTARDATOSDINAMICOS(\" BAS067\";TABLAS!$A$433)","=+IMPORTARDATOSDINAMICOS(\" BAS068\";TABLAS!$A$433)"]
[null,94,"6: Otros",{"$f":"+GETPIVOTDATA(\" BAS069\",TABLAS!$A$433)","v":0},{"$f":"+GETPIVOTDATA(\" BAS070\",TABLAS!$A$433)","v":0},{"$f":"+GETPIVOTDATA(\" BAS071\",TABLAS!$A$433)","v":0},{"$f":"+GETPIVOTDATA(\" BAS072\",TABLAS!$A$433)","v":0},null,null,null,null,null,null,null,null,null,null,null,69,{"$f":"+S309+1","v":70},71,72,null,null,null,null,null,null,null,null,null,"069","070","071","072",null,null,null,null,null,null,null,null,"=+IMPORTARDATOSDINAMICOS(\" BAS069\";TABLAS!$A$433)","=+IMPORTARDATOSDINAMICOS(\" BAS070\";TABLAS!$A$433)","=+IMPORTARDATOSDINAMICOS(\" BAS071\";TABLAS!$A$433)","=+IMPORTARDATOSDINAMICOS(\" BAS072\";TABLAS!$A$433)"]
[]
[null,"Reunión de coordinación con el gobierno local para la implementación de medidas de prevención y de control de la infección por covid-19 y otros temas prioritarios de políticas del sector"]
[null,null,null,1]
[null,null,null,null,null,null,null,"Reunión en municipio"]
[null,85,"1= Si la reunión se realiza para fines relacionados con la Red de Soporte\nde la PAMAR y PcDS.",null,null,null,null,{"$f":"+GETPIVOTDATA(\" BAS073\",TABLAS!$A$433)","v":0},null,null,null,null,null,null,null,null,null,null,{"$f":"+V309+1","v":73},null,null,null,null,null,null,null,null,null,null,null,null,{"$f":"IF(LEN(S314)=1,CONCATENATE(\"00\",S314),IF(LEN(S314)=2,CONCATENATE(\"0\",S314),S314))","v":"073"},null,null,null,null,null,null,null,null,null,null,null,{"$f":"$AR$291&AF314&$AS$290","v":"=+IMPORTARDATOSDINAMICOS(\" BAS073\";TABLAS!$A$433)"}]
[null,86,"2= Si la reunión se realiza para fines relacionados con la regulación del\nfuncionamiento de los mercados de abasto para la prevención y contención\ndel COVID-19 (Meta-6).\n",null,null,null,null,{"$f":"+GETPIVOTDATA(\" BAS074\",TABLAS!$A$433)","v":0},null,null,null,null,null,null,null,null,null,null,{"$f":"+S314+1","v":74},null,null,null,null,null,null,null,null,null,null,null,null,"074",null,null,null,null,null,null,null,null,null,null,null,"=+IMPORTARDATOSDINAMICOS(\" BAS074\";TABLAS!$A$433)"]
[null,87,"3= Si la reunión se realiza para fines relacionados a los Centros de\nAislamiento temporal y seguimiento (CATS)",null,null,null,null,{"$f":"+GETPIVOTDATA(\" BAS075\",TABLAS!$A$433)","v":0},null,null,null,null,null,null,null,null,null,null,{"$f":"+S315+1","v":75},null,null,null,null,null,null,null,null,null,null,null,null,"075",null,null,null,null,null,null,null,null,null,null,null,"=+IMPORTARDATOSDINAMICOS(\" BAS075\";TABLAS!$A$433)"]
[null,88,"4= Si la reunión se realiza para fines relacionados con la Meta-4.",null,null,null,null,{"$f":"+GETPIVOTDATA(\" BAS076\",TABLAS!$A$433)","v":0},null,null,null,null,null,null,null,null,null,null,76,null,null,null,null,null,null,null,null,null,null,null,null,"076",null,null,null,null,null,null,null,null,null,null,null,"=+IMPORTARDATOSDINAMICOS(\" BAS076\";TABLAS!$A$433)"]
[]
[null,"Sesiones educativas y demostrativas sobre medidas de prevención para prevenir la transmisión del COVID-19 en mercados de abasto y espacios temporales habilitados."]
[]
[null,null,null,null,null,null,null,null,1,2]
[null,null,"Según publico objetivo ",null,null,null,null,null,"Nº registros","Nº de participantes "]
[null,89,"Dirigido al público que asiste al mercado\n(1)",null,null,null,null,null,{"$f":"+GETPIVOTDATA(\" BAS077\",TABLAS!$A$433)","v":0},{"$f":"+GETPIVOTDATA(\" BAS078\",TABLAS!$A$433)","v":0},null,null,null,null,null,null,null,null,{"$f":"+S317+1","v":77},{"$f":"+S323+1","v":78},null,null,null,null,null,null,null,null,null,null,null,{"$f":"IF(LEN(S323)=1,CONCATENATE(\"00\",S323),IF(LEN(S323)=2,CONCATENATE(\"0\",S323),S323))","v":"077"},"078",null,null,null,null,null,null,null,null,null,null,{"$f":"$AR$291&AF323&$AS$290","v":"=+IMPORTARDATOSDINAMICOS(\" BAS077\";TABLAS!$A$433)"},"=+IMPORTARDATOSDINAMICOS(\" BAS078\";TABLAS!$A$433)"]
[null,90,"Dirigido a los trabajadores del mercado\n(2)",null,null,null,null,null,{"$f":"+GETPIVOTDATA(\" BAS079\",TABLAS!$A$433)","v":0},{"$f":"+GETPIVOTDATA(\" BAS080\",TABLAS!$A$433)","v":0},null,null,null,null,null,null,null,null,{"$f":"+T323+1","v":79},{"$f":"+S324+1","v":80},null,null,null,null,null,null,null,null,null,null,null,"079","080",null,null,null,null,null,null,null,null,null,null,"=+IMPORTARDATOSDINAMICOS(\" BAS079\";TABLAS!$A$433)","=+IMPORTARDATOSDINAMICOS(\" BAS080\";TABLAS!$A$433)"]
[]
[null,"Asistencia técnica a miembros del comité de autocontrol sanitario (CAS) y/o dirigentes de los mercados para la implementación de medidas de prevención y de control de la infección por COVID-19"]
[]
[null,null,null,null,null,null,null,null,1,2]
[null,null,"Según publico objetivo ",null,null,null,null,null,"Nº registros","Nº de CAS"]
[null,91,"1= Si la asistencia técnica se brinda a miembros del comité de autocontrol sanitario\n(CAS) y/o dirigentes de los mercados de abasto incluidos en la Meta 6.",null,null,null,null,null,{"$f":"+GETPIVOTDATA(\" BAS081\",TABLAS!$A$433)","v":0},{"$f":"+GETPIVOTDATA(\" BAS082\",TABLAS!$A$433)","v":0},null,null,null,null,null,null,null,null,{"$f":"+T324+1","v":81},{"$f":"+S330+1","v":82},null,null,null,null,null,null,null,null,null,null,null,{"$f":"IF(LEN(S330)=1,CONCATENATE(\"00\",S330),IF(LEN(S330)=2,CONCATENATE(\"0\",S330),S330))","v":"081"},"082",null,null,null,null,null,null,null,null,null,null,{"$f":"$AR$291&AF330&$AS$290","v":"=+IMPORTARDATOSDINAMICOS(\" BAS081\";TABLAS!$A$433)"},"=+IMPORTARDATOSDINAMICOS(\" BAS082\";TABLAS!$A$433)"]
[null,92,"2= Si la asistencia técnica se brinda a miembros del comité de autocontrol sanitario\n(CAS) y/o dirigentes de los mercados de abasto NO incluidos en la Meta 6",null,null,null,null,null,{"$f":"+GETPIVOTDATA(\" BAS083\",TABLAS!$A$433)","v":0},{"$f":"+GETPIVOTDATA(\" BAS084\",TABLAS!$A$433)","v":0},null,null,null,null,null,null,null,null,{"$f":"+T330+1","v":83},{"$f":"+S331+1","v":84},null,null,null,null,null,null,null,null,null,null,null,"083","084",null,null,null,null,null,null,null,null,null,null,"=+IMPORTARDATOSDINAMICOS(\" BAS083\";TABLAS!$A$433)","=+IMPORTARDATOSDINAMICOS(\" BAS084\";TABLAS!$A$433)"]
[]
[null,"7. ACTIVIDADES DE SALUD FAMILIAR"]
[]
[null,null,"APLICACIÓN DE LA FICHA FAMILIAR PARA LA IDENTIFICACIÓN DE LAS NECESIDADES DE SALUD, FACTORES DE RIESGO A NIVEL INDIVIDUAL Y FAMILIAR, DEL ENTORNO Y VIVIENDA."]
[]
[null,null,"Actividad","N° de familias ","NUEVO "]
[null,null,"Aplicación de Ficha Familiar ",{"$f":"+GETPIVOTDATA(\" BAS085\",TABLAS!$A$433)","v":116},null,null,null,null,null,null,null,null,null,null,null,null,null,null,{"$f":"+T331+1","v":85},null,null,null,null,null,null,null,null,null,null,null,null,{"$f":"IF(LEN(S338)=1,CONCATENATE(\"00\",S338),IF(LEN(S338)=2,CONCATENATE(\"0\",S338),S338))","v":"085"},null,null,null,null,null,null,null,null,null,null,null,{"$f":"$AR$291&AF338&$AS$290","v":"=+IMPORTARDATOSDINAMICOS(\" BAS085\";TABLAS!$A$433)"}]
[]
[null,null,"AL TERMINAR DE ENTREGAR A LA FAMILIA LAS INTERVENCIONES PLANIFICADAS EN EL PLAN DE ATENCIÓN INTEGRAL A LA FAMILIA (PAIFAM)"]
[]
[null,null,"Actividad","N° de familias ","NUEVO"]
[null,null,"Termino de PAIFAN",{"$f":"+GETPIVOTDATA(\" BAS086\",TABLAS!$A$433)","v":54},null,null,null,null,null,null,null,null,null,null,null,null,null,null,{"$f":"+S338+1","v":86},null,null,null,null,null,null,null,null,null,null,null,null,{"$f":"IF(LEN(S343)=1,CONCATENATE(\"00\",S343),IF(LEN(S343)=2,CONCATENATE(\"0\",S343),S343))","v":"086"},null,null,null,null,null,null,null,null,null,null,null,{"$f":"$AR$291&AF343&$AS$290","v":"=+IMPORTARDATOSDINAMICOS(\" BAS086\";TABLAS!$A$433)"}]
[]
[null,"8. VIRUELA DEL MONO"]
[]
[]
[null,null,"Asistencia técnica dirigida a autoridades y líderes de la comunidad"]
[]
[null,null,"Publico objetivo",null,null,"Nº","Participantes"]
[null,null,"Docentes (1)",null,null,{"$f":"+GETPIVOTDATA(\" BAS087\",TABLAS!$A$433)","v":0},{"$f":"+GETPIVOTDATA(\" BAS088\",TABLAS!$A$433)","v":0},null,null,null,null,null,null,null,null,null,null,null,{"$f":"+S343+1","v":87},{"$f":"+S351+1","v":88},null,null,null,null,null,null,null,null,null,null,null,{"$f":"IF(LEN(S351)=1,CONCATENATE(\"00\",S351),IF(LEN(S351)=2,CONCATENATE(\"0\",S351),S351))","v":"087"},"088",null,null,null,null,null,null,null,null,null,null,{"$f":"$AR$291&AF351&$AS$290","v":"=+IMPORTARDATOSDINAMICOS(\" BAS087\";TABLAS!$A$433)"},"=+IMPORTARDATOSDINAMICOS(\" BAS088\";TABLAS!$A$433)"]
[null,null,"Funcionarios municipales (2)",null,null,{"$f":"+GETPIVOTDATA(\" BAS089\",TABLAS!$A$433)","v":0},{"$f":"+GETPIVOTDATA(\" BAS090\",TABLAS!$A$433)","v":0},null,null,null,null,null,null,null,null,null,null,null,{"$f":"+T351+1","v":89},{"$f":"+S352+1","v":90},null,null,null,null,null,null,null,null,null,null,null,"089","090",null,null,null,null,null,null,null,null,null,null,"=+IMPORTARDATOSDINAMICOS(\" BAS089\";TABLAS!$A$433)","=+IMPORTARDATOSDINAMICOS(\" BAS090\";TABLAS!$A$433)"]
[null,null,"Agentes comunitarios o actores sociales\n(3)",null,null,{"$f":"+GETPIVOTDATA(\" BAS091\",TABLAS!$A$433)","v":0},{"$f":"+GETPIVOTDATA(\" BAS092\",TABLAS!$A$433)","v":0},null,null,null,null,null,null,null,null,null,null,null,{"$f":"+T352+1","v":91},92,null,null,null,null,null,null,null,null,null,null,null,"091","092",null,null,null,null,null,null,null,null,null,null,"=+IMPORTARDATOSDINAMICOS(\" BAS091\";TABLAS!$A$433)","=+IMPORTARDATOSDINAMICOS(\" BAS092\";TABLAS!$A$433)"]
[null,null,"Comités comunitarios o autoridades de la comunidad (4)",null,null,{"$f":"+GETPIVOTDATA(\" BAS093\",TABLAS!$A$433)","v":0},{"$f":"+GETPIVOTDATA(\" BAS094\",TABLAS!$A$433)","v":0},null,null,null,null,null,null,null,null,null,null,null,93,94,null,null,null,null,null,null,null,null,null,null,null,"093","094",null,null,null,null,null,null,null,null,null,null,"=+IMPORTARDATOSDINAMICOS(\" BAS093\";TABLAS!$A$433)","=+IMPORTARDATOSDINAMICOS(\" BAS094\";TABLAS!$A$433)"]
[null,null,"Familias (5)",null,null,{"$f":"+GETPIVOTDATA(\" BAS095\",TABLAS!$A$433)","v":0},{"$f":"+GETPIVOTDATA(\" BAS096\",TABLAS!$A$433)","v":0},null,null,null,null,null,null,null,null,null,null,null,95,96,null,null,null,null,null,null,null,null,null,null,null,"095","096",null,null,null,null,null,null,null,null,null,null,"=+IMPORTARDATOSDINAMICOS(\" BAS095\";TABLAS!$A$433)","=+IMPORTARDATOSDINAMICOS(\" BAS096\";TABLAS!$A$433)"]
[]
[null,null,"Sesiones educativas "]
[]
[null,null,null,"TEMAS"]
[null,null,null,"Orientación para una sexualidad saludable y segura",null,"Lavado de manos, uso de mascarilla y distanciamiento social",null,"Medidas de higiene y salubridad"]
[null,null,"Lugar donde se desarrolla ","Nº","Participantes","Nº","Participantes","Nº","Participantes"]
[null,null,"Hoteles (1)",{"$f":"+GETPIVOTDATA(\" BAS097\",TABLAS!$A$433)","v":0},{"$f":"+GETPIVOTDATA(\" BAS098\",TABLAS!$A$433)","v":0},{"$f":"+GETPIVOTDATA(\" BAS099\",TABLAS!$A$433)","v":0},{"$f":"+GETPIVOTDATA(\" BAS100\",TABLAS!$A$433)","v":0},{"$f":"+GETPIVOTDATA(\" BAS101\",TABLAS!$A$433)","v":0},{"$f":"+GETPIVOTDATA(\" BAS102\",TABLAS!$A$433)","v":0},null,null,null,null,null,null,null,null,null,{"$f":"+T355+1","v":97},{"$f":"+S362+1","v":98},{"$f":"+T362+1","v":99},100,101,102,null,null,null,null,null,null,null,{"$f":"IF(LEN(S362)=1,CONCATENATE(\"00\",S362),IF(LEN(S362)=2,CONCATENATE(\"0\",S362),S362))","v":"097"},"098","099",100,101,102,null,null,null,null,null,null,{"$f":"$AR$291&AF362&$AS$290","v":"=+IMPORTARDATOSDINAMICOS(\" BAS097\";TABLAS!$A$433)"},"=+IMPORTARDATOSDINAMICOS(\" BAS098\";TABLAS!$A$433)","=+IMPORTARDATOSDINAMICOS(\" BAS099\";TABLAS!$A$433)","=+IMPORTARDATOSDINAMICOS(\" BAS100\";TABLAS!$A$433)","=+IMPORTARDATOSDINAMICOS(\" BAS101\";TABLAS!$A$433)","=+IMPORTARDATOSDINAMICOS(\" BAS102\";TABLAS!$A$433)"]
[null,null,"Discotecas (2)",{"$f":"+GETPIVOTDATA(\" BAS103\",TABLAS!$A$433)","v":0},{"$f":"+GETPIVOTDATA(\" BAS104\",TABLAS!$A$433)","v":0},{"$f":"+GETPIVOTDATA(\" BAS105\",TABLAS!$A$433)","v":0},{"$f":"+GETPIVOTDATA(\" BAS106\",TABLAS!$A$433)","v":0},{"$f":"+GETPIVOTDATA(\" BAS107\",TABLAS!$A$433)","v":0},{"$f":"+GETPIVOTDATA(\" BAS108\",TABLAS!$A$433)","v":0},null,null,null,null,null,null,null,null,null,{"$f":"+X362+1","v":103},{"$f":"+S363+1","v":104},105,106,107,108,null,null,null,null,null,null,null,103,104,105,106,107,108,null,null,null,null,null,null,"=+IMPORTARDATOSDINAMICOS(\" BAS103\";TABLAS!$A$433)","=+IMPORTARDATOSDINAMICOS(\" BAS104\";TABLAS!$A$433)","=+IMPORTARDATOSDINAMICOS(\" BAS105\";TABLAS!$A$433)","=+IMPORTARDATOSDINAMICOS(\" BAS106\";TABLAS!$A$433)","=+IMPORTARDATOSDINAMICOS(\" BAS107\";TABLAS!$A$433)","=+IMPORTARDATOSDINAMICOS(\" BAS108\";TABLAS!$A$433)"]
[null,null,"Establecimiento penitenciario\n(3)",{"$f":"+GETPIVOTDATA(\" BAS109\",TABLAS!$A$433)","v":0},{"$f":"+GETPIVOTDATA(\" BAS110\",TABLAS!$A$433)","v":0},{"$f":"+GETPIVOTDATA(\" BAS111\",TABLAS!$A$433)","v":0},{"$f":"+GETPIVOTDATA(\" BAS112\",TABLAS!$A$433)","v":0},{"$f":"+GETPIVOTDATA(\" BAS113\",TABLAS!$A$433)","v":0},{"$f":"+GETPIVOTDATA(\" BAS114\",TABLAS!$A$433)","v":0},null,null,null,null,null,null,null,null,null,{"$f":"+X363+1","v":109},110,111,112,113,114,null,null,null,null,null,null,null,109,110,111,112,113,114,null,null,null,null,null,null,"=+IMPORTARDATOSDINAMICOS(\" BAS109\";TABLAS!$A$433)","=+IMPORTARDATOSDINAMICOS(\" BAS110\";TABLAS!$A$433)","=+IMPORTARDATOSDINAMICOS(\" BAS111\";TABLAS!$A$433)","=+IMPORTARDATOSDINAMICOS(\" BAS112\";TABLAS!$A$433)","=+IMPORTARDATOSDINAMICOS(\" BAS113\";TABLAS!$A$433)","=+IMPORTARDATOSDINAMICOS(\" BAS114\";TABLAS!$A$433)"]
[null,null,"Zonas de Comercio sexual (4)",{"$f":"+GETPIVOTDATA(\" BAS115\",TABLAS!$A$433)","v":0},{"$f":"+GETPIVOTDATA(\" BAS116\",TABLAS!$A$433)","v":0},{"$f":"+GETPIVOTDATA(\" BAS117\",TABLAS!$A$433)","v":0},{"$f":"+GETPIVOTDATA(\" BAS118\",TABLAS!$A$433)","v":0},{"$f":"+GETPIVOTDATA(\" BAS119\",TABLAS!$A$433)","v":0},{"$f":"+GETPIVOTDATA(\" BAS120\",TABLAS!$A$433)","v":0},null,null,null,null,null,null,null,null,null,115,116,117,118,119,120,null,null,null,null,null,null,null,115,116,117,118,119,120,null,null,null,null,null,null,"=+IMPORTARDATOSDINAMICOS(\" BAS115\";TABLAS!$A$433)","=+IMPORTARDATOSDINAMICOS(\" BAS116\";TABLAS!$A$433)","=+IMPORTARDATOSDINAMICOS(\" BAS117\";TABLAS!$A$433)","=+IMPORTARDATOSDINAMICOS(\" BAS118\";TABLAS!$A$433)","=+IMPORTARDATOSDINAMICOS(\" BAS119\";TABLAS!$A$433)","=+IMPORTARDATOSDINAMICOS(\" BAS120\";TABLAS!$A$433)"]
[null,null,"Salón de masajes (5)",{"$f":"+GETPIVOTDATA(\" BAS121\",TABLAS!$A$433)","v":0},{"$f":"+GETPIVOTDATA(\" BAS122\",TABLAS!$A$433)","v":0},{"$f":"+GETPIVOTDATA(\" BAS123\",TABLAS!$A$433)","v":0},{"$f":"+GETPIVOTDATA(\" BAS124\",TABLAS!$A$433)","v":0},{"$f":"+GETPIVOTDATA(\" BAS125\",TABLAS!$A$433)","v":0},{"$f":"+GETPIVOTDATA(\" BAS126\",TABLAS!$A$433)","v":0},null,null,null,null,null,null,null,null,null,121,122,123,124,125,126,null,null,null,null,null,null,null,121,122,123,124,125,126,null,null,null,null,null,null,"=+IMPORTARDATOSDINAMICOS(\" BAS121\";TABLAS!$A$433)","=+IMPORTARDATOSDINAMICOS(\" BAS122\";TABLAS!$A$433)","=+IMPORTARDATOSDINAMICOS(\" BAS123\";TABLAS!$A$433)","=+IMPORTARDATOSDINAMICOS(\" BAS124\";TABLAS!$A$433)","=+IMPORTARDATOSDINAMICOS(\" BAS125\";TABLAS!$A$433)","=+IMPORTARDATOSDINAMICOS(\" BAS126\";TABLAS!$A$433)"]
[null,null,"Saunas (6)",{"$f":"+GETPIVOTDATA(\" BAS127\",TABLAS!$A$433)","v":0},{"$f":"+GETPIVOTDATA(\" BAS128\",TABLAS!$A$433)","v":0},{"$f":"+GETPIVOTDATA(\" BAS129\",TABLAS!$A$433)","v":0},{"$f":"+GETPIVOTDATA(\" BAS130\",TABLAS!$A$433)","v":0},{"$f":"+GETPIVOTDATA(\" BAS131\",TABLAS!$A$433)","v":0},{"$f":"+GETPIVOTDATA(\" BAS132\",TABLAS!$A$433)","v":0},null,null,null,null,null,null,null,null,null,127,128,129,130,131,132,null,null,null,null,null,null,null,127,128,129,130,131,132,null,null,null,null,null,null,"=+IMPORTARDATOSDINAMICOS(\" BAS127\";TABLAS!$A$433)","=+IMPORTARDATOSDINAMICOS(\" BAS128\";TABLAS!$A$433)","=+IMPORTARDATOSDINAMICOS(\" BAS129\";TABLAS!$A$433)","=+IMPORTARDATOSDINAMICOS(\" BAS130\";TABLAS!$A$433)","=+IMPORTARDATOSDINAMICOS(\" BAS131\";TABLAS!$A$433)","=+IMPORTARDATOSDINAMICOS(\" BAS132\";TABLAS!$A$433)"]
[null,null,"Centro de tatuajes (7)",{"$f":"+GETPIVOTDATA(\" BAS133\",TABLAS!$A$433)","v":0},{"$f":"+GETPIVOTDATA(\" BAS134\",TABLAS!$A$433)","v":0},{"$f":"+GETPIVOTDATA(\" BAS135\",TABLAS!$A$433)","v":0},{"$f":"+GETPIVOTDATA(\" BAS136\",TABLAS!$A$433)","v":0},{"$f":"+GETPIVOTDATA(\" BAS137\",TABLAS!$A$433)","v":0},{"$f":"+GETPIVOTDATA(\" BAS138\",TABLAS!$A$433)","v":0},null,null,null,null,null,null,null,null,null,133,134,135,136,137,138,null,null,null,null,null,null,null,133,134,135,136,137,138,null,null,null,null,null,null,"=+IMPORTARDATOSDINAMICOS(\" BAS133\";TABLAS!$A$433)","=+IMPORTARDATOSDINAMICOS(\" BAS134\";TABLAS!$A$433)","=+IMPORTARDATOSDINAMICOS(\" BAS135\";TABLAS!$A$433)","=+IMPORTARDATOSDINAMICOS(\" BAS136\";TABLAS!$A$433)","=+IMPORTARDATOSDINAMICOS(\" BAS137\";TABLAS!$A$433)","=+IMPORTARDATOSDINAMICOS(\" BAS138\";TABLAS!$A$433)"]
[null,null,"Espacios públicos (8)",{"$f":"+GETPIVOTDATA(\" BAS139\",TABLAS!$A$433)","v":0},{"$f":"+GETPIVOTDATA(\" BAS140\",TABLAS!$A$433)","v":0},{"$f":"+GETPIVOTDATA(\" BAS141\",TABLAS!$A$433)","v":0},{"$f":"+GETPIVOTDATA(\" BAS142\",TABLAS!$A$433)","v":0},{"$f":"+GETPIVOTDATA(\" BAS143\",TABLAS!$A$433)","v":0},{"$f":"+GETPIVOTDATA(\" BAS144\",TABLAS!$A$433)","v":0},null,null,null,null,null,null,null,null,null,139,{"$f":"+S369+1","v":140},141,142,143,144,null,null,null,null,null,null,null,139,140,141,142,143,144,null,null,null,null,null,null,"=+IMPORTARDATOSDINAMICOS(\" BAS139\";TABLAS!$A$433)","=+IMPORTARDATOSDINAMICOS(\" BAS140\";TABLAS!$A$433)","=+IMPORTARDATOSDINAMICOS(\" BAS141\";TABLAS!$A$433)","=+IMPORTARDATOSDINAMICOS(\" BAS142\";TABLAS!$A$433)","=+IMPORTARDATOSDINAMICOS(\" BAS143\";TABLAS!$A$433)","=+IMPORTARDATOSDINAMICOS(\" BAS144\";TABLAS!$A$433)"]
[]
[null,null,"Intervenciones en establecimientos de salud relacionados a seguridad vial y cultura de tránsito"]
[null,null,null,1]
[null,null,null,"N°"]
[null,null,"Consejeria familiar",{"$f":"+GETPIVOTDATA(\" BAS145\",TABLAS!$A$433)","v":0},null,null,null,null,null,null,null,null,null,null,null,null,null,null,{"$f":"+X369+1","v":145},null,null,null,null,null,null,null,null,null,null,null,null,{"$f":"IF(LEN(S374)=1,CONCATENATE(\"00\",S374),IF(LEN(S374)=2,CONCATENATE(\"0\",S374),S374))","v":145},null,null,null,null,null,null,null,null,null,null,null,{"$f":"$AR$291&AF374&$AS$290","v":"=+IMPORTARDATOSDINAMICOS(\" BAS145\";TABLAS!$A$433)"}]